Workbook
Name ind.vendas: 'Evolução Fin'!$A$35:$A$37
Name ind.vendas: 'Evolução Fat'!$A$35:$A$38
Name Mês: 'Evolução Fin'!$B$34:$N$34
Name Mês: 'Evolução Fat'!$B$34:$N$34

Sheet Início
A3: Relatórios
H10: Sistema de Gestão de Desempenho

Sheet Evolução Fin
B34: 12.09 | C34: 01.10 | D34: 02.10 | E34: 03.10 | F34: 04.10 | G34: 05.10 | H34: 06.10 | I34: 07.10 | J34: 08.10 | K34: 09.10 | L34: 10.10 | M34: 11.10 | N34: 12.10 | O34: Total | P34: Média
A35: Nr de clientes que é preciso activar no Serasa | B35: =[1]Financeiro!$B4 -> 0 | C35: =[2]Financeiro!$B4 -> 56 | D35: =[3]Financeiro!$B4 -> 0 | E35: =[4]Financeiro!$B4 -> 0 | F35: =[5]Financeiro!$B4 -> 0 | G35: =[6]Financeiro!$B4 -> 0 | H35: =[7]Financeiro!$B4 -> 0 | I35: =[8]Financeiro!$B4 -> 0 | J35: =[9]Financeiro!$B4 -> 0 | K35: =[9]Financeiro!$B4 -> 0 | L35: =[10]Financeiro!$B4 -> 0 | M35: =[11]Financeiro!$B4 -> 0 | N35: =[12]Financeiro!$B4 -> 0 | O35: =SUM(B35:N35) -> 56 | P35: =AVERAGEIF(B35:N35,"<>0") -> 56
A36: Nr de cheques errados enviados para o banco | B36: =[1]Financeiro!$B5 -> 0 | C36: =[2]Financeiro!$B5 -> 0 | D36: =[3]Financeiro!$B5 -> 0 | E36: =[4]Financeiro!$B5 -> 0 | F36: =[5]Financeiro!$B5 -> 0 | G36: =[6]Financeiro!$B5 -> 0 | H36: =[7]Financeiro!$B5 -> 0 | I36: =[8]Financeiro!$B5 -> 0 | J36: =[9]Financeiro!$B5 -> 0 | K36: =[9]Financeiro!$B5 -> 0 | L36: =[10]Financeiro!$B5 -> 0 | M36: =[11]Financeiro!$B5 -> 0 | N36: =[12]Financeiro!$B5 -> 0 | O36: =SUM(B36:N36) -> 0 | P36: =AVERAGEIF(B36:N36,"<>0") -> #DIV/0!
A37: Vezes que é ultrapassado tempo para dar aval ao crédito | B37: =[1]Financeiro!$B6 -> 0 | C37: =[2]Financeiro!$B6 -> 0 | D37: =[3]Financeiro!$B6 -> 0 | E37: =[4]Financeiro!$B6 -> 0 | F37: =[5]Financeiro!$B6 -> 0 | G37: =[6]Financeiro!$B6 -> 0 | H37: =[7]Financeiro!$B6 -> 0 | I37: =[8]Financeiro!$B6 -> 0 | J37: =[9]Financeiro!$B6 -> 0 | K37: =[9]Financeiro!$B6 -> 0 | L37: =[10]Financeiro!$B6 -> 0 | M37: =[11]Financeiro!$B6 -> 0 | N37: =[12]Financeiro!$B6 -> 0 | O37: =SUM(B37:N37) -> 0 | P37: =AVERAGEIF(B37:N37,"<>0") -> #DIV/0!
A38: Acertos que não fecham | B38: =[1]Financeiro!$B7 -> 0 | C38: =[2]Financeiro!$B7 -> 0 | D38: =[3]Financeiro!$B7 -> 0 | E38: =[4]Financeiro!$B7 -> 0 | F38: =[5]Financeiro!$B7 -> 0 | G38: =[6]Financeiro!$B7 -> 0 | H38: =[7]Financeiro!$B7 -> 0 | I38: =[8]Financeiro!$B7 -> 0 | J38: =[9]Financeiro!$B7 -> 0 | K38: =[9]Financeiro!$B7 -> 0 | L38: =[10]Financeiro!$B7 -> 0 | M38: =[11]Financeiro!$B7 -> 0 | N38: =[12]Financeiro!$B7 -> 0 | O38: =SUM(B38:N38) -> 0 | P38: =AVERAGEIF(B38:N38,"<>0") -> #DIV/0!
A39: Cobranças que não voltam | B39: =[1]Financeiro!$B8 -> 0 | C39: =[2]Financeiro!$B8 -> 0 | D39: =[3]Financeiro!$B8 -> 0 | E39: =[4]Financeiro!$B8 -> 0 | F39: =[5]Financeiro!$B8 -> 0 | G39: =[6]Financeiro!$B8 -> 0 | H39: =[7]Financeiro!$B8 -> 0 | I39: =[8]Financeiro!$B8 -> 0 | J39: =[9]Financeiro!$B8 -> 0 | K39: =[9]Financeiro!$B8 -> 0 | L39: =[10]Financeiro!$B8 -> 0 | M39: =[11]Financeiro!$B8 -> 0 | N39: =[12]Financeiro!$B8 -> 0 | O39: =SUM(B39:N39) -> 0 | P39: =AVERAGEIF(B39:N39,"<>0") -> #DIV/0!
A40: Nr de clientes desativados no Serasa | B40: =[1]Financeiro!$B9 -> 0 | C40: =[2]Financeiro!$B9 -> 0 | D40: =[3]Financeiro!$B9 -> 0 | E40: =[4]Financeiro!$B9 -> 0 | F40: =[5]Financeiro!$B9 -> 0 | G40: =[6]Financeiro!$B9 -> 0 | H40: =[7]Financeiro!$B9 -> 0 | I40: =[8]Financeiro!$B9 -> 0 | J40: =[9]Financeiro!$B9 -> 0 | K40: =[9]Financeiro!$B9 -> 0 | L40: =[10]Financeiro!$B9 -> 0 | M40: =[11]Financeiro!$B9 -> 0 | N40: =[12]Financeiro!$B9 -> 0 | O40: =SUM(B40:N40) -> 0 | P40: =AVERAGEIF(B40:N40,"<>0") -> #DIV/0!

Sheet Meninas Financeiro
A22: Clarice | B22: Gerencia bem as atividades – cumpre seu prazo de entrega, é sempre preciso no que faz e planeja metas. | C22: Assume as consequencias de seus atos (erros ou acertos), aceitando e reconhecendo suas falhas | D22: É claro na transmissão de informações. | E22: Disponibilidade de ouvir e, possivelmente, aceitar opiniões diversas. | F22: Compreende a forma como o seu trabalho impata o trabalho dos outros. | G22: Encoraja as pessoas a fazerem o seu melhor, incentiva e transmite segurança. | H22: Compreende e se sensibiliza com os sentimentos e necessidades dos outros. | I22: Trata as pessoas com respeito. | J22: É pessoalmente comprometido com a Difrisul. | L22: Vanessa | M22: Gerencia bem as atividades – cumpre seu prazo de entrega, é sempre preciso no que faz e planeja metas. | N22: Assume as consequencias de seus atos erros ou acertos, aceitando e reconhecendo suas falhas. | O22: É claro na transmissão de informações. | P22: Disponibilidade de ouvir e, possivelmente, aceitar opiniões diversas. | Q22: Compreende a forma como o seu trabalho impata o trabalho dos outros. | R22: Encoraja as pessoas a fazerem o seu melhor, incentiva e transmite segurança. | S22: Compreende e se sensibiliza com os sentimentos e necessidades dos outros. | T22: Trata as pessoas com respeito. | U22: É pessoalmente comprometido com a Difrisul.
A23: Jan | B23: =[13]Janeiro!T$7 -> 0 | C23: =[13]Janeiro!U$7 -> 0 | D23: =[13]Janeiro!V$7 -> 0 | E23: =[13]Janeiro!W$7 -> 0 | F23: =[13]Janeiro!X$7 -> 0 | G23: =[13]Janeiro!Y$7 -> 0 | H23: =[13]Janeiro!Z$7 -> 0 | I23: =[13]Janeiro!AA$7 -> 0 | J23: =[13]Janeiro!AB$7 -> 0 | L23: Jan | M23: =[13]Janeiro!T$43 -> 0 | N23: =[13]Janeiro!U$43 -> 0 | O23: =[13]Janeiro!V$43 -> 0 | P23: =[13]Janeiro!W$43 -> 0 | Q23: =[13]Janeiro!X$43 -> 0 | R23: =[13]Janeiro!Y$43 -> 0 | S23: =[13]Janeiro!Z$43 -> 0 | T23: =[13]Janeiro!AA$43 -> 0 | U23: =[13]Janeiro!AB$43 -> 0
A24: Julho | B24: =[13]Julho!T$7 -> 0 | C24: =[13]Julho!U$7 -> 0 | D24: =[13]Julho!V$7 -> 0 | E24: =[13]Julho!W$7 -> 0 | F24: =[13]Julho!X$7 -> 0 | G24: =[13]Julho!Y$7 -> 0 | H24: =[13]Julho!Z$7 -> 0 | I24: =[13]Julho!AA$7 -> 0 | J24: =[13]Julho!AB$7 -> 0 | L24: Julho | M24: =[13]Julho!T$43 -> 0 | N24: =[13]Julho!U$43 -> 0 | O24: =[13]Julho!V$43 -> 0 | P24: =[13]Julho!W$43 -> 0 | Q24: =[13]Julho!X$43 -> 0 | R24: =[13]Julho!Y$43 -> 0 | S24: =[13]Julho!Z$43 -> 0 | T24: =[13]Julho!AA$43 -> 0 | U24: =[13]Julho!AB$43 -> 0
A25: Nov | B25: =[13]Novembro!T$7 -> 0 | C25: =[13]Novembro!U$7 -> 0 | D25: =[13]Novembro!V$7 -> 0 | E25: =[13]Novembro!W$7 -> 0 | F25: =[13]Novembro!X$7 -> 0 | G25: =[13]Novembro!Y$7 -> 0 | H25: =[13]Novembro!Z$7 -> 0 | I25: =[13]Novembro!AA$7 -> 0 | J25: =[13]Novembro!AB$7 -> 0 | L25: Nov | M25: =[13]Novembro!T$43 -> 0 | N25: =[13]Novembro!U$43 -> 0 | O25: =[13]Novembro!V$43 -> 0 | P25: =[13]Novembro!W$43 -> 0 | Q25: =[13]Novembro!X$43 -> 0 | R25: =[13]Novembro!Y$43 -> 0 | S25: =[13]Novembro!Z$43 -> 0 | T25: =[13]Novembro!AA$43 -> 0 | U25: =[13]Novembro!AB$43 -> 0

Sheet Evolução Fat
B34: 12.09 | C34: 01.10 | D34: 02.10 | E34: 03.10 | F34: 04.10 | G34: 05.10 | H34: 06.10 | I34: 07.10 | J34: 08.10 | K34: 09.10 | L34: 10.10 | M34: 11.10 | N34: 12.10 | O34: Total | P34: Média
A35: Nr de pedidos alterados por falta de estoque | B35: =[1]Faturamento!$B4 -> 0 | C35: =[2]Faturamento!$B4 -> 0 | D35: =[3]Faturamento!$B4 -> 0 | E35: =[4]Faturamento!$B4 -> 0 | F35: =[5]Faturamento!$B4 -> 0 | G35: =[6]Faturamento!$B4 -> 0 | H35: =[7]Faturamento!$B4 -> 0 | I35: =[8]Faturamento!$B4 -> 0 | J35: =[9]Faturamento!$B4 -> 0 | K35: =[14]Faturamento!$B4 -> 0 | L35: =[10]Faturamento!$B4 -> 0 | M35: =[11]Faturamento!$B4 -> 0 | N35: =[12]Faturamento!$B4 -> 0 | O35: =SUM(B35:N35) -> 0 | P35: =AVERAGEIF(B35:N35,"<>0") -> #DIV/0!
A36: Nr de aumentos ou cancelamentos não comunicados | B36: =[1]Faturamento!$B5 -> 1 | C36: =[2]Faturamento!$B5 -> 0 | D36: =[3]Faturamento!$B5 -> 0 | E36: =[4]Faturamento!$B5 -> 0 | F36: =[5]Faturamento!$B5 -> 0 | G36: =[6]Faturamento!$B5 -> 0 | H36: =[7]Faturamento!$B5 -> 0 | I36: =[8]Faturamento!$B5 -> 0 | J36: =[9]Faturamento!$B5 -> 0 | K36: =[14]Faturamento!$B5 -> 0 | L36: =[10]Faturamento!$B5 -> 0 | M36: =[11]Faturamento!$B5 -> 0 | N36: =[12]Faturamento!$B5 -> 0 | O36: =SUM(B36:N36) -> 1 | P36: =AVERAGEIF(B36:N36,"<>0") -> 1
A37: Carga que volta por pedido errado de faturamento | B37: =[1]Faturamento!$B6 -> 0 | C37: =[2]Faturamento!$B6 -> 3 | D37: =[3]Faturamento!$B6 -> 0 | E37: =[4]Faturamento!$B6 -> 0 | F37: =[5]Faturamento!$B6 -> 0 | G37: =[6]Faturamento!$B6 -> 0 | H37: =[7]Faturamento!$B6 -> 0 | I37: =[8]Faturamento!$B6 -> 0 | J37: =[9]Faturamento!$B6 -> 0 | K37: =[14]Faturamento!$B6 -> 0 | L37: =[10]Faturamento!$B6 -> 0 | M37: =[11]Faturamento!$B6 -> 0 | N37: =[12]Faturamento!$B6 -> 0 | O37: =SUM(B37:N37) -> 3 | P37: =AVERAGEIF(B37:N37,"<>0") -> 3
A38: Carregamentos que não podem começar a horas | B38: =[1]Faturamento!$B7 -> 0 | C38: =[2]Faturamento!$B7 -> 0 | D38: =[3]Faturamento!$B7 -> 0 | E38: =[4]Faturamento!$B7 -> 0 | F38: =[5]Faturamento!$B7 -> 0 | G38: =[6]Faturamento!$B7 -> 0 | H38: =[7]Faturamento!$B7 -> 0 | I38: =[8]Faturamento!$B7 -> 0 | J38: =[9]Faturamento!$B7 -> 0 | K38: =[14]Faturamento!$B7 -> 0 | L38: =[10]Faturamento!$B7 -> 0 | M38: =[11]Faturamento!$B7 -> 0 | N38: =[12]Faturamento!$B7 -> 0 | O38: =SUM(B38:N38) -> 0 | P38: =AVERAGEIF(B38:N38,"<>0") -> #DIV/0!
A39: Nr de notas canceladas por falta de estoque | B39: =[1]Faturamento!$B8 -> 4 | C39: =[2]Faturamento!$B8 -> 0 | D39: =[3]Faturamento!$B8 -> 0 | E39: =[4]Faturamento!$B8 -> 0 | F39: =[5]Faturamento!$B8 -> 0 | G39: =[6]Faturamento!$B8 -> 0 | H39: =[7]Faturamento!$B8 -> 0 | I39: =[8]Faturamento!$B8 -> 0 | J39: =[9]Faturamento!$B8 -> 0 | K39: =[14]Faturamento!$B8 -> 0 | L39: =[10]Faturamento!$B8 -> 0 | M39: =[11]Faturamento!$B8 -> 0 | N39: =[12]Faturamento!$B8 -> 0 | O39: =SUM(B39:N39) -> 4 | P39: =AVERAGEIF(B39:N39,"<>0") -> 4
A40: Nr de notas canceladas por erros de emissão | B40: =[1]Faturamento!$B9 -> 67 | C40: =[2]Faturamento!$B9 -> 0 | D40: =[3]Faturamento!$B9 -> 0 | E40: =[4]Faturamento!$B9 -> 0 | F40: =[5]Faturamento!$B9 -> 0 | G40: =[6]Faturamento!$B9 -> 0 | H40: =[7]Faturamento!$B9 -> 0 | I40: =[8]Faturamento!$B9 -> 0 | J40: =[9]Faturamento!$B9 -> 0 | K40: =[14]Faturamento!$B9 -> 0 | L40: =[10]Faturamento!$B9 -> 0 | M40: =[11]Faturamento!$B9 -> 0 | N40: =[12]Faturamento!$B9 -> 0 | O40: =SUM(B40:N40) -> 67 | P40: =AVERAGEIF(B40:N40,"<>0") -> 67
A41: Diferença entre estoque no armazém e sistema | B41: =[1]Faturamento!$B10 -> 0 | C41: =[2]Faturamento!$B10 -> 0 | D41: =[3]Faturamento!$B10 -> 0 | E41: =[4]Faturamento!$B10 -> 0 | F41: =[5]Faturamento!$B10 -> 0 | G41: =[6]Faturamento!$B10 -> 0 | H41: =[7]Faturamento!$B10 -> 0 | I41: =[8]Faturamento!$B10 -> 0 | J41: =[9]Faturamento!$B10 -> 0 | K41: =[14]Faturamento!$B10 -> 0 | L41: =[10]Faturamento!$B10 -> 0 | M41: =[11]Faturamento!$B10 -> 0 | N41: =[12]Faturamento!$B10 -> 0 | O41: =SUM(B41:N41) -> 0 | P41: =AVERAGEIF(B41:N41,"<>0") -> #DIV/0!

Sheet Distribuição Fat
B37: Nr de pedidos alterados por falta de estoque | C37: Nr de Notas canceladas por falta de estoque | D37: Nr de aumentos ou cancelamentos n comunicados | E37: Carregamentos que não podem começar a horas | F37: Carga que volta por pedido errado de faturamento | G37: Nr de notas canceladas por erros de emissão
A38: Graci | B38: =Graci!B51 -> 0 | C38: =Graci!C51 -> 1 | D38: =Graci!D51 -> 0 | E38: =Graci!E51 -> 0 | F38: =Graci!F51 -> 1 | G38: =Graci!G51 -> 35
A39: Fernanda | B39: =Fernanda!B51 -> 0 | C39: =Fernanda!C51 -> 3 | D39: =Fernanda!D51 -> 1 | E39: =Fernanda!E51 -> 0 | F39: =Fernanda!F51 -> 2 | G39: =Fernanda!G51 -> 30
A40: Adri
A41: Total | B41: =SUM(B38:B40) -> 0 | C41: =SUM(C38:C40) -> 4 | D41: =SUM(D38:D40) -> 1 | E41: =SUM(E38:E40) -> 0 | F41: =SUM(F38:F40) -> 3 | G41: =SUM(G38:G40) -> 65

Sheet Graci
A1: Graci
B37: Nr de pedidos alterados por falta de estoque | C37: Nr de Notas canceladas por falta de estoque | D37: Nr de aumentos ou cancelamentos n comunicados | E37: Carregamentos que não podem começar a horas | F37: Carga que volta por pedido errado de faturamento | G37: Nr de notas canceladas por erros de emissão | J37: Gerencia bem as atividades – cumpre seu prazo de entrega, é sempre preciso no que faz e planeja metas. | K37: Assume as consequencias de seus atos (erros ou acertos), aceitando e reconhecendo suas falhas. | L37: É claro na transmissão de informações. | M37: Disponibilidade de ouvir e, possivelmente, aceitar opiniões diversas. | N37: Compreende a forma como o seu trabalho impata o trabalho dos outros. | O37: Encoraja as pessoas a fazerem o seu melhor, incentiva e transmite segurança. | P37: Compreende e se sensibiliza com os sentimentos e necessidades dos outros. | Q37: Trata as pessoas com respeito. | R37: É pessoalmente comprometido com a Difrisul.
A38: 12.09 | B38: =[1]Faturamento!B$13 -> 0 | C38: =[1]Faturamento!C$13 -> 1 | D38: =[1]Faturamento!D$13 -> 0 | E38: =[1]Faturamento!E$13 -> 0 | F38: =[1]Faturamento!F$13 -> 0 | G38: =[1]Faturamento!G$13 -> 35 | I38: Jan | J38: =[13]Janeiro!T$20 -> 0 | K38: =[13]Janeiro!U$20 -> 0 | L38: =[13]Janeiro!V$20 -> 0 | M38: =[13]Janeiro!W$20 -> 0 | N38: =[13]Janeiro!X$20 -> 0 | O38: =[13]Janeiro!Y$20 -> 0 | P38: =[13]Janeiro!Z$20 -> 0 | Q38: =[13]Janeiro!AA$20 -> 0 | R38: =[13]Janeiro!AB$20 -> 0
A39: 01.10 | B39: =[2]Faturamento!B$13 -> 0 | C39: =[2]Faturamento!C$13 -> 0 | D39: =[2]Faturamento!D$13 -> 0 | E39: =[2]Faturamento!E$13 -> 0 | F39: =[2]Faturamento!F$13 -> 1 | G39: =[2]Faturamento!G$13 -> 0 | I39: Julho | J39: =[13]Julho!T$20 -> 0 | K39: =[13]Julho!U$20 -> 0 | L39: =[13]Julho!V$20 -> 0 | M39: =[13]Julho!W$20 -> 0 | N39: =[13]Julho!X$20 -> 0 | O39: =[13]Julho!Y$20 -> 0 | P39: =[13]Julho!Z$20 -> 0 | Q39: =[13]Julho!AA$20 -> 0 | R39: =[13]Julho!AB$20 -> 0
A40: 02.10 | B40: =[3]Faturamento!B$13 -> 0 | C40: =[3]Faturamento!C$13 -> 0 | D40: =[3]Faturamento!D$13 -> 0 | E40: =[3]Faturamento!E$13 -> 0 | F40: =[3]Faturamento!F$13 -> 0 | G40: =[3]Faturamento!G$13 -> 0 | I40: Nov | J40: =[13]Novembro!T$20 -> 0 | K40: =[13]Novembro!U$20 -> 0 | L40: =[13]Novembro!V$20 -> 0 | M40: =[13]Novembro!W$20 -> 0 | N40: =[13]Novembro!X$20 -> 0 | O40: =[13]Novembro!Y$20 -> 0 | P40: =[13]Novembro!Z$20 -> 0 | Q40: =[13]Novembro!AA$20 -> 0 | R40: =[13]Novembro!AB$20 -> 0
A41: 03.10 | B41: =[4]Faturamento!B$13 -> 0 | C41: =[4]Faturamento!C$13 -> 0 | D41: =[4]Faturamento!D$13 -> 0 | E41: =[4]Faturamento!E$13 -> 0 | F41: =[4]Faturamento!F$13 -> 0 | G41: =[4]Faturamento!G$13 -> 0
A42: 04.10 | B42: =[5]Faturamento!B$13 -> 0 | C42: =[5]Faturamento!C$13 -> 0 | D42: =[5]Faturamento!D$13 -> 0 | E42: =[5]Faturamento!E$13 -> 0 | F42: =[5]Faturamento!F$13 -> 0 | G42: =[5]Faturamento!G$13 -> 0
A43: 05.10 | B43: =[6]Faturamento!B$13 -> 0 | C43: =[6]Faturamento!C$13 -> 0 | D43: =[6]Faturamento!D$13 -> 0 | E43: =[6]Faturamento!E$13 -> 0 | F43: =[6]Faturamento!F$13 -> 0 | G43: =[6]Faturamento!G$13 -> 0
A44: 06.10 | B44: =[7]Faturamento!B$13 -> 0 | C44: =[7]Faturamento!C$13 -> 0 | D44: =[7]Faturamento!D$13 -> 0 | E44: =[7]Faturamento!E$13 -> 0 | F44: =[7]Faturamento!F$13 -> 0 | G44: =[7]Faturamento!G$13 -> 0
A45: 07.10 | B45: =[8]Faturamento!B$13 -> 0 | C45: =[8]Faturamento!C$13 -> 0 | D45: =[8]Faturamento!D$13 -> 0 | E45: =[8]Faturamento!E$13 -> 0 | F45: =[8]Faturamento!F$13 -> 0 | G45: =[8]Faturamento!G$13 -> 0
A46: 08.10 | B46: =[9]Faturamento!B$13 -> 0 | C46: =[9]Faturamento!C$13 -> 0 | D46: =[9]Faturamento!D$13 -> 0 | E46: =[9]Faturamento!E$13 -> 0 | F46: =[9]Faturamento!F$13 -> 0 | G46: =[9]Faturamento!G$13 -> 0
A47: 09.10 | B47: =[14]Faturamento!B$13 -> 0 | C47: =[14]Faturamento!C$13 -> 0 | D47: =[14]Faturamento!D$13 -> 0 | E47: =[14]Faturamento!E$13 -> 0 | F47: =[14]Faturamento!F$13 -> 0 | G47: =[14]Faturamento!G$13 -> 0
A48: 10.10 | B48: =[10]Faturamento!B$13 -> 0 | C48: =[10]Faturamento!C$13 -> 0 | D48: =[10]Faturamento!D$13 -> 0 | E48: =[10]Faturamento!E$13 -> 0 | F48: =[10]Faturamento!F$13 -> 0 | G48: =[10]Faturamento!G$13 -> 0
A49: 11.10 | B49: =[11]Faturamento!B$13 -> 0 | C49: =[11]Faturamento!C$13 -> 0 | D49: =[11]Faturamento!D$13 -> 0 | E49: =[11]Faturamento!E$13 -> 0 | F49: =[11]Faturamento!F$13 -> 0 | G49: =[11]Faturamento!G$13 -> 0
A50: 12.10 | B50: =[12]Faturamento!B$13 -> 0 | C50: =[12]Faturamento!C$13 -> 0 | D50: =[12]Faturamento!D$13 -> 0 | E50: =[12]Faturamento!E$13 -> 0 | F50: =[12]Faturamento!F$13 -> 0 | G50: =[12]Faturamento!G$13 -> 0
A51: Total | B51: =SUM(B38:B50) -> 0 | C51: =SUM(C38:C50) -> 1 | D51: =SUM(D38:D50) -> 0 | E51: =SUM(E38:E50) -> 0 | F51: =SUM(F38:F50) -> 1 | G51: =SUM(G38:G50) -> 35

Sheet Fernanda
A1: Fernanda
B37: Nr de pedidos alterados por falta de estoque | C37: Nr de Notas canceladas por falta de estoque | D37: Nr de aumentos ou cancelamentos n comunicados | E37: Carregamentos que não podem começar a horas | F37: Carga que volta por pedido errado de faturamento | G37: Nr de notas canceladas por erros de emissão | K37: Gerencia bem as atividades – cumpre seu prazo de entrega, é sempre preciso no que faz e planeja metas. | L37: Assume as consequencias de seus atos (erros ou acertos), aceitando e reconhecendo suas falhas | M37: É claro na transmissão de informações. | N37: Disponibilidade de ouvir e, possivelmente, aceitar opiniões diversas. | O37: Compreende a forma como o seu trabalho impata o trabalho dos outros. | P37: Encoraja as pessoas a fazerem o seu melhor, incentiva e transmite segurança. | Q37: Compreende e se sensibiliza com os sentimentos e necessidades dos outros. | R37: Trata as pessoas com respeito. | S37: É pessoalmente comprometido com a Difrisul.
A38: 12.09 | B38: =[1]Faturamento!B$14 -> 0 | C38: =[1]Faturamento!C$14 -> 3 | D38: =[1]Faturamento!D$14 -> 1 | E38: =[1]Faturamento!E$14 -> 0 | F38: =[1]Faturamento!F$14 -> 0 | G38: =[1]Faturamento!G$14 -> 30 | J38: Jan | K38: =[13]Janeiro!T$18 -> 0 | L38: =[13]Janeiro!U$18 -> 0 | M38: =[13]Janeiro!V$18 -> 0 | N38: =[13]Janeiro!W$18 -> 0 | O38: =[13]Janeiro!X$18 -> 0 | P38: =[13]Janeiro!Y$18 -> 0 | Q38: =[13]Janeiro!Z$18 -> 0 | R38: =[13]Janeiro!AA$18 -> 0 | S38: =[13]Janeiro!AB$18 -> 0
A39: 01.10 | B39: =[2]Faturamento!B$14 -> 0 | C39: =[2]Faturamento!C$14 -> 0 | D39: =[2]Faturamento!D$14 -> 0 | E39: =[2]Faturamento!E$14 -> 0 | F39: =[2]Faturamento!F$14 -> 2 | G39: =[2]Faturamento!G$14 -> 0 | J39: Julho | K39: =[13]Julho!T$18 -> 0 | L39: =[13]Julho!U$18 -> 0 | M39: =[13]Julho!V$18 -> 0 | N39: =[13]Julho!W$18 -> 0 | O39: =[13]Julho!X$18 -> 0 | P39: =[13]Julho!Y$18 -> 0 | Q39: =[13]Julho!Z$18 -> 0 | R39: =[13]Julho!AA$18 -> 0 | S39: =[13]Julho!AB$18 -> 0
A40: 02.10 | B40: =[3]Faturamento!B$14 -> 0 | C40: =[3]Faturamento!C$14 -> 0 | D40: =[3]Faturamento!D$14 -> 0 | E40: =[3]Faturamento!E$14 -> 0 | F40: =[3]Faturamento!F$14 -> 0 | G40: =[3]Faturamento!G$14 -> 0 | J40: Nov | K40: =[13]Novembro!T$18 -> 0 | L40: =[13]Novembro!U$18 -> 0 | M40: =[13]Novembro!V$18 -> 0 | N40: =[13]Novembro!W$18 -> 0 | O40: =[13]Novembro!X$18 -> 0 | P40: =[13]Novembro!Y$18 -> 0 | Q40: =[13]Novembro!Z$18 -> 0 | R40: =[13]Novembro!AA$18 -> 0 | S40: =[13]Novembro!AB$18 -> 0
A41: 03.10 | B41: =[4]Faturamento!B$14 -> 0 | C41: =[4]Faturamento!C$14 -> 0 | D41: =[4]Faturamento!D$14 -> 0 | E41: =[4]Faturamento!E$14 -> 0 | F41: =[4]Faturamento!F$14 -> 0 | G41: =[4]Faturamento!G$14 -> 0
A42: 04.10 | B42: =[5]Faturamento!B$14 -> 0 | C42: =[5]Faturamento!C$14 -> 0 | D42: =[5]Faturamento!D$14 -> 0 | E42: =[5]Faturamento!E$14 -> 0 | F42: =[5]Faturamento!F$14 -> 0 | G42: =[5]Faturamento!G$14 -> 0
A43: 05.10 | B43: =[6]Faturamento!B$14 -> 0 | C43: =[6]Faturamento!C$14 -> 0 | D43: =[6]Faturamento!D$14 -> 0 | E43: =[6]Faturamento!E$14 -> 0 | F43: =[6]Faturamento!F$14 -> 0 | G43: =[6]Faturamento!G$14 -> 0
A44: 06.10 | B44: =[7]Faturamento!B$14 -> 0 | C44: =[7]Faturamento!C$14 -> 0 | D44: =[7]Faturamento!D$14 -> 0 | E44: =[7]Faturamento!E$14 -> 0 | F44: =[7]Faturamento!F$14 -> 0 | G44: =[7]Faturamento!G$14 -> 0
A45: 07.10 | B45: =[8]Faturamento!B$14 -> 0 | C45: =[8]Faturamento!C$14 -> 0 | D45: =[8]Faturamento!D$14 -> 0 | E45: =[8]Faturamento!E$14 -> 0 | F45: =[8]Faturamento!F$14 -> 0 | G45: =[8]Faturamento!G$14 -> 0
A46: 08.10 | B46: =[9]Faturamento!B$14 -> 0 | C46: =[9]Faturamento!C$14 -> 0 | D46: =[9]Faturamento!D$14 -> 0 | E46: =[9]Faturamento!E$14 -> 0 | F46: =[9]Faturamento!F$14 -> 0 | G46: =[9]Faturamento!G$14 -> 0
A47: 09.10 | B47: =[14]Faturamento!B$14 -> 0 | C47: =[14]Faturamento!C$14 -> 0 | D47: =[14]Faturamento!D$14 -> 0 | E47: =[14]Faturamento!E$14 -> 0 | F47: =[14]Faturamento!F$14 -> 0 | G47: =[14]Faturamento!G$14 -> 0
A48: 10.10 | B48: =[10]Faturamento!B$14 -> 0 | C48: =[10]Faturamento!C$14 -> 0 | D48: =[10]Faturamento!D$14 -> 0 | E48: =[10]Faturamento!E$14 -> 0 | F48: =[10]Faturamento!F$14 -> 0 | G48: =[10]Faturamento!G$14 -> 0
A49: 11.10 | B49: =[11]Faturamento!B$14 -> 0 | C49: =[11]Faturamento!C$14 -> 0 | D49: =[11]Faturamento!D$14 -> 0 | E49: =[11]Faturamento!E$14 -> 0 | F49: =[11]Faturamento!F$14 -> 0 | G49: =[11]Faturamento!G$14 -> 0
A50: 12.10 | B50: =[12]Faturamento!B$14 -> 0 | C50: =[12]Faturamento!C$14 -> 0 | D50: =[12]Faturamento!D$14 -> 0 | E50: =[12]Faturamento!E$14 -> 0 | F50: =[12]Faturamento!F$14 -> 0 | G50: =[12]Faturamento!G$14 -> 0
A51: Total | B51: =SUM(B38:B50) -> 0 | C51: =SUM(C38:C50) -> 3 | D51: =SUM(D38:D50) -> 1 | E51: =SUM(E38:E50) -> 0 | F51: =SUM(F38:F50) -> 2 | G51: =SUM(G38:G50) -> 30
