Workbook
Name ind.vendas: Evolução!$A$35:$A$41
Name Mês: Evolução!$B$34:$N$34

Sheet Início
A3: Relatórios
H9: Sistema de Gestão de Desempenho

Sheet Evolução
B34: 12.09 | C34: 01.10 | D34: 02.10 | E34: 03.10 | F34: 04.10 | G34: 05.10 | H34: 06.10 | I34: 07.10 | J34: 08.10 | K34: 09.10 | L34: 10.10 | M34: 11.10 | N34: 12.10 | O34: Total | P34: Média
A35: Valor mensal das vendas | B35: =[1]Vendas!$B4 -> 1721158 | C35: =[2]Vendas!$B4 -> 1611416.1 | D35: =[3]Vendas!$B4 -> 0 | E35: =[4]Vendas!$B4 -> 0 | F35: =[5]Vendas!$B4 -> 0 | G35: =[6]Vendas!$B4 -> 0 | H35: =[7]Vendas!$B4 -> 0 | I35: =[8]Vendas!$B4 -> 0 | J35: =[9]Vendas!$B4 -> 0 | K35: =[10]Vendas!$B4 -> 0 | L35: =[11]Vendas!$B4 -> 0 | M35: =[12]Vendas!$B4 -> 0 | N35: =[13]Vendas!$B4 -> 0 | O35: =SUM(B35:N35) -> 3332574.1 | P35: =AVERAGEIF(B35:N35,"<>0") -> 1666287
A36: Clientes Novos e reativados | B36: =[1]Vendas!$B5 -> 0 | C36: =[2]Vendas!$B5 -> 18 | D36: =[3]Vendas!$B5 -> 0 | E36: =[4]Vendas!$B5 -> 0 | F36: =[5]Vendas!$B5 -> 0 | G36: =[6]Vendas!$B5 -> 0 | H36: =[7]Vendas!$B5 -> 0 | I36: =[8]Vendas!$B5 -> 0 | J36: =[9]Vendas!$B5 -> 0 | K36: =[10]Vendas!$B5 -> 0 | L36: =[11]Vendas!$B5 -> 0 | M36: =[12]Vendas!$B5 -> 0 | N36: =[13]Vendas!$B5 -> 0 | O36: =SUM(B36:N36) -> 18 | P36: =AVERAGEIF(B36:N36,"<>0") -> 18
A37: Nr de clientes ativados no Serasa | B37: =[1]Vendas!$B6 -> 0 | C37: =[2]Vendas!$B6 -> 56 | D37: =[3]Vendas!$B6 -> 0 | E37: =[4]Vendas!$B6 -> 0 | F37: =[5]Vendas!$B6 -> 0 | G37: =[6]Vendas!$B6 -> 0 | H37: =[7]Vendas!$B6 -> 0 | I37: =[8]Vendas!$B6 -> 0 | J37: =[9]Vendas!$B6 -> 0 | K37: =[10]Vendas!$B6 -> 0 | L37: =[11]Vendas!$B6 -> 0 | M37: =[12]Vendas!$B6 -> 0 | N37: =[13]Vendas!$B6 -> 0 | O37: =SUM(B37:N37) -> 56 | P37: =AVERAGEIF(B37:N37,"<>0") -> 56
A38: Vendas por entregas | B38: =[1]Vendas!$B7 -> #DIV/0! | C38: =[2]Vendas!$B7 -> 6942.9018 | D38: =[3]Vendas!$B7 -> #DIV/0! | E38: =[4]Vendas!$B7 -> #DIV/0! | F38: =[5]Vendas!$B7 -> #DIV/0! | G38: =[6]Vendas!$B7 -> #DIV/0! | H38: =[7]Vendas!$B7 -> #DIV/0! | I38: =[8]Vendas!$B7 -> #DIV/0! | J38: =[9]Vendas!$B7 -> #DIV/0! | K38: =[10]Vendas!$B7 -> #DIV/0! | L38: =[11]Vendas!$B7 -> #DIV/0! | M38: =[12]Vendas!$B7 -> #DIV/0! | N38: =[13]Vendas!$B7 -> #DIV/0! | O38: =SUM(B38:N38) -> #DIV/0! | P38: =AVERAGEIF(B38:N38,"<>0") -> #DIV/0!
A39: Nr de entregas | B39: =[1]Vendas!$B8 -> 0 | C39: =[2]Vendas!$B8 -> 5586 | D39: =[3]Vendas!$B8 -> 0 | E39: =[4]Vendas!$B8 -> 0 | F39: =[5]Vendas!$B8 -> 0 | G39: =[6]Vendas!$B8 -> 0 | H39: =[7]Vendas!$B8 -> 0 | I39: =[8]Vendas!$B8 -> 0 | J39: =[9]Vendas!$B8 -> 0 | K39: =[10]Vendas!$B8 -> 0 | L39: =[11]Vendas!$B8 -> 0 | M39: =[12]Vendas!$B8 -> 0 | N39: =[13]Vendas!$B8 -> 0 | O39: =SUM(B39:N39) -> 5586 | P39: =AVERAGEIF(B39:N39,"<>0") -> 5586
A40: Carga que volta por pedido errado de vendedor | B40: =[1]Vendas!$B9 -> 0 | C40: =[2]Vendas!$B9 -> 6 | D40: =[3]Vendas!$B9 -> 0 | E40: =[4]Vendas!$B9 -> 0 | F40: =[5]Vendas!$B9 -> 0 | G40: =[6]Vendas!$B9 -> 0 | H40: =[7]Vendas!$B9 -> 0 | I40: =[8]Vendas!$B9 -> 0 | J40: =[9]Vendas!$B9 -> 0 | K40: =[10]Vendas!$B9 -> 0 | L40: =[11]Vendas!$B9 -> 0 | M40: =[12]Vendas!$B9 -> 0 | N40: =[13]Vendas!$B9 -> 0 | O40: =SUM(B40:N40) -> 6 | P40: =AVERAGEIF(B40:N40,"<>0") -> 6
A41: Nr de pedidos colocados fora do tempo | B41: =[1]Vendas!$B10 -> 0 | C41: =[2]Vendas!$B10 -> 61 | D41: =[3]Vendas!$B10 -> 0 | E41: =[4]Vendas!$B10 -> 0 | F41: =[5]Vendas!$B10 -> 0 | G41: =[6]Vendas!$B10 -> 0 | H41: =[7]Vendas!$B10 -> 0 | I41: =[8]Vendas!$B10 -> 0 | J41: =[9]Vendas!$B10 -> 0 | K41: =[10]Vendas!$B10 -> 0 | L41: =[11]Vendas!$B10 -> 0 | M41: =[12]Vendas!$B10 -> 0 | N41: =[13]Vendas!$B10 -> 0 | O41: =SUM(B41:N41) -> 61 | P41: =AVERAGEIF(B41:N41,"<>0") -> 61
A42: Nr de Cheques errados | B42: =[1]Vendas!$B11 -> 0 | C42: =[2]Vendas!$B11 -> 0 | D42: =[3]Vendas!$B11 -> 0 | E42: =[4]Vendas!$B11 -> 0 | F42: =[5]Vendas!$B11 -> 0 | G42: =[6]Vendas!$B11 -> 0 | H42: =[7]Vendas!$B11 -> 0 | I42: =[8]Vendas!$B11 -> 0 | J42: =[9]Vendas!$B11 -> 0 | K42: =[10]Vendas!$B11 -> 0 | L42: =[11]Vendas!$B11 -> 0 | M42: =[12]Vendas!$B11 -> 0 | N42: =[13]Vendas!$B11 -> 0 | O42: =SUM(B42:N42) -> 0 | P42: =AVERAGEIF(B42:N42,"<>0") -> #DIV/0!

Sheet Distribuição vendedor
B54: Valor mensal das vendas | C54: Clientes Novos e reativados | D54: Nr de clientes ativados no Serasa | E54: Vendas por entregas | F54: Nr de entregas | G54: Carga que volta por pedido errado de vendedor | H54: Nr de pedidos colocados fora do tempo | I54: Nr de Cheques errados
A55: Adelar | B55: =Adelar!B57 -> 141854.68 | C55: =Adelar!C57 -> 4 | D55: =Adelar!D57 -> 5 | E55: =Adelar!E57 -> 802.89908 | F55: =Adelar!F57 -> 534 | G55: =Adelar!G57 -> 1 | H55: =Adelar!H57 -> 0 | I55: =Adelar!I57 -> 0
A56: Assis | B56: =Assis!B57 -> 77215.7 | C56: =Assis!C57 -> 0 | D56: =Assis!D57 -> 3 | E56: =Assis!E57 -> 422.92096 | F56: =Assis!F57 -> 331 | G56: =Assis!G57 -> 1 | H56: =Assis!H57 -> 2 | I56: =Assis!I57 -> 0
A57: Claiton | B57: =Claiton!B57 -> 80718.89 | C57: =Claiton!C57 -> 1 | D57: =Claiton!D57 -> 1 | E57: =Claiton!E57 -> 691.647 | F57: =Claiton!F57 -> 333 | G57: =Claiton!G57 -> 1 | H57: =Claiton!H57 -> 18 | I57: =Claiton!I57 -> 0
A58: Cleiton | B58: =Cleiton!B57 -> 80159.26 | C58: =Cleiton!C57 -> 0 | D58: =Cleiton!D57 -> 2 | E58: =Cleiton!E57 -> 244.38799 | F58: =Cleiton!F57 -> 328 | G58: =Cleiton!G57 -> 1 | H58: =Cleiton!H57 -> 0 | I58: =Cleiton!I57 -> 0
A59: Diego | B59: =Diego!B57 -> 56465.6 | C59: =Diego!C57 -> 0 | D59: =Diego!D57 -> 0 | E59: =Diego!E57 -> 214.6981 | F59: =Diego!F57 -> 263 | G59: =Diego!G57 -> 0 | H59: =Diego!H57 -> 0 | I59: =Diego!I57 -> 0
A60: Evandro | B60: =Evandro!B57 -> 153697.71 | C60: =Evandro!C57 -> 5 | D60: =Evandro!D57 -> 3 | E60: =Evandro!E57 -> 734.35875 | F60: =Evandro!F57 -> 628 | G60: =Evandro!G57 -> 1 | H60: =Evandro!H57 -> 29 | I60: =Evandro!I57 -> 0
A61: Everaldy | B61: =Everaldy!B57 -> 171447.17 | C61: =Everaldy!C57 -> 0 | D61: =Everaldy!D57 -> 10 | E61: =Everaldy!E57 -> 850.07434 | F61: =Everaldy!F57 -> 405 | G61: =Everaldy!G57 -> 0 | H61: =Everaldy!H57 -> 11 | I61: =Everaldy!I57 -> 0
A62: Ivo | B62: =Ivo!B57 -> 143081.13 | C62: =Ivo!C57 -> 0 | D62: =Ivo!D57 -> 0 | E62: =Ivo!E57 -> 423.31695 | F62: =Ivo!F57 -> 338 | G62: =Ivo!G57 -> 0 | H62: =Ivo!H57 -> 0 | I62: =Ivo!I57 -> 0
A63: Jânio | B63: =Jânio!B57 -> 96940.14 | C63: =Jânio!C57 -> 3 | D63: =Jânio!D57 -> 6 | E63: =Jânio!E57 -> 259.89314 | F63: =Jânio!F57 -> 373 | G63: =Jânio!G57 -> 1 | H63: =Jânio!H57 -> 0 | I63: =Jânio!I57 -> 0
A64: Junior | B64: =Junior!B57 -> 100826.37 | C64: =Junior!C57 -> 0 | D64: =Junior!D57 -> 7 | E64: =Junior!E57 -> 408.20393 | F64: =Junior!F57 -> 247 | G64: =Junior!G57 -> 0 | H64: =Junior!H57 -> 0 | I64: =Junior!I57 -> 0
A65: Lúcio | B65: =Lúcio!B57 -> 83996.7 | C65: =Lúcio!C57 -> 2 | D65: =Lúcio!D57 -> 5 | E65: =Lúcio!E57 -> 512.84183 | F65: =Lúcio!F57 -> 315 | G65: =Lúcio!G57 -> 0 | H65: =Lúcio!H57 -> 1 | I65: =Lúcio!I57 -> 0
A66: Nelson | B66: =Nelson!B57 -> 129529.36 | C66: =Nelson!C57 -> 2 | D66: =Nelson!D57 -> 0 | E66: =Nelson!E57 -> 564.40387 | F66: =Nelson!F57 -> 459 | G66: =Nelson!G57 -> 0 | H66: =Nelson!H57 -> 0 | I66: =Nelson!I57 -> 0
A67: Valdir | B67: =Valdir!B57 -> 74319.5 | C67: =Valdir!C57 -> 1 | D67: =Valdir!D57 -> 1 | E67: =Valdir!E57 -> 490.63152 | F67: =Valdir!F57 -> 287 | G67: =Valdir!G57 -> 0 | H67: =Valdir!H57 -> 0 | I67: =Valdir!I57 -> 0
A68: Vanderley | B68: =Vanderley!B57 -> 196155.59 | C68: =Vanderley!C57 -> 0 | D68: =Vanderley!D57 -> 13 | E68: =Vanderley!E57 -> 322.62433 | F68: =Vanderley!F57 -> 608 | G68: =Vanderley!G57 -> 0 | H68: =Vanderley!H57 -> 0 | I68: =Vanderley!I57 -> 0
A69: Talita | B69: =Talita!B57 -> 25008.28 | C69: =Talita!C57 -> 0 | D69: =Talita!D57 -> 0 | E69: =Talita!E57 -> 182.54219 | F69: =Talita!F57 -> 137 | G69: =Talita!G57 -> 0 | H69: =Talita!H57 -> 0 | I69: =Talita!I57 -> 0
A70: Total | B70: =SUM(B55:B69) -> 1611416.1 | C70: =SUM(C55:C69) -> 18 | D70: =SUM(D55:D69) -> 56 | E70: =SUM(E55:E69) -> 7125.444 | F70: =SUM(F55:F69) -> 5586 | G70: =SUM(G55:G69) -> 6 | H70: =SUM(H55:H69) -> 61 | I70: =SUM(I55:I69) -> 0

Sheet Adelar
A7: Adelar
B43: Valor mensal das vendas | C43: Clientes Novos e reativados | D43: Nr de clientes ativados no Serasa | E43: Vendas por entregas | F43: Nr de entregas | G43: Carga que volta por pedido errado de vendedor | H43: Nr de pedidos colocados fora do tempo | I43: Nr de Cheques errados | L43: Gerencia bem as atividades – cumpre seu prazo de entrega, é sempre preciso no que faz e planeja metas. | M43: Assume as consequencias de seus atos (erros ou acertos), aceitando e reconhecendo suas falhas. | N43: É claro na transmissão de informações. | O43: Disponibilidade de ouvir e, possivelmente, aceitar opiniões diversas. | P43: Compreende a forma como o seu trabalho impata o trabalho dos outros. | Q43: Encoraja as pessoas a fazerem o seu melhor, incentiva e transmite segurança. | R43: Compreende e se sensibiliza com os sentimentos e necessidades dos outros. | S43: Trata as pessoas com respeito. | T43: É pessoalmente comprometido com a Difrisul.
A44: 12.09 | B44: =[1]Vendas!B$16 -> 0 | C44: =[1]Vendas!C$16 -> 0 | D44: =[1]Vendas!D$16 -> 0 | E44: =[1]Vendas!E$16 -> #DIV/0! | F44: =[1]Vendas!F$16 -> 0 | G44: =[1]Vendas!G$16 -> 0 | H44: =[1]Vendas!H$16 -> 0 | I44: =[1]Vendas!I$16 -> 0 | K44: Jan | L44: =[14]Janeiro!T$2 -> 0 | M44: =[14]Janeiro!U$2 -> 0 | N44: =[14]Janeiro!V$2 -> 0 | O44: =[14]Janeiro!W$2 -> 0 | P44: =[14]Janeiro!X$2 -> 0 | Q44: =[14]Janeiro!Y$2 -> 0 | R44: =[14]Janeiro!Z$2 -> 0 | S44: =[14]Janeiro!AA$2 -> 0 | T44: =[14]Janeiro!AB$2 -> 0
A45: 01.10 | B45: =[2]Vendas!B$16 -> 141854.68 | C45: =[2]Vendas!C$16 -> 4 | D45: =[2]Vendas!D$16 -> 5 | E45: =[2]Vendas!E$16 -> 802.89908 | F45: =[2]Vendas!F$16 -> 534 | G45: =[2]Vendas!G$16 -> 1 | H45: =[2]Vendas!H$16 -> 0 | I45: =[2]Vendas!I$16 -> 0 | K45: Julho | L45: =[14]Julho!T$2 -> 0 | M45: =[14]Julho!U$2 -> 0 | N45: =[14]Julho!V$2 -> 0 | O45: =[14]Julho!W$2 -> 0 | P45: =[14]Julho!X$2 -> 0 | Q45: =[14]Julho!Y$2 -> 0 | R45: =[14]Julho!Z$2 -> 0 | S45: =[14]Julho!AA$2 -> 0 | T45: =[14]Julho!AB$2 -> 0
A46: 02.10 | B46: =[3]Vendas!B$16 -> 0 | C46: =[3]Vendas!C$16 -> 0 | D46: =[3]Vendas!D$16 -> 0 | E46: =[3]Vendas!E$16 -> #DIV/0! | F46: =[3]Vendas!F$16 -> 0 | G46: =[3]Vendas!G$16 -> 0 | H46: =[3]Vendas!H$16 -> 0 | I46: =[3]Vendas!I$16 -> 0 | K46: Nov | L46: =[14]Novembro!T$2 -> 0 | M46: =[14]Novembro!U$2 -> 0 | N46: =[14]Novembro!V$2 -> 0 | O46: =[14]Novembro!W$2 -> 0 | P46: =[14]Novembro!X$2 -> 0 | Q46: =[14]Novembro!Y$2 -> 0 | R46: =[14]Novembro!Z$2 -> 0 | S46: =[14]Novembro!AA$2 -> 0 | T46: =[14]Novembro!AB$2 -> 0
A47: 03.10 | B47: =[4]Vendas!B$16 -> 0 | C47: =[4]Vendas!C$16 -> 0 | D47: =[4]Vendas!D$16 -> 0 | E47: =[4]Vendas!E$16 -> #DIV/0! | F47: =[4]Vendas!F$16 -> 0 | G47: =[4]Vendas!G$16 -> 0 | H47: =[4]Vendas!H$16 -> 0 | I47: =[4]Vendas!I$16 -> 0
A48: 04.10 | B48: =[5]Vendas!B$16 -> 0 | C48: =[5]Vendas!C$16 -> 0 | D48: =[5]Vendas!D$16 -> 0 | E48: =[5]Vendas!E$16 -> #DIV/0! | F48: =[5]Vendas!F$16 -> 0 | G48: =[5]Vendas!G$16 -> 0 | H48: =[5]Vendas!H$16 -> 0 | I48: =[5]Vendas!I$16 -> 0
A49: 05.10 | B49: =[6]Vendas!B$16 -> 0 | C49: =[6]Vendas!C$16 -> 0 | D49: =[6]Vendas!D$16 -> 0 | E49: =[6]Vendas!E$16 -> #DIV/0! | F49: =[6]Vendas!F$16 -> 0 | G49: =[6]Vendas!G$16 -> 0 | H49: =[6]Vendas!H$16 -> 0 | I49: =[6]Vendas!I$16 -> 0
A50: 06.10 | B50: =[7]Vendas!B$16 -> 0 | C50: =[7]Vendas!C$16 -> 0 | D50: =[7]Vendas!D$16 -> 0 | E50: =[7]Vendas!E$16 -> #DIV/0! | F50: =[7]Vendas!F$16 -> 0 | G50: =[7]Vendas!G$16 -> 0 | H50: =[7]Vendas!H$16 -> 0 | I50: =[7]Vendas!I$16 -> 0
A51: 07.10 | B51: =[8]Vendas!B$16 -> 0 | C51: =[8]Vendas!C$16 -> 0 | D51: =[8]Vendas!D$16 -> 0 | E51: =[8]Vendas!E$16 -> #DIV/0! | F51: =[8]Vendas!F$16 -> 0 | G51: =[8]Vendas!G$16 -> 0 | H51: =[8]Vendas!H$16 -> 0 | I51: =[8]Vendas!I$16 -> 0
A52: 08.10 | B52: =[9]Vendas!B$16 -> 0 | C52: =[9]Vendas!C$16 -> 0 | D52: =[9]Vendas!D$16 -> 0 | E52: =[9]Vendas!E$16 -> #DIV/0! | F52: =[9]Vendas!F$16 -> 0 | G52: =[9]Vendas!G$16 -> 0 | H52: =[9]Vendas!H$16 -> 0 | I52: =[9]Vendas!I$16 -> 0
A53: 09.10 | B53: =[10]Vendas!B$16 -> 0 | C53: =[10]Vendas!C$16 -> 0 | D53: =[10]Vendas!D$16 -> 0 | E53: =[10]Vendas!E$16 -> #DIV/0! | F53: =[10]Vendas!F$16 -> 0 | G53: =[10]Vendas!G$16 -> 0 | H53: =[10]Vendas!H$16 -> 0 | I53: =[10]Vendas!I$16 -> 0
A54: 10.10 | B54: =[11]Vendas!B$16 -> 0 | C54: =[11]Vendas!C$16 -> 0 | D54: =[11]Vendas!D$16 -> 0 | E54: =[11]Vendas!E$16 -> #DIV/0! | F54: =[11]Vendas!F$16 -> 0 | G54: =[11]Vendas!G$16 -> 0 | H54: =[11]Vendas!H$16 -> 0 | I54: =[11]Vendas!I$16 -> 0
A55: 11.10 | B55: =[12]Vendas!B$16 -> 0 | C55: =[12]Vendas!C$16 -> 0 | D55: =[12]Vendas!D$16 -> 0 | E55: =[12]Vendas!E$16 -> #DIV/0! | F55: =[12]Vendas!F$16 -> 0 | G55: =[12]Vendas!G$16 -> 0 | H55: =[12]Vendas!H$16 -> 0 | I55: =[12]Vendas!I$16 -> 0
A56: 12.10 | B56: =[13]Vendas!B$16 -> 0 | C56: =[13]Vendas!C$16 -> 0 | D56: =[13]Vendas!D$16 -> 0 | E56: =[13]Vendas!E$16 -> #DIV/0! | F56: =[13]Vendas!F$16 -> 0 | G56: =[13]Vendas!G$16 -> 0 | H56: =[13]Vendas!H$16 -> 0 | I56: =[13]Vendas!I$16 -> 0
A57: Total | B57: =SUM(B44:B56) -> 141854.68 | C57: =SUM(C44:C56) -> 4 | D57: =SUM(D44:D56) -> 5 | E57: =SUMIF(E44:E56,">=0") -> 802.89908 | F57: =SUM(F44:F56) -> 534 | G57: =SUM(G44:G56) -> 1 | H57: =SUM(H44:H56) -> 0 | I57: =SUM(I44:I56) -> 0

Sheet Assis
A7: Assis
B43: Valor mensal das vendas | C43: Clientes Novos e reativados | D43: Nr de clientes ativados no Serasa | E43: Vendas por entregas | F43: Nr de entregas | G43: Carga que volta por pedido errado de vendedor | H43: Nr de pedidos colocados fora do tempo | I43: Nr de Cheques errados | L43: Gerencia bem as atividades – cumpre seu prazo de entrega, é sempre preciso no que faz e planeja metas. | M43: Assume as consequencias de seus atos (erros ou acertos), aceitando e reconhecendo suas falhas. | N43: É claro na transmissão de informações. | O43: Disponibilidade de ouvir e, possivelmente, aceitar opiniões diversas. | P43: Compreende a forma como o seu trabalho impata o trabalho dos outros. | Q43: Encoraja as pessoas a fazerem o seu melhor, incentiva e transmite segurança. | R43: Compreende e se sensibiliza com os sentimentos e necessidades dos outros. | S43: Trata as pessoas com respeito. | T43: É pessoalmente comprometido com a Difrisul.
A44: 12.09 | B44: =[1]Vendas!B$17 -> 0 | C44: =[1]Vendas!C$17 -> 0 | D44: =[1]Vendas!D$17 -> 0 | E44: =[1]Vendas!E$17 -> #DIV/0! | F44: =[1]Vendas!F$17 -> 0 | G44: =[1]Vendas!G$17 -> 0 | H44: =[1]Vendas!H$17 -> 0 | I44: =[1]Vendas!I$17 -> 0 | K44: Jan | L44: =[14]Janeiro!T$5 -> 0 | M44: =[14]Janeiro!U$5 -> 0 | N44: =[14]Janeiro!V$5 -> 0 | O44: =[14]Janeiro!W$5 -> 0 | P44: =[14]Janeiro!X$5 -> 0 | Q44: =[14]Janeiro!Y$5 -> 0 | R44: =[14]Janeiro!Z$5 -> 0 | S44: =[14]Janeiro!AA$5 -> 0 | T44: =[14]Janeiro!AB$5 -> 0
A45: 01.10 | B45: =[2]Vendas!B$17 -> 77215.7 | C45: =[2]Vendas!C$17 -> 0 | D45: =[2]Vendas!D$17 -> 3 | E45: =[2]Vendas!E$17 -> 422.92096 | F45: =[2]Vendas!F$17 -> 331 | G45: =[2]Vendas!G$17 -> 1 | H45: =[2]Vendas!H$17 -> 2 | I45: =[2]Vendas!I$17 -> 0 | K45: Julho | L45: =[14]Julho!T$5 -> 0 | M45: =[14]Julho!U$5 -> 0 | N45: =[14]Julho!V$5 -> 0 | O45: =[14]Julho!W$5 -> 0 | P45: =[14]Julho!X$5 -> 0 | Q45: =[14]Julho!Y$5 -> 0 | R45: =[14]Julho!Z$5 -> 0 | S45: =[14]Julho!AA$5 -> 0 | T45: =[14]Julho!AB$5 -> 0
A46: 02.10 | B46: =[3]Vendas!B$17 -> 0 | C46: =[3]Vendas!C$17 -> 0 | D46: =[3]Vendas!D$17 -> 0 | E46: =[3]Vendas!E$17 -> #DIV/0! | F46: =[3]Vendas!F$17 -> 0 | G46: =[3]Vendas!G$17 -> 0 | H46: =[3]Vendas!H$17 -> 0 | I46: =[3]Vendas!I$17 -> 0 | K46: Nov | L46: =[14]Novembro!T$5 -> 0 | M46: =[14]Novembro!U$5 -> 0 | N46: =[14]Novembro!V$5 -> 0 | O46: =[14]Novembro!W$5 -> 0 | P46: =[14]Novembro!X$5 -> 0 | Q46: =[14]Novembro!Y$5 -> 0 | R46: =[14]Novembro!Z$5 -> 0 | S46: =[14]Novembro!AA$5 -> 0 | T46: =[14]Novembro!AB$5 -> 0
A47: 03.10 | B47: =[4]Vendas!B$17 -> 0 | C47: =[4]Vendas!C$17 -> 0 | D47: =[4]Vendas!D$17 -> 0 | E47: =[4]Vendas!E$17 -> #DIV/0! | F47: =[4]Vendas!F$17 -> 0 | G47: =[4]Vendas!G$17 -> 0 | H47: =[4]Vendas!H$17 -> 0 | I47: =[4]Vendas!I$17 -> 0
A48: 04.10 | B48: =[5]Vendas!B$17 -> 0 | C48: =[5]Vendas!C$17 -> 0 | D48: =[5]Vendas!D$17 -> 0 | E48: =[5]Vendas!E$17 -> #DIV/0! | F48: =[5]Vendas!F$17 -> 0 | G48: =[5]Vendas!G$17 -> 0 | H48: =[5]Vendas!H$17 -> 0 | I48: =[5]Vendas!I$17 -> 0
A49: 05.10 | B49: =[6]Vendas!B$17 -> 0 | C49: =[6]Vendas!C$17 -> 0 | D49: =[6]Vendas!D$17 -> 0 | E49: =[6]Vendas!E$17 -> #DIV/0! | F49: =[6]Vendas!F$17 -> 0 | G49: =[6]Vendas!G$17 -> 0 | H49: =[6]Vendas!H$17 -> 0 | I49: =[6]Vendas!I$17 -> 0
A50: 06.10 | B50: =[7]Vendas!B$17 -> 0 | C50: =[7]Vendas!C$17 -> 0 | D50: =[7]Vendas!D$17 -> 0 | E50: =[7]Vendas!E$17 -> #DIV/0! | F50: =[7]Vendas!F$17 -> 0 | G50: =[7]Vendas!G$17 -> 0 | H50: =[7]Vendas!H$17 -> 0 | I50: =[7]Vendas!I$17 -> 0
A51: 07.10 | B51: =[8]Vendas!B$17 -> 0 | C51: =[8]Vendas!C$17 -> 0 | D51: =[8]Vendas!D$17 -> 0 | E51: =[8]Vendas!E$17 -> #DIV/0! | F51: =[8]Vendas!F$17 -> 0 | G51: =[8]Vendas!G$17 -> 0 | H51: =[8]Vendas!H$17 -> 0 | I51: =[8]Vendas!I$17 -> 0
A52: 08.10 | B52: =[9]Vendas!B$17 -> 0 | C52: =[9]Vendas!C$17 -> 0 | D52: =[9]Vendas!D$17 -> 0 | E52: =[9]Vendas!E$17 -> #DIV/0! | F52: =[9]Vendas!F$17 -> 0 | G52: =[9]Vendas!G$17 -> 0 | H52: =[9]Vendas!H$17 -> 0 | I52: =[9]Vendas!I$17 -> 0
A53: 09.10 | B53: =[10]Vendas!B$17 -> 0 | C53: =[10]Vendas!C$17 -> 0 | D53: =[10]Vendas!D$17 -> 0 | E53: =[10]Vendas!E$17 -> #DIV/0! | F53: =[10]Vendas!F$17 -> 0 | G53: =[10]Vendas!G$17 -> 0 | H53: =[10]Vendas!H$17 -> 0 | I53: =[10]Vendas!I$17 -> 0
A54: 10.10 | B54: =[11]Vendas!B$17 -> 0 | C54: =[11]Vendas!C$17 -> 0 | D54: =[11]Vendas!D$17 -> 0 | E54: =[11]Vendas!E$17 -> #DIV/0! | F54: =[11]Vendas!F$17 -> 0 | G54: =[11]Vendas!G$17 -> 0 | H54: =[11]Vendas!H$17 -> 0 | I54: =[11]Vendas!I$17 -> 0
A55: 11.10 | B55: =[12]Vendas!B$17 -> 0 | C55: =[12]Vendas!C$17 -> 0 | D55: =[12]Vendas!D$17 -> 0 | E55: =[12]Vendas!E$17 -> #DIV/0! | F55: =[12]Vendas!F$17 -> 0 | G55: =[12]Vendas!G$17 -> 0 | H55: =[12]Vendas!H$17 -> 0 | I55: =[12]Vendas!I$17 -> 0
A56: 12.10 | B56: =[13]Vendas!B$17 -> 0 | C56: =[13]Vendas!C$17 -> 0 | D56: =[13]Vendas!D$17 -> 0 | E56: =[13]Vendas!E$17 -> #DIV/0! | F56: =[13]Vendas!F$17 -> 0 | G56: =[13]Vendas!G$17 -> 0 | H56: =[13]Vendas!H$17 -> 0 | I56: =[13]Vendas!I$17 -> 0
A57: Total | B57: =SUM(B44:B56) -> 77215.7 | C57: =SUM(C44:C56) -> 0 | D57: =SUM(D44:D56) -> 3 | E57: =SUMIF(E44:E56,">=0") -> 422.92096 | F57: =SUM(F44:F56) -> 331 | G57: =SUM(G44:G56) -> 1 | H57: =SUM(H44:H56) -> 2 | I57: =SUM(I44:I56) -> 0

Sheet Claiton
A7: Claiton
B43: Valor mensal das vendas | C43: Clientes Novos e reativados | D43: Nr de clientes ativados no Serasa | E43: Vendas por entregas | F43: Nr de entregas | G43: Carga que volta por pedido errado de vendedor | H43: Nr de pedidos colocados fora do tempo | I43: Nr de Cheques errados | L43: Gerencia bem as atividades – cumpre seu prazo de entrega, é sempre preciso no que faz e planeja metas. | M43: Assume as consequencias de seus atos (erros ou acertos), aceitando e reconhecendo suas falhas. | N43: É claro na transmissão de informações. | O43: Disponibilidade de ouvir e, possivelmente, aceitar opiniões diversas. | P43: Compreende a forma como o seu trabalho impata o trabalho dos outros. | Q43: Encoraja as pessoas a fazerem o seu melhor, incentiva e transmite segurança. | R43: Compreende e se sensibiliza com os sentimentos e necessidades dos outros. | S43: Trata as pessoas com respeito. | T43: É pessoalmente comprometido com a Difrisul.
A44: 12.09 | B44: =[1]Vendas!B$18 -> 0 | C44: =[1]Vendas!C$18 -> 0 | D44: =[1]Vendas!D$18 -> 0 | E44: =[1]Vendas!E$18 -> #DIV/0! | F44: =[1]Vendas!F$18 -> 0 | G44: =[1]Vendas!G$18 -> 0 | H44: =[1]Vendas!H$18 -> 0 | I44: =[1]Vendas!I$18 -> 0 | K44: Jan | L44: =[14]Janeiro!T$6 -> 0 | M44: =[14]Janeiro!U$6 -> 0 | N44: =[14]Janeiro!V$6 -> 0 | O44: =[14]Janeiro!W$6 -> 0 | P44: =[14]Janeiro!X$6 -> 0 | Q44: =[14]Janeiro!Y$6 -> 0 | R44: =[14]Janeiro!Z$6 -> 0 | S44: =[14]Janeiro!AA$6 -> 0 | T44: =[14]Janeiro!AB$6 -> 0
A45: 01.10 | B45: =[2]Vendas!B$18 -> 80718.89 | C45: =[2]Vendas!C$18 -> 1 | D45: =[2]Vendas!D$18 -> 1 | E45: =[2]Vendas!E$18 -> 691.647 | F45: =[2]Vendas!F$18 -> 333 | G45: =[2]Vendas!G$18 -> 1 | H45: =[2]Vendas!H$18 -> 18 | I45: =[2]Vendas!I$18 -> 0 | K45: Julho | L45: =[14]Julho!T$6 -> 0 | M45: =[14]Julho!U$6 -> 0 | N45: =[14]Julho!V$6 -> 0 | O45: =[14]Julho!W$6 -> 0 | P45: =[14]Julho!X$6 -> 0 | Q45: =[14]Julho!Y$6 -> 0 | R45: =[14]Julho!Z$6 -> 0 | S45: =[14]Julho!AA$6 -> 0 | T45: =[14]Julho!AB$6 -> 0
A46: 02.10 | B46: =[3]Vendas!B$18 -> 0 | C46: =[3]Vendas!C$18 -> 0 | D46: =[3]Vendas!D$18 -> 0 | E46: =[3]Vendas!E$18 -> #DIV/0! | F46: =[3]Vendas!F$18 -> 0 | G46: =[3]Vendas!G$18 -> 0 | H46: =[3]Vendas!H$18 -> 0 | I46: =[3]Vendas!I$18 -> 0 | K46: Nov | L46: =[14]Novembro!T$6 -> 0 | M46: =[14]Novembro!U$6 -> 0 | N46: =[14]Novembro!V$6 -> 0 | O46: =[14]Novembro!W$6 -> 0 | P46: =[14]Novembro!X$6 -> 0 | Q46: =[14]Novembro!Y$6 -> 0 | R46: =[14]Novembro!Z$6 -> 0 | S46: =[14]Novembro!AA$6 -> 0 | T46: =[14]Novembro!AB$6 -> 0
A47: 03.10 | B47: =[4]Vendas!B$18 -> 0 | C47: =[4]Vendas!C$18 -> 0 | D47: =[4]Vendas!D$18 -> 0 | E47: =[4]Vendas!E$18 -> #DIV/0! | F47: =[4]Vendas!F$18 -> 0 | G47: =[4]Vendas!G$18 -> 0 | H47: =[4]Vendas!H$18 -> 0 | I47: =[4]Vendas!I$18 -> 0
A48: 04.10 | B48: =[5]Vendas!B$18 -> 0 | C48: =[5]Vendas!C$18 -> 0 | D48: =[5]Vendas!D$18 -> 0 | E48: =[5]Vendas!E$18 -> #DIV/0! | F48: =[5]Vendas!F$18 -> 0 | G48: =[5]Vendas!G$18 -> 0 | H48: =[5]Vendas!H$18 -> 0 | I48: =[5]Vendas!I$18 -> 0
A49: 05.10 | B49: =[6]Vendas!B$18 -> 0 | C49: =[6]Vendas!C$18 -> 0 | D49: =[6]Vendas!D$18 -> 0 | E49: =[6]Vendas!E$18 -> #DIV/0! | F49: =[6]Vendas!F$18 -> 0 | G49: =[6]Vendas!G$18 -> 0 | H49: =[6]Vendas!H$18 -> 0 | I49: =[6]Vendas!I$18 -> 0
A50: 06.10 | B50: =[7]Vendas!B$18 -> 0 | C50: =[7]Vendas!C$18 -> 0 | D50: =[7]Vendas!D$18 -> 0 | E50: =[7]Vendas!E$18 -> #DIV/0! | F50: =[7]Vendas!F$18 -> 0 | G50: =[7]Vendas!G$18 -> 0 | H50: =[7]Vendas!H$18 -> 0 | I50: =[7]Vendas!I$18 -> 0
A51: 07.10 | B51: =[8]Vendas!B$18 -> 0 | C51: =[8]Vendas!C$18 -> 0 | D51: =[8]Vendas!D$18 -> 0 | E51: =[8]Vendas!E$18 -> #DIV/0! | F51: =[8]Vendas!F$18 -> 0 | G51: =[8]Vendas!G$18 -> 0 | H51: =[8]Vendas!H$18 -> 0 | I51: =[8]Vendas!I$18 -> 0
A52: 08.10 | B52: =[9]Vendas!B$18 -> 0 | C52: =[9]Vendas!C$18 -> 0 | D52: =[9]Vendas!D$18 -> 0 | E52: =[9]Vendas!E$18 -> #DIV/0! | F52: =[9]Vendas!F$18 -> 0 | G52: =[9]Vendas!G$18 -> 0 | H52: =[9]Vendas!H$18 -> 0 | I52: =[9]Vendas!I$18 -> 0
A53: 09.10 | B53: =[10]Vendas!B$18 -> 0 | C53: =[10]Vendas!C$18 -> 0 | D53: =[10]Vendas!D$18 -> 0 | E53: =[10]Vendas!E$18 -> #DIV/0! | F53: =[10]Vendas!F$18 -> 0 | G53: =[10]Vendas!G$18 -> 0 | H53: =[10]Vendas!H$18 -> 0 | I53: =[10]Vendas!I$18 -> 0
A54: 10.10 | B54: =[11]Vendas!B$18 -> 0 | C54: =[11]Vendas!C$18 -> 0 | D54: =[11]Vendas!D$18 -> 0 | E54: =[11]Vendas!E$18 -> #DIV/0! | F54: =[11]Vendas!F$18 -> 0 | G54: =[11]Vendas!G$18 -> 0 | H54: =[11]Vendas!H$18 -> 0 | I54: =[11]Vendas!I$18 -> 0
A55: 11.10 | B55: =[12]Vendas!B$18 -> 0 | C55: =[12]Vendas!C$18 -> 0 | D55: =[12]Vendas!D$18 -> 0 | E55: =[12]Vendas!E$18 -> #DIV/0! | F55: =[12]Vendas!F$18 -> 0 | G55: =[12]Vendas!G$18 -> 0 | H55: =[12]Vendas!H$18 -> 0 | I55: =[12]Vendas!I$18 -> 0
A56: 12.10 | B56: =[13]Vendas!B$18 -> 0 | C56: =[13]Vendas!C$18 -> 0 | D56: =[13]Vendas!D$18 -> 0 | E56: =[13]Vendas!E$18 -> #DIV/0! | F56: =[13]Vendas!F$18 -> 0 | G56: =[13]Vendas!G$18 -> 0 | H56: =[13]Vendas!H$18 -> 0 | I56: =[13]Vendas!I$18 -> 0
A57: Total | B57: =SUM(B44:B56) -> 80718.89 | C57: =SUM(C44:C56) -> 1 | D57: =SUM(D44:D56) -> 1 | E57: =SUMIF(E44:E56,">=0") -> 691.647 | F57: =SUM(F44:F56) -> 333 | G57: =SUM(G44:G56) -> 1 | H57: =SUM(H44:H56) -> 18 | I57: =SUM(I44:I56) -> 0

Sheet Cleiton
A7: Cleiton
B43: Valor mensal das vendas | C43: Clientes Novos e reativados | D43: Nr de clientes ativados no Serasa | E43: Vendas por entregas | F43: Nr de entregas | G43: Carga que volta por pedido errado de vendedor | H43: Nr de pedidos colocados fora do tempo | I43: Nr de Cheques errados | L43: Gerencia bem as atividades – cumpre seu prazo de entrega, é sempre preciso no que faz e planeja metas. | M43: Assume as consequencias de seus atos (erros ou acertos), aceitando e reconhecendo suas falhas. | N43: É claro na transmissão de informações. | O43: Disponibilidade de ouvir e, possivelmente, aceitar opiniões diversas. | P43: Compreende a forma como o seu trabalho impata o trabalho dos outros. | Q43: Encoraja as pessoas a fazerem o seu melhor, incentiva e transmite segurança. | R43: Compreende e se sensibiliza com os sentimentos e necessidades dos outros. | S43: Trata as pessoas com respeito. | T43: É pessoalmente comprometido com a Difrisul.
A44: 12.09 | B44: =[1]Vendas!B$19 -> 0 | C44: =[1]Vendas!C$19 -> 0 | D44: =[1]Vendas!D$19 -> 0 | E44: =[1]Vendas!E$19 -> #DIV/0! | F44: =[1]Vendas!F$19 -> 0 | G44: =[1]Vendas!G$19 -> 0 | H44: =[1]Vendas!H$19 -> 0 | I44: =[1]Vendas!I$19 -> 0 | K44: Jan | L44: =[14]Janeiro!T$8 -> 0 | M44: =[14]Janeiro!U$8 -> 0 | N44: =[14]Janeiro!V$8 -> 0 | O44: =[14]Janeiro!W$8 -> 0 | P44: =[14]Janeiro!X$8 -> 0 | Q44: =[14]Janeiro!Y$8 -> 0 | R44: =[14]Janeiro!Z$8 -> 0 | S44: =[14]Janeiro!AA$8 -> 0 | T44: =[14]Janeiro!AB$8 -> 0
A45: 01.10 | B45: =[2]Vendas!B$19 -> 80159.26 | C45: =[2]Vendas!C$19 -> 0 | D45: =[2]Vendas!D$19 -> 2 | E45: =[2]Vendas!E$19 -> 244.38799 | F45: =[2]Vendas!F$19 -> 328 | G45: =[2]Vendas!G$19 -> 1 | H45: =[2]Vendas!H$19 -> 0 | I45: =[2]Vendas!I$19 -> 0 | K45: Julho | L45: =[14]Julho!T$8 -> 0 | M45: =[14]Julho!U$8 -> 0 | N45: =[14]Julho!V$8 -> 0 | O45: =[14]Julho!W$8 -> 0 | P45: =[14]Julho!X$8 -> 0 | Q45: =[14]Julho!Y$8 -> 0 | R45: =[14]Julho!Z$8 -> 0 | S45: =[14]Julho!AA$8 -> 0 | T45: =[14]Julho!AB$8 -> 0
A46: 02.10 | B46: =[3]Vendas!B$19 -> 0 | C46: =[3]Vendas!C$19 -> 0 | D46: =[3]Vendas!D$19 -> 0 | E46: =[3]Vendas!E$19 -> #DIV/0! | F46: =[3]Vendas!F$19 -> 0 | G46: =[3]Vendas!G$19 -> 0 | H46: =[3]Vendas!H$19 -> 0 | I46: =[3]Vendas!I$19 -> 0 | K46: Nov | L46: =[14]Novembro!T$8 -> 0 | M46: =[14]Novembro!U$8 -> 0 | N46: =[14]Novembro!V$8 -> 0 | O46: =[14]Novembro!W$8 -> 0 | P46: =[14]Novembro!X$8 -> 0 | Q46: =[14]Novembro!Y$8 -> 0 | R46: =[14]Novembro!Z$8 -> 0 | S46: =[14]Novembro!AA$8 -> 0 | T46: =[14]Novembro!AB$8 -> 0
A47: 03.10 | B47: =[4]Vendas!B$19 -> 0 | C47: =[4]Vendas!C$19 -> 0 | D47: =[4]Vendas!D$19 -> 0 | E47: =[4]Vendas!E$19 -> #DIV/0! | F47: =[4]Vendas!F$19 -> 0 | G47: =[4]Vendas!G$19 -> 0 | H47: =[4]Vendas!H$19 -> 0 | I47: =[4]Vendas!I$19 -> 0
A48: 04.10 | B48: =[5]Vendas!B$19 -> 0 | C48: =[5]Vendas!C$19 -> 0 | D48: =[5]Vendas!D$19 -> 0 | E48: =[5]Vendas!E$19 -> #DIV/0! | F48: =[5]Vendas!F$19 -> 0 | G48: =[5]Vendas!G$19 -> 0 | H48: =[5]Vendas!H$19 -> 0 | I48: =[5]Vendas!I$19 -> 0
A49: 05.10 | B49: =[6]Vendas!B$19 -> 0 | C49: =[6]Vendas!C$19 -> 0 | D49: =[6]Vendas!D$19 -> 0 | E49: =[6]Vendas!E$19 -> #DIV/0! | F49: =[6]Vendas!F$19 -> 0 | G49: =[6]Vendas!G$19 -> 0 | H49: =[6]Vendas!H$19 -> 0 | I49: =[6]Vendas!I$19 -> 0
A50: 06.10 | B50: =[7]Vendas!B$19 -> 0 | C50: =[7]Vendas!C$19 -> 0 | D50: =[7]Vendas!D$19 -> 0 | E50: =[7]Vendas!E$19 -> #DIV/0! | F50: =[7]Vendas!F$19 -> 0 | G50: =[7]Vendas!G$19 -> 0 | H50: =[7]Vendas!H$19 -> 0 | I50: =[7]Vendas!I$19 -> 0
A51: 07.10 | B51: =[8]Vendas!B$19 -> 0 | C51: =[8]Vendas!C$19 -> 0 | D51: =[8]Vendas!D$19 -> 0 | E51: =[8]Vendas!E$19 -> #DIV/0! | F51: =[8]Vendas!F$19 -> 0 | G51: =[8]Vendas!G$19 -> 0 | H51: =[8]Vendas!H$19 -> 0 | I51: =[8]Vendas!I$19 -> 0
A52: 08.10 | B52: =[9]Vendas!B$19 -> 0 | C52: =[9]Vendas!C$19 -> 0 | D52: =[9]Vendas!D$19 -> 0 | E52: =[9]Vendas!E$19 -> #DIV/0! | F52: =[9]Vendas!F$19 -> 0 | G52: =[9]Vendas!G$19 -> 0 | H52: =[9]Vendas!H$19 -> 0 | I52: =[9]Vendas!I$19 -> 0
A53: 09.10 | B53: =[10]Vendas!B$19 -> 0 | C53: =[10]Vendas!C$19 -> 0 | D53: =[10]Vendas!D$19 -> 0 | E53: =[10]Vendas!E$19 -> #DIV/0! | F53: =[10]Vendas!F$19 -> 0 | G53: =[10]Vendas!G$19 -> 0 | H53: =[10]Vendas!H$19 -> 0 | I53: =[10]Vendas!I$19 -> 0
A54: 10.10 | B54: =[11]Vendas!B$19 -> 0 | C54: =[11]Vendas!C$19 -> 0 | D54: =[11]Vendas!D$19 -> 0 | E54: =[11]Vendas!E$19 -> #DIV/0! | F54: =[11]Vendas!F$19 -> 0 | G54: =[11]Vendas!G$19 -> 0 | H54: =[11]Vendas!H$19 -> 0 | I54: =[11]Vendas!I$19 -> 0
A55: 11.10 | B55: =[12]Vendas!B$19 -> 0 | C55: =[12]Vendas!C$19 -> 0 | D55: =[12]Vendas!D$19 -> 0 | E55: =[12]Vendas!E$19 -> #DIV/0! | F55: =[12]Vendas!F$19 -> 0 | G55: =[12]Vendas!G$19 -> 0 | H55: =[12]Vendas!H$19 -> 0 | I55: =[12]Vendas!I$19 -> 0
A56: 12.10 | B56: =[13]Vendas!B$19 -> 0 | C56: =[13]Vendas!C$19 -> 0 | D56: =[13]Vendas!D$19 -> 0 | E56: =[13]Vendas!E$19 -> #DIV/0! | F56: =[13]Vendas!F$19 -> 0 | G56: =[13]Vendas!G$19 -> 0 | H56: =[13]Vendas!H$19 -> 0 | I56: =[13]Vendas!I$19 -> 0
A57: Total | B57: =SUM(B44:B56) -> 80159.26 | C57: =SUM(C44:C56) -> 0 | D57: =SUM(D44:D56) -> 2 | E57: =SUMIF(E44:E56,">=0") -> 244.38799 | F57: =SUM(F44:F56) -> 328 | G57: =SUM(G44:G56) -> 1 | H57: =SUM(H44:H56) -> 0 | I57: =SUM(I44:I56) -> 0

Sheet Diego
A7: Diego
B43: Valor mensal das vendas | C43: Clientes Novos e reativados | D43: Nr de clientes ativados no Serasa | E43: Vendas por entregas | F43: Nr de entregas | G43: Carga que volta por pedido errado de vendedor | H43: Nr de pedidos colocados fora do tempo | I43: Nr de Cheques errados | L43: Gerencia bem as atividades – cumpre seu prazo de entrega, é sempre preciso no que faz e planeja metas. | M43: Assume as consequencias de seus atos (erros ou acertos), aceitando e reconhecendo suas falhas. | N43: É claro na transmissão de informações. | O43: Disponibilidade de ouvir e, possivelmente, aceitar opiniões diversas. | P43: Compreende a forma como o seu trabalho impata o trabalho dos outros. | Q43: Encoraja as pessoas a fazerem o seu melhor, incentiva e transmite segurança. | R43: Compreende e se sensibiliza com os sentimentos e necessidades dos outros. | S43: Trata as pessoas com respeito. | T43: É pessoalmente comprometido com a Difrisul.
A44: 12.09 | B44: =[1]Vendas!B$20 -> 0 | C44: =[1]Vendas!C$20 -> 0 | D44: =[1]Vendas!D$20 -> 0 | E44: =[1]Vendas!E$20 -> #DIV/0! | F44: =[1]Vendas!F$20 -> 0 | G44: =[1]Vendas!G$20 -> 0 | H44: =[1]Vendas!H$20 -> 0 | I44: =[1]Vendas!I$20 -> 0 | K44: Jan | L44: =[14]Janeiro!T$12 -> 0 | M44: =[14]Janeiro!U$12 -> 0 | N44: =[14]Janeiro!V$12 -> 0 | O44: =[14]Janeiro!W$12 -> 0 | P44: =[14]Janeiro!X$12 -> 0 | Q44: =[14]Janeiro!Y$12 -> 0 | R44: =[14]Janeiro!Z$12 -> 0 | S44: =[14]Janeiro!AA$12 -> 0 | T44: =[14]Janeiro!AB$12 -> 0
A45: 01.10 | B45: =[2]Vendas!B$20 -> 56465.6 | C45: =[2]Vendas!C$20 -> 0 | D45: =[2]Vendas!D$20 -> 0 | E45: =[2]Vendas!E$20 -> 214.6981 | F45: =[2]Vendas!F$20 -> 263 | G45: =[2]Vendas!G$20 -> 0 | H45: =[2]Vendas!H$20 -> 0 | I45: =[2]Vendas!I$20 -> 0 | K45: Julho | L45: =[14]Julho!T$12 -> 0 | M45: =[14]Julho!U$12 -> 0 | N45: =[14]Julho!V$12 -> 0 | O45: =[14]Julho!W$12 -> 0 | P45: =[14]Julho!X$12 -> 0 | Q45: =[14]Julho!Y$12 -> 0 | R45: =[14]Julho!Z$12 -> 0 | S45: =[14]Julho!AA$12 -> 0 | T45: =[14]Julho!AB$12 -> 0
A46: 02.10 | B46: =[3]Vendas!B$20 -> 0 | C46: =[3]Vendas!C$20 -> 0 | D46: =[3]Vendas!D$20 -> 0 | E46: =[3]Vendas!E$20 -> #DIV/0! | F46: =[3]Vendas!F$20 -> 0 | G46: =[3]Vendas!G$20 -> 0 | H46: =[3]Vendas!H$20 -> 0 | I46: =[3]Vendas!I$20 -> 0 | K46: Nov | L46: =[14]Novembro!T$12 -> 0 | M46: =[14]Novembro!U$12 -> 0 | N46: =[14]Novembro!V$12 -> 0 | O46: =[14]Novembro!W$12 -> 0 | P46: =[14]Novembro!X$12 -> 0 | Q46: =[14]Novembro!Y$12 -> 0 | R46: =[14]Novembro!Z$12 -> 0 | S46: =[14]Novembro!AA$12 -> 0 | T46: =[14]Novembro!AB$12 -> 0
A47: 03.10 | B47: =[4]Vendas!B$20 -> 0 | C47: =[4]Vendas!C$20 -> 0 | D47: =[4]Vendas!D$20 -> 0 | E47: =[4]Vendas!E$20 -> #DIV/0! | F47: =[4]Vendas!F$20 -> 0 | G47: =[4]Vendas!G$20 -> 0 | H47: =[4]Vendas!H$20 -> 0 | I47: =[4]Vendas!I$20 -> 0
A48: 04.10 | B48: =[5]Vendas!B$20 -> 0 | C48: =[5]Vendas!C$20 -> 0 | D48: =[5]Vendas!D$20 -> 0 | E48: =[5]Vendas!E$20 -> #DIV/0! | F48: =[5]Vendas!F$20 -> 0 | G48: =[5]Vendas!G$20 -> 0 | H48: =[5]Vendas!H$20 -> 0 | I48: =[5]Vendas!I$20 -> 0
A49: 05.10 | B49: =[6]Vendas!B$20 -> 0 | C49: =[6]Vendas!C$20 -> 0 | D49: =[6]Vendas!D$20 -> 0 | E49: =[6]Vendas!E$20 -> #DIV/0! | F49: =[6]Vendas!F$20 -> 0 | G49: =[6]Vendas!G$20 -> 0 | H49: =[6]Vendas!H$20 -> 0 | I49: =[6]Vendas!I$20 -> 0
A50: 06.10 | B50: =[7]Vendas!B$20 -> 0 | C50: =[7]Vendas!C$20 -> 0 | D50: =[7]Vendas!D$20 -> 0 | E50: =[7]Vendas!E$20 -> #DIV/0! | F50: =[7]Vendas!F$20 -> 0 | G50: =[7]Vendas!G$20 -> 0 | H50: =[7]Vendas!H$20 -> 0 | I50: =[7]Vendas!I$20 -> 0
A51: 07.10 | B51: =[8]Vendas!B$20 -> 0 | C51: =[8]Vendas!C$20 -> 0 | D51: =[8]Vendas!D$20 -> 0 | E51: =[8]Vendas!E$20 -> #DIV/0! | F51: =[8]Vendas!F$20 -> 0 | G51: =[8]Vendas!G$20 -> 0 | H51: =[8]Vendas!H$20 -> 0 | I51: =[8]Vendas!I$20 -> 0
A52: 08.10 | B52: =[9]Vendas!B$20 -> 0 | C52: =[9]Vendas!C$20 -> 0 | D52: =[9]Vendas!D$20 -> 0 | E52: =[9]Vendas!E$20 -> #DIV/0! | F52: =[9]Vendas!F$20 -> 0 | G52: =[9]Vendas!G$20 -> 0 | H52: =[9]Vendas!H$20 -> 0 | I52: =[9]Vendas!I$20 -> 0
A53: 09.10 | B53: =[10]Vendas!B$20 -> 0 | C53: =[10]Vendas!C$20 -> 0 | D53: =[10]Vendas!D$20 -> 0 | E53: =[10]Vendas!E$20 -> #DIV/0! | F53: =[10]Vendas!F$20 -> 0 | G53: =[10]Vendas!G$20 -> 0 | H53: =[10]Vendas!H$20 -> 0 | I53: =[10]Vendas!I$20 -> 0
A54: 10.10 | B54: =[11]Vendas!B$20 -> 0 | C54: =[11]Vendas!C$20 -> 0 | D54: =[11]Vendas!D$20 -> 0 | E54: =[11]Vendas!E$20 -> #DIV/0! | F54: =[11]Vendas!F$20 -> 0 | G54: =[11]Vendas!G$20 -> 0 | H54: =[11]Vendas!H$20 -> 0 | I54: =[11]Vendas!I$20 -> 0
A55: 11.10 | B55: =[12]Vendas!B$20 -> 0 | C55: =[12]Vendas!C$20 -> 0 | D55: =[12]Vendas!D$20 -> 0 | E55: =[12]Vendas!E$20 -> #DIV/0! | F55: =[12]Vendas!F$20 -> 0 | G55: =[12]Vendas!G$20 -> 0 | H55: =[12]Vendas!H$20 -> 0 | I55: =[12]Vendas!I$20 -> 0
A56: 12.10 | B56: =[13]Vendas!B$20 -> 0 | C56: =[13]Vendas!C$20 -> 0 | D56: =[13]Vendas!D$20 -> 0 | E56: =[13]Vendas!E$20 -> #DIV/0! | F56: =[13]Vendas!F$20 -> 0 | G56: =[13]Vendas!G$20 -> 0 | H56: =[13]Vendas!H$20 -> 0 | I56: =[13]Vendas!I$20 -> 0
A57: Total | B57: =SUM(B44:B56) -> 56465.6 | C57: =SUM(C44:C56) -> 0 | D57: =SUM(D44:D56) -> 0 | E57: =SUMIF(E44:E56,">=0") -> 214.6981 | F57: =SUM(F44:F56) -> 263 | G57: =SUM(G44:G56) -> 0 | H57: =SUM(H44:H56) -> 0 | I57: =SUM(I44:I56) -> 0

Sheet Evandro
A7: Evandro
B43: Valor mensal das vendas | C43: Clientes Novos e reativados | D43: Nr de clientes ativados no Serasa | E43: Vendas por entregas | F43: Nr de entregas | G43: Carga que volta por pedido errado de vendedor | H43: Nr de pedidos colocados fora do tempo | I43: Nr de Cheques errados | L43: Gerencia bem as atividades – cumpre seu prazo de entrega, é sempre preciso no que faz e planeja metas. | M43: Assume as consequencias de seus atos (erros ou acertos), aceitando e reconhecendo suas falhas. | N43: É claro na transmissão de informações. | O43: Disponibilidade de ouvir e, possivelmente, aceitar opiniões diversas. | P43: Compreende a forma como o seu trabalho impata o trabalho dos outros. | Q43: Encoraja as pessoas a fazerem o seu melhor, incentiva e transmite segurança. | R43: Compreende e se sensibiliza com os sentimentos e necessidades dos outros. | S43: Trata as pessoas com respeito. | T43: É pessoalmente comprometido com a Difrisul.
A44: 12.09 | B44: =[1]Vendas!B$21 -> 0 | C44: =[1]Vendas!C$21 -> 0 | D44: =[1]Vendas!D$21 -> 0 | E44: =[1]Vendas!E$21 -> #DIV/0! | F44: =[1]Vendas!F$21 -> 0 | G44: =[1]Vendas!G$21 -> 0 | H44: =[1]Vendas!H$21 -> 0 | I44: =[1]Vendas!I$21 -> 0 | K44: Jan | L44: =[14]Janeiro!T$15 -> 0 | M44: =[14]Janeiro!U$15 -> 0 | N44: =[14]Janeiro!V$15 -> 0 | O44: =[14]Janeiro!W$15 -> 0 | P44: =[14]Janeiro!X$15 -> 0 | Q44: =[14]Janeiro!Y$15 -> 0 | R44: =[14]Janeiro!Z$15 -> 0 | S44: =[14]Janeiro!AA$15 -> 0 | T44: =[14]Janeiro!AB$15 -> 0
A45: 01.10 | B45: =[2]Vendas!B$21 -> 153697.71 | C45: =[2]Vendas!C$21 -> 5 | D45: =[2]Vendas!D$21 -> 3 | E45: =[2]Vendas!E$21 -> 734.35875 | F45: =[2]Vendas!F$21 -> 628 | G45: =[2]Vendas!G$21 -> 1 | H45: =[2]Vendas!H$21 -> 29 | I45: =[2]Vendas!I$21 -> 0 | K45: Julho | L45: =[14]Julho!T$15 -> 0 | M45: =[14]Julho!U$15 -> 0 | N45: =[14]Julho!V$15 -> 0 | O45: =[14]Julho!W$15 -> 0 | P45: =[14]Julho!X$15 -> 0 | Q45: =[14]Julho!Y$15 -> 0 | R45: =[14]Julho!Z$15 -> 0 | S45: =[14]Julho!AA$15 -> 0 | T45: =[14]Julho!AB$15 -> 0
A46: 02.10 | B46: =[3]Vendas!B$21 -> 0 | C46: =[3]Vendas!C$21 -> 0 | D46: =[3]Vendas!D$21 -> 0 | E46: =[3]Vendas!E$21 -> #DIV/0! | F46: =[3]Vendas!F$21 -> 0 | G46: =[3]Vendas!G$21 -> 0 | H46: =[3]Vendas!H$21 -> 0 | I46: =[3]Vendas!I$21 -> 0 | K46: Nov | L46: =[14]Novembro!T$15 -> 0 | M46: =[14]Novembro!U$15 -> 0 | N46: =[14]Novembro!V$15 -> 0 | O46: =[14]Novembro!W$15 -> 0 | P46: =[14]Novembro!X$15 -> 0 | Q46: =[14]Novembro!Y$15 -> 0 | R46: =[14]Novembro!Z$15 -> 0 | S46: =[14]Novembro!AA$15 -> 0 | T46: =[14]Novembro!AB$15 -> 0
A47: 03.10 | B47: =[4]Vendas!B$21 -> 0 | C47: =[4]Vendas!C$21 -> 0 | D47: =[4]Vendas!D$21 -> 0 | E47: =[4]Vendas!E$21 -> #DIV/0! | F47: =[4]Vendas!F$21 -> 0 | G47: =[4]Vendas!G$21 -> 0 | H47: =[4]Vendas!H$21 -> 0 | I47: =[4]Vendas!I$21 -> 0
A48: 04.10 | B48: =[5]Vendas!B$21 -> 0 | C48: =[5]Vendas!C$21 -> 0 | D48: =[5]Vendas!D$21 -> 0 | E48: =[5]Vendas!E$21 -> #DIV/0! | F48: =[5]Vendas!F$21 -> 0 | G48: =[5]Vendas!G$21 -> 0 | H48: =[5]Vendas!H$21 -> 0 | I48: =[5]Vendas!I$21 -> 0
A49: 05.10 | B49: =[6]Vendas!B$21 -> 0 | C49: =[6]Vendas!C$21 -> 0 | D49: =[6]Vendas!D$21 -> 0 | E49: =[6]Vendas!E$21 -> #DIV/0! | F49: =[6]Vendas!F$21 -> 0 | G49: =[6]Vendas!G$21 -> 0 | H49: =[6]Vendas!H$21 -> 0 | I49: =[6]Vendas!I$21 -> 0
A50: 06.10 | B50: =[7]Vendas!B$21 -> 0 | C50: =[7]Vendas!C$21 -> 0 | D50: =[7]Vendas!D$21 -> 0 | E50: =[7]Vendas!E$21 -> #DIV/0! | F50: =[7]Vendas!F$21 -> 0 | G50: =[7]Vendas!G$21 -> 0 | H50: =[7]Vendas!H$21 -> 0 | I50: =[7]Vendas!I$21 -> 0
A51: 07.10 | B51: =[8]Vendas!B$21 -> 0 | C51: =[8]Vendas!C$21 -> 0 | D51: =[8]Vendas!D$21 -> 0 | E51: =[8]Vendas!E$21 -> #DIV/0! | F51: =[8]Vendas!F$21 -> 0 | G51: =[8]Vendas!G$21 -> 0 | H51: =[8]Vendas!H$21 -> 0 | I51: =[8]Vendas!I$21 -> 0
A52: 08.10 | B52: =[9]Vendas!B$21 -> 0 | C52: =[9]Vendas!C$21 -> 0 | D52: =[9]Vendas!D$21 -> 0 | E52: =[9]Vendas!E$21 -> #DIV/0! | F52: =[9]Vendas!F$21 -> 0 | G52: =[9]Vendas!G$21 -> 0 | H52: =[9]Vendas!H$21 -> 0 | I52: =[9]Vendas!I$21 -> 0
A53: 09.10 | B53: =[10]Vendas!B$21 -> 0 | C53: =[10]Vendas!C$21 -> 0 | D53: =[10]Vendas!D$21 -> 0 | E53: =[10]Vendas!E$21 -> #DIV/0! | F53: =[10]Vendas!F$21 -> 0 | G53: =[10]Vendas!G$21 -> 0 | H53: =[10]Vendas!H$21 -> 0 | I53: =[10]Vendas!I$21 -> 0
A54: 10.10 | B54: =[11]Vendas!B$21 -> 0 | C54: =[11]Vendas!C$21 -> 0 | D54: =[11]Vendas!D$21 -> 0 | E54: =[11]Vendas!E$21 -> #DIV/0! | F54: =[11]Vendas!F$21 -> 0 | G54: =[11]Vendas!G$21 -> 0 | H54: =[11]Vendas!H$21 -> 0 | I54: =[11]Vendas!I$21 -> 0
A55: 11.10 | B55: =[12]Vendas!B$21 -> 0 | C55: =[12]Vendas!C$21 -> 0 | D55: =[12]Vendas!D$21 -> 0 | E55: =[12]Vendas!E$21 -> #DIV/0! | F55: =[12]Vendas!F$21 -> 0 | G55: =[12]Vendas!G$21 -> 0 | H55: =[12]Vendas!H$21 -> 0 | I55: =[12]Vendas!I$21 -> 0
A56: 12.10 | B56: =[13]Vendas!B$21 -> 0 | C56: =[13]Vendas!C$21 -> 0 | D56: =[13]Vendas!D$21 -> 0 | E56: =[13]Vendas!E$21 -> #DIV/0! | F56: =[13]Vendas!F$21 -> 0 | G56: =[13]Vendas!G$21 -> 0 | H56: =[13]Vendas!H$21 -> 0 | I56: =[13]Vendas!I$21 -> 0
A57: Total | B57: =SUM(B44:B56) -> 153697.71 | C57: =SUM(C44:C56) -> 5 | D57: =SUM(D44:D56) -> 3 | E57: =SUMIF(E44:E56,">=0") -> 734.35875 | F57: =SUM(F44:F56) -> 628 | G57: =SUM(G44:G56) -> 1 | H57: =SUM(H44:H56) -> 29 | I57: =SUM(I44:I56) -> 0

Sheet Everaldy
A7: Everaldy
B43: Valor mensal das vendas | C43: Clientes Novos e reativados | D43: Nr de clientes ativados no Serasa | E43: Vendas por entregas | F43: Nr de entregas | G43: Carga que volta por pedido errado de vendedor | H43: Nr de pedidos colocados fora do tempo | I43: Nr de Cheques errados | L43: Gerencia bem as atividades – cumpre seu prazo de entrega, é sempre preciso no que faz e planeja metas. | M43: Assume as consequencias de seus atos (erros ou acertos), aceitando e reconhecendo suas falhas. | N43: É claro na transmissão de informações. | O43: Disponibilidade de ouvir e, possivelmente, aceitar opiniões diversas. | P43: Compreende a forma como o seu trabalho impata o trabalho dos outros. | Q43: Encoraja as pessoas a fazerem o seu melhor, incentiva e transmite segurança. | R43: Compreende e se sensibiliza com os sentimentos e necessidades dos outros. | S43: Trata as pessoas com respeito. | T43: É pessoalmente comprometido com a Difrisul.
A44: 12.09 | B44: =[1]Vendas!B$22 -> 0 | C44: =[1]Vendas!C$22 -> 0 | D44: =[1]Vendas!D$22 -> 0 | E44: =[1]Vendas!E$22 -> #DIV/0! | F44: =[1]Vendas!F$22 -> 0 | G44: =[1]Vendas!G$22 -> 0 | H44: =[1]Vendas!H$22 -> 0 | I44: =[1]Vendas!I$22 -> 0 | K44: Jan | L44: =[14]Janeiro!T$16 -> 0 | M44: =[14]Janeiro!U$16 -> 0 | N44: =[14]Janeiro!V$16 -> 0 | O44: =[14]Janeiro!W$16 -> 0 | P44: =[14]Janeiro!X$16 -> 0 | Q44: =[14]Janeiro!Y$16 -> 0 | R44: =[14]Janeiro!Z$16 -> 0 | S44: =[14]Janeiro!AA$16 -> 0 | T44: =[14]Janeiro!AB$16 -> 0
A45: 01.10 | B45: =[2]Vendas!B$22 -> 171447.17 | C45: =[2]Vendas!C$22 -> 0 | D45: =[2]Vendas!D$22 -> 10 | E45: =[2]Vendas!E$22 -> 850.07434 | F45: =[2]Vendas!F$22 -> 405 | G45: =[2]Vendas!G$22 -> 0 | H45: =[2]Vendas!H$22 -> 11 | I45: =[2]Vendas!I$22 -> 0 | K45: Julho | L45: =[14]Julho!T$16 -> 0 | M45: =[14]Julho!U$16 -> 0 | N45: =[14]Julho!V$16 -> 0 | O45: =[14]Julho!W$16 -> 0 | P45: =[14]Julho!X$16 -> 0 | Q45: =[14]Julho!Y$16 -> 0 | R45: =[14]Julho!Z$16 -> 0 | S45: =[14]Julho!AA$16 -> 0 | T45: =[14]Julho!AB$16 -> 0
A46: 02.10 | B46: =[3]Vendas!B$22 -> 0 | C46: =[3]Vendas!C$22 -> 0 | D46: =[3]Vendas!D$22 -> 0 | E46: =[3]Vendas!E$22 -> #DIV/0! | F46: =[3]Vendas!F$22 -> 0 | G46: =[3]Vendas!G$22 -> 0 | H46: =[3]Vendas!H$22 -> 0 | I46: =[3]Vendas!I$22 -> 0 | K46: Nov | L46: =[14]Novembro!T$16 -> 0 | M46: =[14]Novembro!U$16 -> 0 | N46: =[14]Novembro!V$16 -> 0 | O46: =[14]Novembro!W$16 -> 0 | P46: =[14]Novembro!X$16 -> 0 | Q46: =[14]Novembro!Y$16 -> 0 | R46: =[14]Novembro!Z$16 -> 0 | S46: =[14]Novembro!AA$16 -> 0 | T46: =[14]Novembro!AB$16 -> 0
A47: 03.10 | B47: =[4]Vendas!B$22 -> 0 | C47: =[4]Vendas!C$22 -> 0 | D47: =[4]Vendas!D$22 -> 0 | E47: =[4]Vendas!E$22 -> #DIV/0! | F47: =[4]Vendas!F$22 -> 0 | G47: =[4]Vendas!G$22 -> 0 | H47: =[4]Vendas!H$22 -> 0 | I47: =[4]Vendas!I$22 -> 0
A48: 04.10 | B48: =[5]Vendas!B$22 -> 0 | C48: =[5]Vendas!C$22 -> 0 | D48: =[5]Vendas!D$22 -> 0 | E48: =[5]Vendas!E$22 -> #DIV/0! | F48: =[5]Vendas!F$22 -> 0 | G48: =[5]Vendas!G$22 -> 0 | H48: =[5]Vendas!H$22 -> 0 | I48: =[5]Vendas!I$22 -> 0
A49: 05.10 | B49: =[6]Vendas!B$22 -> 0 | C49: =[6]Vendas!C$22 -> 0 | D49: =[6]Vendas!D$22 -> 0 | E49: =[6]Vendas!E$22 -> #DIV/0! | F49: =[6]Vendas!F$22 -> 0 | G49: =[6]Vendas!G$22 -> 0 | H49: =[6]Vendas!H$22 -> 0 | I49: =[6]Vendas!I$22 -> 0
A50: 06.10 | B50: =[7]Vendas!B$22 -> 0 | C50: =[7]Vendas!C$22 -> 0 | D50: =[7]Vendas!D$22 -> 0 | E50: =[7]Vendas!E$22 -> #DIV/0! | F50: =[7]Vendas!F$22 -> 0 | G50: =[7]Vendas!G$22 -> 0 | H50: =[7]Vendas!H$22 -> 0 | I50: =[7]Vendas!I$22 -> 0
A51: 07.10 | B51: =[8]Vendas!B$22 -> 0 | C51: =[8]Vendas!C$22 -> 0 | D51: =[8]Vendas!D$22 -> 0 | E51: =[8]Vendas!E$22 -> #DIV/0! | F51: =[8]Vendas!F$22 -> 0 | G51: =[8]Vendas!G$22 -> 0 | H51: =[8]Vendas!H$22 -> 0 | I51: =[8]Vendas!I$22 -> 0
A52: 08.10 | B52: =[9]Vendas!B$22 -> 0 | C52: =[9]Vendas!C$22 -> 0 | D52: =[9]Vendas!D$22 -> 0 | E52: =[9]Vendas!E$22 -> #DIV/0! | F52: =[9]Vendas!F$22 -> 0 | G52: =[9]Vendas!G$22 -> 0 | H52: =[9]Vendas!H$22 -> 0 | I52: =[9]Vendas!I$22 -> 0
A53: 09.10 | B53: =[10]Vendas!B$22 -> 0 | C53: =[10]Vendas!C$22 -> 0 | D53: =[10]Vendas!D$22 -> 0 | E53: =[10]Vendas!E$22 -> #DIV/0! | F53: =[10]Vendas!F$22 -> 0 | G53: =[10]Vendas!G$22 -> 0 | H53: =[10]Vendas!H$22 -> 0 | I53: =[10]Vendas!I$22 -> 0
A54: 10.10 | B54: =[11]Vendas!B$22 -> 0 | C54: =[11]Vendas!C$22 -> 0 | D54: =[11]Vendas!D$22 -> 0 | E54: =[11]Vendas!E$22 -> #DIV/0! | F54: =[11]Vendas!F$22 -> 0 | G54: =[11]Vendas!G$22 -> 0 | H54: =[11]Vendas!H$22 -> 0 | I54: =[11]Vendas!I$22 -> 0
A55: 11.10 | B55: =[12]Vendas!B$22 -> 0 | C55: =[12]Vendas!C$22 -> 0 | D55: =[12]Vendas!D$22 -> 0 | E55: =[12]Vendas!E$22 -> #DIV/0! | F55: =[12]Vendas!F$22 -> 0 | G55: =[12]Vendas!G$22 -> 0 | H55: =[12]Vendas!H$22 -> 0 | I55: =[12]Vendas!I$22 -> 0
A56: 12.10 | B56: =[13]Vendas!B$22 -> 0 | C56: =[13]Vendas!C$22 -> 0 | D56: =[13]Vendas!D$22 -> 0 | E56: =[13]Vendas!E$22 -> #DIV/0! | F56: =[13]Vendas!F$22 -> 0 | G56: =[13]Vendas!G$22 -> 0 | H56: =[13]Vendas!H$22 -> 0 | I56: =[13]Vendas!I$22 -> 0
A57: Total | B57: =SUM(B44:B56) -> 171447.17 | C57: =SUM(C44:C56) -> 0 | D57: =SUM(D44:D56) -> 10 | E57: =SUMIF(E44:E56,">=0") -> 850.07434 | F57: =SUM(F44:F56) -> 405 | G57: =SUM(G44:G56) -> 0 | H57: =SUM(H44:H56) -> 11 | I57: =SUM(I44:I56) -> 0

Sheet Ivo
A7: Ivo
B43: Valor mensal das vendas | C43: Clientes Novos e reativados | D43: Nr de clientes ativados no Serasa | E43: Vendas por entregas | F43: Nr de entregas | G43: Carga que volta por pedido errado de vendedor | H43: Nr de pedidos colocados fora do tempo | I43: Nr de Cheques errados | L43: Gerencia bem as atividades – cumpre seu prazo de entrega, é sempre preciso no que faz e planeja metas. | M43: Assume as consequencias de seus atos (erros ou acertos), aceitando e reconhecendo suas falhas. | N43: É claro na transmissão de informações. | O43: Disponibilidade de ouvir e, possivelmente, aceitar opiniões diversas. | P43: Compreende a forma como o seu trabalho impata o trabalho dos outros. | Q43: Encoraja as pessoas a fazerem o seu melhor, incentiva e transmite segurança. | R43: Compreende e se sensibiliza com os sentimentos e necessidades dos outros. | S43: Trata as pessoas com respeito. | T43: É pessoalmente comprometido com a Difrisul.
A44: 12.09 | B44: =[1]Vendas!B$23 -> 0 | C44: =[1]Vendas!C$23 -> 0 | D44: =[1]Vendas!D$23 -> 0 | E44: =[1]Vendas!E$23 -> #DIV/0! | F44: =[1]Vendas!F$23 -> 0 | G44: =[1]Vendas!G$23 -> 0 | H44: =[1]Vendas!H$23 -> 0 | I44: =[1]Vendas!I$23 -> 0 | K44: Jan | L44: =[14]Janeiro!T$22 -> 0 | M44: =[14]Janeiro!U$22 -> 0 | N44: =[14]Janeiro!V$22 -> 0 | O44: =[14]Janeiro!W$22 -> 0 | P44: =[14]Janeiro!X$22 -> 0 | Q44: =[14]Janeiro!Y$22 -> 0 | R44: =[14]Janeiro!Z$22 -> 0 | S44: =[14]Janeiro!AA$22 -> 0 | T44: =[14]Janeiro!AB$22 -> 0
A45: 01.10 | B45: =[2]Vendas!B$23 -> 143081.13 | C45: =[2]Vendas!C$23 -> 0 | D45: =[2]Vendas!D$23 -> 0 | E45: =[2]Vendas!E$23 -> 423.31695 | F45: =[2]Vendas!F$23 -> 338 | G45: =[2]Vendas!G$23 -> 0 | H45: =[2]Vendas!H$23 -> 0 | I45: =[2]Vendas!I$23 -> 0 | K45: Julho | L45: =[14]Julho!T$22 -> 0 | M45: =[14]Julho!U$22 -> 0 | N45: =[14]Julho!V$22 -> 0 | O45: =[14]Julho!W$22 -> 0 | P45: =[14]Julho!X$22 -> 0 | Q45: =[14]Julho!Y$22 -> 0 | R45: =[14]Julho!Z$22 -> 0 | S45: =[14]Julho!AA$22 -> 0 | T45: =[14]Julho!AB$22 -> 0
A46: 02.10 | B46: =[3]Vendas!B$23 -> 0 | C46: =[3]Vendas!C$23 -> 0 | D46: =[3]Vendas!D$23 -> 0 | E46: =[3]Vendas!E$23 -> #DIV/0! | F46: =[3]Vendas!F$23 -> 0 | G46: =[3]Vendas!G$23 -> 0 | H46: =[3]Vendas!H$23 -> 0 | I46: =[3]Vendas!I$23 -> 0 | K46: Nov | L46: =[14]Novembro!T$22 -> 0 | M46: =[14]Novembro!U$22 -> 0 | N46: =[14]Novembro!V$22 -> 0 | O46: =[14]Novembro!W$22 -> 0 | P46: =[14]Novembro!X$22 -> 0 | Q46: =[14]Novembro!Y$22 -> 0 | R46: =[14]Novembro!Z$22 -> 0 | S46: =[14]Novembro!AA$22 -> 0 | T46: =[14]Novembro!AB$22 -> 0
A47: 03.10 | B47: =[4]Vendas!B$23 -> 0 | C47: =[4]Vendas!C$23 -> 0 | D47: =[4]Vendas!D$23 -> 0 | E47: =[4]Vendas!E$23 -> #DIV/0! | F47: =[4]Vendas!F$23 -> 0 | G47: =[4]Vendas!G$23 -> 0 | H47: =[4]Vendas!H$23 -> 0 | I47: =[4]Vendas!I$23 -> 0
A48: 04.10 | B48: =[5]Vendas!B$23 -> 0 | C48: =[5]Vendas!C$23 -> 0 | D48: =[5]Vendas!D$23 -> 0 | E48: =[5]Vendas!E$23 -> #DIV/0! | F48: =[5]Vendas!F$23 -> 0 | G48: =[5]Vendas!G$23 -> 0 | H48: =[5]Vendas!H$23 -> 0 | I48: =[5]Vendas!I$23 -> 0
A49: 05.10 | B49: =[6]Vendas!B$23 -> 0 | C49: =[6]Vendas!C$23 -> 0 | D49: =[6]Vendas!D$23 -> 0 | E49: =[6]Vendas!E$23 -> #DIV/0! | F49: =[6]Vendas!F$23 -> 0 | G49: =[6]Vendas!G$23 -> 0 | H49: =[6]Vendas!H$23 -> 0 | I49: =[6]Vendas!I$23 -> 0
A50: 06.10 | B50: =[7]Vendas!B$23 -> 0 | C50: =[7]Vendas!C$23 -> 0 | D50: =[7]Vendas!D$23 -> 0 | E50: =[7]Vendas!E$23 -> #DIV/0! | F50: =[7]Vendas!F$23 -> 0 | G50: =[7]Vendas!G$23 -> 0 | H50: =[7]Vendas!H$23 -> 0 | I50: =[7]Vendas!I$23 -> 0
A51: 07.10 | B51: =[8]Vendas!B$23 -> 0 | C51: =[8]Vendas!C$23 -> 0 | D51: =[8]Vendas!D$23 -> 0 | E51: =[8]Vendas!E$23 -> #DIV/0! | F51: =[8]Vendas!F$23 -> 0 | G51: =[8]Vendas!G$23 -> 0 | H51: =[8]Vendas!H$23 -> 0 | I51: =[8]Vendas!I$23 -> 0
A52: 08.10 | B52: =[9]Vendas!B$23 -> 0 | C52: =[9]Vendas!C$23 -> 0 | D52: =[9]Vendas!D$23 -> 0 | E52: =[9]Vendas!E$23 -> #DIV/0! | F52: =[9]Vendas!F$23 -> 0 | G52: =[9]Vendas!G$23 -> 0 | H52: =[9]Vendas!H$23 -> 0 | I52: =[9]Vendas!I$23 -> 0
A53: 09.10 | B53: =[10]Vendas!B$23 -> 0 | C53: =[10]Vendas!C$23 -> 0 | D53: =[10]Vendas!D$23 -> 0 | E53: =[10]Vendas!E$23 -> #DIV/0! | F53: =[10]Vendas!F$23 -> 0 | G53: =[10]Vendas!G$23 -> 0 | H53: =[10]Vendas!H$23 -> 0 | I53: =[10]Vendas!I$23 -> 0
A54: 10.10 | B54: =[11]Vendas!B$23 -> 0 | C54: =[11]Vendas!C$23 -> 0 | D54: =[11]Vendas!D$23 -> 0 | E54: =[11]Vendas!E$23 -> #DIV/0! | F54: =[11]Vendas!F$23 -> 0 | G54: =[11]Vendas!G$23 -> 0 | H54: =[11]Vendas!H$23 -> 0 | I54: =[11]Vendas!I$23 -> 0
A55: 11.10 | B55: =[12]Vendas!B$23 -> 0 | C55: =[12]Vendas!C$23 -> 0 | D55: =[12]Vendas!D$23 -> 0 | E55: =[12]Vendas!E$23 -> #DIV/0! | F55: =[12]Vendas!F$23 -> 0 | G55: =[12]Vendas!G$23 -> 0 | H55: =[12]Vendas!H$23 -> 0 | I55: =[12]Vendas!I$23 -> 0
A56: 12.10 | B56: =[13]Vendas!B$23 -> 0 | C56: =[13]Vendas!C$23 -> 0 | D56: =[13]Vendas!D$23 -> 0 | E56: =[13]Vendas!E$23 -> #DIV/0! | F56: =[13]Vendas!F$23 -> 0 | G56: =[13]Vendas!G$23 -> 0 | H56: =[13]Vendas!H$23 -> 0 | I56: =[13]Vendas!I$23 -> 0
A57: Total | B57: =SUM(B44:B56) -> 143081.13 | C57: =SUM(C44:C56) -> 0 | D57: =SUM(D44:D56) -> 0 | E57: =SUMIF(E44:E56,">=0") -> 423.31695 | F57: =SUM(F44:F56) -> 338 | G57: =SUM(G44:G56) -> 0 | H57: =SUM(H44:H56) -> 0 | I57: =SUM(I44:I56) -> 0

Sheet Jânio
A7: Jânio
B43: Valor mensal das vendas | C43: Clientes Novos e reativados | D43: Nr de clientes ativados no Serasa | E43: Vendas por entregas | F43: Nr de entregas | G43: Carga que volta por pedido errado de vendedor | H43: Nr de pedidos colocados fora do tempo | I43: Nr de Cheques errados | L43: Gerencia bem as atividades – cumpre seu prazo de entrega, é sempre preciso no que faz e planeja metas. | M43: Assume as consequencias de seus atos (erros ou acertos), aceitando e reconhecendo suas falhas. | N43: É claro na transmissão de informações. | O43: Disponibilidade de ouvir e, possivelmente, aceitar opiniões diversas. | P43: Compreende a forma como o seu trabalho impata o trabalho dos outros. | Q43: Encoraja as pessoas a fazerem o seu melhor, incentiva e transmite segurança. | R43: Compreende e se sensibiliza com os sentimentos e necessidades dos outros. | S43: Trata as pessoas com respeito. | T43: É pessoalmente comprometido com a Difrisul.
A44: 12.09 | B44: =[1]Vendas!B$24 -> 0 | C44: =[1]Vendas!C$24 -> 0 | D44: =[1]Vendas!D$24 -> 0 | E44: =[1]Vendas!E$24 -> #DIV/0! | F44: =[1]Vendas!F$24 -> 0 | G44: =[1]Vendas!G$24 -> 0 | H44: =[1]Vendas!H$24 -> 0 | I44: =[1]Vendas!I$24 -> 0 | K44: Jan | L44: =[14]Janeiro!T$25 -> 0 | M44: =[14]Janeiro!U$25 -> 0 | N44: =[14]Janeiro!V$25 -> 0 | O44: =[14]Janeiro!W$25 -> 0 | P44: =[14]Janeiro!X$25 -> 0 | Q44: =[14]Janeiro!Y$25 -> 0 | R44: =[14]Janeiro!Z$25 -> 0 | S44: =[14]Janeiro!AA$25 -> 0 | T44: =[14]Janeiro!AB$25 -> 0
A45: 01.10 | B45: =[2]Vendas!B$24 -> 96940.14 | C45: =[2]Vendas!C$24 -> 3 | D45: =[2]Vendas!D$24 -> 6 | E45: =[2]Vendas!E$24 -> 259.89314 | F45: =[2]Vendas!F$24 -> 373 | G45: =[2]Vendas!G$24 -> 1 | H45: =[2]Vendas!H$24 -> 0 | I45: =[2]Vendas!I$24 -> 0 | K45: Julho | L45: =[14]Julho!T$25 -> 0 | M45: =[14]Julho!U$25 -> 0 | N45: =[14]Julho!V$25 -> 0 | O45: =[14]Julho!W$25 -> 0 | P45: =[14]Julho!X$25 -> 0 | Q45: =[14]Julho!Y$25 -> 0 | R45: =[14]Julho!Z$25 -> 0 | S45: =[14]Julho!AA$25 -> 0 | T45: =[14]Julho!AB$25 -> 0
A46: 02.10 | B46: =[3]Vendas!B$24 -> 0 | C46: =[3]Vendas!C$24 -> 0 | D46: =[3]Vendas!D$24 -> 0 | E46: =[3]Vendas!E$24 -> #DIV/0! | F46: =[3]Vendas!F$24 -> 0 | G46: =[3]Vendas!G$24 -> 0 | H46: =[3]Vendas!H$24 -> 0 | I46: =[3]Vendas!I$24 -> 0 | K46: Nov | L46: =[14]Novembro!T$25 -> 0 | M46: =[14]Novembro!U$25 -> 0 | N46: =[14]Novembro!V$25 -> 0 | O46: =[14]Novembro!W$25 -> 0 | P46: =[14]Novembro!X$25 -> 0 | Q46: =[14]Novembro!Y$25 -> 0 | R46: =[14]Novembro!Z$25 -> 0 | S46: =[14]Novembro!AA$25 -> 0 | T46: =[14]Novembro!AB$25 -> 0
A47: 03.10 | B47: =[4]Vendas!B$24 -> 0 | C47: =[4]Vendas!C$24 -> 0 | D47: =[4]Vendas!D$24 -> 0 | E47: =[4]Vendas!E$24 -> #DIV/0! | F47: =[4]Vendas!F$24 -> 0 | G47: =[4]Vendas!G$24 -> 0 | H47: =[4]Vendas!H$24 -> 0 | I47: =[4]Vendas!I$24 -> 0
A48: 04.10 | B48: =[5]Vendas!B$24 -> 0 | C48: =[5]Vendas!C$24 -> 0 | D48: =[5]Vendas!D$24 -> 0 | E48: =[5]Vendas!E$24 -> #DIV/0! | F48: =[5]Vendas!F$24 -> 0 | G48: =[5]Vendas!G$24 -> 0 | H48: =[5]Vendas!H$24 -> 0 | I48: =[5]Vendas!I$24 -> 0
A49: 05.10 | B49: =[6]Vendas!B$24 -> 0 | C49: =[6]Vendas!C$24 -> 0 | D49: =[6]Vendas!D$24 -> 0 | E49: =[6]Vendas!E$24 -> #DIV/0! | F49: =[6]Vendas!F$24 -> 0 | G49: =[6]Vendas!G$24 -> 0 | H49: =[6]Vendas!H$24 -> 0 | I49: =[6]Vendas!I$24 -> 0
A50: 06.10 | B50: =[7]Vendas!B$24 -> 0 | C50: =[7]Vendas!C$24 -> 0 | D50: =[7]Vendas!D$24 -> 0 | E50: =[7]Vendas!E$24 -> #DIV/0! | F50: =[7]Vendas!F$24 -> 0 | G50: =[7]Vendas!G$24 -> 0 | H50: =[7]Vendas!H$24 -> 0 | I50: =[7]Vendas!I$24 -> 0
A51: 07.10 | B51: =[8]Vendas!B$24 -> 0 | C51: =[8]Vendas!C$24 -> 0 | D51: =[8]Vendas!D$24 -> 0 | E51: =[8]Vendas!E$24 -> #DIV/0! | F51: =[8]Vendas!F$24 -> 0 | G51: =[8]Vendas!G$24 -> 0 | H51: =[8]Vendas!H$24 -> 0 | I51: =[8]Vendas!I$24 -> 0
A52: 08.10 | B52: =[9]Vendas!B$24 -> 0 | C52: =[9]Vendas!C$24 -> 0 | D52: =[9]Vendas!D$24 -> 0 | E52: =[9]Vendas!E$24 -> #DIV/0! | F52: =[9]Vendas!F$24 -> 0 | G52: =[9]Vendas!G$24 -> 0 | H52: =[9]Vendas!H$24 -> 0 | I52: =[9]Vendas!I$24 -> 0
A53: 09.10 | B53: =[10]Vendas!B$24 -> 0 | C53: =[10]Vendas!C$24 -> 0 | D53: =[10]Vendas!D$24 -> 0 | E53: =[10]Vendas!E$24 -> #DIV/0! | F53: =[10]Vendas!F$24 -> 0 | G53: =[10]Vendas!G$24 -> 0 | H53: =[10]Vendas!H$24 -> 0 | I53: =[10]Vendas!I$24 -> 0
A54: 10.10 | B54: =[11]Vendas!B$24 -> 0 | C54: =[11]Vendas!C$24 -> 0 | D54: =[11]Vendas!D$24 -> 0 | E54: =[11]Vendas!E$24 -> #DIV/0! | F54: =[11]Vendas!F$24 -> 0 | G54: =[11]Vendas!G$24 -> 0 | H54: =[11]Vendas!H$24 -> 0 | I54: =[11]Vendas!I$24 -> 0
A55: 11.10 | B55: =[12]Vendas!B$24 -> 0 | C55: =[12]Vendas!C$24 -> 0 | D55: =[12]Vendas!D$24 -> 0 | E55: =[12]Vendas!E$24 -> #DIV/0! | F55: =[12]Vendas!F$24 -> 0 | G55: =[12]Vendas!G$24 -> 0 | H55: =[12]Vendas!H$24 -> 0 | I55: =[12]Vendas!I$24 -> 0
A56: 12.10 | B56: =[13]Vendas!B$24 -> 0 | C56: =[13]Vendas!C$24 -> 0 | D56: =[13]Vendas!D$24 -> 0 | E56: =[13]Vendas!E$24 -> #DIV/0! | F56: =[13]Vendas!F$24 -> 0 | G56: =[13]Vendas!G$24 -> 0 | H56: =[13]Vendas!H$24 -> 0 | I56: =[13]Vendas!I$24 -> 0
A57: Total | B57: =SUM(B44:B56) -> 96940.14 | C57: =SUM(C44:C56) -> 3 | D57: =SUM(D44:D56) -> 6 | E57: =SUMIF(E44:E56,">=0") -> 259.89314 | F57: =SUM(F44:F56) -> 373 | G57: =SUM(G44:G56) -> 1 | H57: =SUM(H44:H56) -> 0 | I57: =SUM(I44:I56) -> 0

Sheet Junior
A7: Junior
B43: Valor mensal das vendas | C43: Clientes Novos e reativados | D43: Nr de clientes ativados no Serasa | E43: Vendas por entregas | F43: Nr de entregas | G43: Carga que volta por pedido errado de vendedor | H43: Nr de pedidos colocados fora do tempo | I43: Nr de Cheques errados | L43: Gerencia bem as atividades – cumpre seu prazo de entrega, é sempre preciso no que faz e planeja metas. | M43: Assume as consequencias de seus atos (erros ou acertos), aceitando e reconhecendo suas falhas. | N43: É claro na transmissão de informações. | O43: Disponibilidade de ouvir e, possivelmente, aceitar opiniões diversas. | P43: Compreende a forma como o seu trabalho impata o trabalho dos outros. | Q43: Encoraja as pessoas a fazerem o seu melhor, incentiva e transmite segurança. | R43: Compreende e se sensibiliza com os sentimentos e necessidades dos outros. | S43: Trata as pessoas com respeito. | T43: É pessoalmente comprometido com a Difrisul.
A44: 12.09 | B44: =[1]Vendas!B$25 -> 0 | C44: =[1]Vendas!C$25 -> 0 | D44: =[1]Vendas!D$25 -> 0 | E44: =[1]Vendas!E$25 -> #DIV/0! | F44: =[1]Vendas!F$25 -> 0 | G44: =[1]Vendas!G$25 -> 0 | H44: =[1]Vendas!H$25 -> 0 | I44: =[1]Vendas!I$25 -> 0 | K44: Jan | L44: =[14]Janeiro!T$28 -> 0 | M44: =[14]Janeiro!U$28 -> 0 | N44: =[14]Janeiro!V$28 -> 0 | O44: =[14]Janeiro!W$28 -> 0 | P44: =[14]Janeiro!X$28 -> 0 | Q44: =[14]Janeiro!Y$28 -> 0 | R44: =[14]Janeiro!Z$28 -> 0 | S44: =[14]Janeiro!AA$28 -> 0 | T44: =[14]Janeiro!AB$28 -> 0
A45: 01.10 | B45: =[2]Vendas!B$25 -> 100826.37 | C45: =[2]Vendas!C$25 -> 0 | D45: =[2]Vendas!D$25 -> 7 | E45: =[2]Vendas!E$25 -> 408.20393 | F45: =[2]Vendas!F$25 -> 247 | G45: =[2]Vendas!G$25 -> 0 | H45: =[2]Vendas!H$25 -> 0 | I45: =[2]Vendas!I$25 -> 0 | K45: Julho | L45: =[14]Julho!T$28 -> 0 | M45: =[14]Julho!U$28 -> 0 | N45: =[14]Julho!V$28 -> 0 | O45: =[14]Julho!W$28 -> 0 | P45: =[14]Julho!X$28 -> 0 | Q45: =[14]Julho!Y$28 -> 0 | R45: =[14]Julho!Z$28 -> 0 | S45: =[14]Julho!AA$28 -> 0 | T45: =[14]Julho!AB$28 -> 0
A46: 02.10 | B46: =[3]Vendas!B$25 -> 0 | C46: =[3]Vendas!C$25 -> 0 | D46: =[3]Vendas!D$25 -> 0 | E46: =[3]Vendas!E$25 -> #DIV/0! | F46: =[3]Vendas!F$25 -> 0 | G46: =[3]Vendas!G$25 -> 0 | H46: =[3]Vendas!H$25 -> 0 | I46: =[3]Vendas!I$25 -> 0 | K46: Nov | L46: =[14]Novembro!T$28 -> 0 | M46: =[14]Novembro!U$28 -> 0 | N46: =[14]Novembro!V$28 -> 0 | O46: =[14]Novembro!W$28 -> 0 | P46: =[14]Novembro!X$28 -> 0 | Q46: =[14]Novembro!Y$28 -> 0 | R46: =[14]Novembro!Z$28 -> 0 | S46: =[14]Novembro!AA$28 -> 0 | T46: =[14]Novembro!AB$28 -> 0
A47: 03.10 | B47: =[4]Vendas!B$25 -> 0 | C47: =[4]Vendas!C$25 -> 0 | D47: =[4]Vendas!D$25 -> 0 | E47: =[4]Vendas!E$25 -> #DIV/0! | F47: =[4]Vendas!F$25 -> 0 | G47: =[4]Vendas!G$25 -> 0 | H47: =[4]Vendas!H$25 -> 0 | I47: =[4]Vendas!I$25 -> 0
A48: 04.10 | B48: =[5]Vendas!B$25 -> 0 | C48: =[5]Vendas!C$25 -> 0 | D48: =[5]Vendas!D$25 -> 0 | E48: =[5]Vendas!E$25 -> #DIV/0! | F48: =[5]Vendas!F$25 -> 0 | G48: =[5]Vendas!G$25 -> 0 | H48: =[5]Vendas!H$25 -> 0 | I48: =[5]Vendas!I$25 -> 0
A49: 05.10 | B49: =[6]Vendas!B$25 -> 0 | C49: =[6]Vendas!C$25 -> 0 | D49: =[6]Vendas!D$25 -> 0 | E49: =[6]Vendas!E$25 -> #DIV/0! | F49: =[6]Vendas!F$25 -> 0 | G49: =[6]Vendas!G$25 -> 0 | H49: =[6]Vendas!H$25 -> 0 | I49: =[6]Vendas!I$25 -> 0
A50: 06.10 | B50: =[7]Vendas!B$25 -> 0 | C50: =[7]Vendas!C$25 -> 0 | D50: =[7]Vendas!D$25 -> 0 | E50: =[7]Vendas!E$25 -> #DIV/0! | F50: =[7]Vendas!F$25 -> 0 | G50: =[7]Vendas!G$25 -> 0 | H50: =[7]Vendas!H$25 -> 0 | I50: =[7]Vendas!I$25 -> 0
A51: 07.10 | B51: =[8]Vendas!B$25 -> 0 | C51: =[8]Vendas!C$25 -> 0 | D51: =[8]Vendas!D$25 -> 0 | E51: =[8]Vendas!E$25 -> #DIV/0! | F51: =[8]Vendas!F$25 -> 0 | G51: =[8]Vendas!G$25 -> 0 | H51: =[8]Vendas!H$25 -> 0 | I51: =[8]Vendas!I$25 -> 0
A52: 08.10 | B52: =[9]Vendas!B$25 -> 0 | C52: =[9]Vendas!C$25 -> 0 | D52: =[9]Vendas!D$25 -> 0 | E52: =[9]Vendas!E$25 -> #DIV/0! | F52: =[9]Vendas!F$25 -> 0 | G52: =[9]Vendas!G$25 -> 0 | H52: =[9]Vendas!H$25 -> 0 | I52: =[9]Vendas!I$25 -> 0
A53: 09.10 | B53: =[10]Vendas!B$25 -> 0 | C53: =[10]Vendas!C$25 -> 0 | D53: =[10]Vendas!D$25 -> 0 | E53: =[10]Vendas!E$25 -> #DIV/0! | F53: =[10]Vendas!F$25 -> 0 | G53: =[10]Vendas!G$25 -> 0 | H53: =[10]Vendas!H$25 -> 0 | I53: =[10]Vendas!I$25 -> 0
A54: 10.10 | B54: =[11]Vendas!B$25 -> 0 | C54: =[11]Vendas!C$25 -> 0 | D54: =[11]Vendas!D$25 -> 0 | E54: =[11]Vendas!E$25 -> #DIV/0! | F54: =[11]Vendas!F$25 -> 0 | G54: =[11]Vendas!G$25 -> 0 | H54: =[11]Vendas!H$25 -> 0 | I54: =[11]Vendas!I$25 -> 0
A55: 11.10 | B55: =[12]Vendas!B$25 -> 0 | C55: =[12]Vendas!C$25 -> 0 | D55: =[12]Vendas!D$25 -> 0 | E55: =[12]Vendas!E$25 -> #DIV/0! | F55: =[12]Vendas!F$25 -> 0 | G55: =[12]Vendas!G$25 -> 0 | H55: =[12]Vendas!H$25 -> 0 | I55: =[12]Vendas!I$25 -> 0
