Workbook
Name ind.vendas: 'Evolução Logística'!$A$35:$A$38
Name ind.vendas: 'Evolução Motoristas'!$A$54:$A$60
Name Mês: 'Evolução Logística'!$B$34:$N$34
Name Mês: 'Evolução Motoristas'!$B$53:$N$53

Sheet Início
A3: Relatórios
H9: Sistema de Gestão de Desempenho

Sheet Evolução Logística
B34: 12.09 | C34: 01.10 | D34: 02.10 | E34: 03.10 | F34: 04.10 | G34: 05.10 | H34: 06.10 | I34: 07.10 | J34: 08.10 | K34: 09.10 | L34: 10.10 | M34: 11.10 | N34: 12.10 | O34: Total | P34: Média
A35: Diferença entre estoque no sistema e armazém | B35: =[1]Logística!$B4 -> 0 | C35: =[2]Logística!$B4 -> 0 | D35: =[3]Logística!$B4 -> 0 | E35: =[4]Logística!$B4 -> 0 | F35: =[5]Logística!$B4 -> 0 | G35: =[6]Logística!$B4 -> 0 | H35: =[7]Logística!$B4 -> 0 | I35: =[8]Logística!$B4 -> 0 | J35: =[9]Logística!$B4 -> 0 | K35: =[10]Logística!$B4 -> 0 | L35: =[11]Logística!$B4 -> 0 | M35: =[12]Logística!$B4 -> 0 | N35: =[13]Logística!$B4 -> 0 | O35: =SUM(B35:N35) -> 0 | P35: =AVERAGEIF(B35:N35,"<>0") -> #DIV/0!
A36: Mercadoria devolvida por condições do produto | B36: =[1]Logística!$B5 -> 0 | C36: =[2]Logística!$B5 -> 0 | D36: =[3]Logística!$B5 -> 0 | E36: =[4]Logística!$B5 -> 0 | F36: =[5]Logística!$B5 -> 0 | G36: =[6]Logística!$B5 -> 0 | H36: =[7]Logística!$B5 -> 0 | I36: =[8]Logística!$B5 -> 0 | J36: =[9]Logística!$B5 -> 0 | K36: =[10]Logística!$B5 -> 0 | L36: =[11]Logística!$B5 -> 0 | M36: =[12]Logística!$B5 -> 0 | N36: =[13]Logística!$B5 -> 0 | O36: =SUM(B36:N36) -> 0 | P36: =AVERAGEIF(B36:N36,"<>0") -> #DIV/0!
A37: Mercadoria que volta por carregamento errado | B37: =[1]Logística!$B6 -> 0 | C37: =[2]Logística!$B6 -> 4 | D37: =[3]Logística!$B6 -> 0 | E37: =[4]Logística!$B6 -> 0 | F37: =[5]Logística!$B6 -> 0 | G37: =[6]Logística!$B6 -> 0 | H37: =[7]Logística!$B6 -> 0 | I37: =[8]Logística!$B6 -> 0 | J37: =[9]Logística!$B6 -> 0 | K37: =[10]Logística!$B6 -> 0 | L37: =[11]Logística!$B6 -> 0 | M37: =[12]Logística!$B6 -> 0 | N37: =[13]Logística!$B6 -> 0 | O37: =SUM(B37:N37) -> 4 | P37: =AVERAGEIF(B37:N37,"<>0") -> 4
A38: Tempo de pesos ultrapassados | B38: =[1]Logística!$B7 -> 0 | C38: =[2]Logística!$B7 -> 0 | D38: =[3]Logística!$B7 -> 0 | E38: =[4]Logística!$B7 -> 0 | F38: =[5]Logística!$B7 -> 0 | G38: =[6]Logística!$B7 -> 0 | H38: =[7]Logística!$B7 -> 0 | I38: =[8]Logística!$B7 -> 0 | J38: =[9]Logística!$B7 -> 0 | K38: =[10]Logística!$B7 -> 0 | L38: =[11]Logística!$B7 -> 0 | M38: =[12]Logística!$B7 -> 0 | N38: =[13]Logística!$B7 -> 0 | O38: =SUM(B38:N38) -> 0 | P38: =AVERAGEIF(B38:N38,"<>0") -> #DIV/0!
A39: Notas canceladas por falta de estoque | B39: =[1]Logística!$B8 -> 0 | C39: =[2]Logística!$B8 -> 0 | D39: =[3]Logística!$B8 -> 0 | E39: =[4]Logística!$B8 -> 0 | F39: =[5]Logística!$B8 -> 0 | G39: =[6]Logística!$B8 -> 0 | H39: =[7]Logística!$B8 -> 0 | I39: =[8]Logística!$B8 -> 0 | J39: =[9]Logística!$B8 -> 0 | K39: =[10]Logística!$B8 -> 0 | L39: =[11]Logística!$B8 -> 0 | M39: =[12]Logística!$B8 -> 0 | N39: =[13]Logística!$B8 -> 0 | O39: =SUM(B39:N39) -> 0 | P39: =AVERAGEIF(B39:N39,"<>0") -> #DIV/0!

Sheet Pessoal Logística
A44: Jorge | B44: Gerencia bem as atividades – cumpre seu prazo de entrega, é sempre preciso no que faz e planeja metas. | C44: Assume as consequencias de seus atos (erros ou acertos), aceitando e reconhecendo suas falhas | D44: É claro na transmissão de informações. | E44: Disponibilidade de ouvir e, possivelmente, aceitar opiniões diversas. | F44: Compreende a forma como o seu trabalho impata o trabalho dos outros. | G44: Encoraja as pessoas a fazerem o seu melhor, incentiva e transmite segurança. | H44: Compreende e se sensibiliza com os sentimentos e necessidades dos outros. | I44: Trata as pessoas com respeito. | J44: É pessoalmente comprometido com a Difrisul. | L44: Vicente | M44: Gerencia bem as atividades – cumpre seu prazo de entrega, é sempre preciso no que faz e planeja metas. | N44: Assume as consequencias de seus atos erros ou acertos, aceitando e reconhecendo suas falhas. | O44: É claro na transmissão de informações. | P44: Disponibilidade de ouvir e, possivelmente, aceitar opiniões diversas. | Q44: Compreende a forma como o seu trabalho impata o trabalho dos outros. | R44: Encoraja as pessoas a fazerem o seu melhor, incentiva e transmite segurança. | S44: Compreende e se sensibiliza com os sentimentos e necessidades dos outros. | T44: Trata as pessoas com respeito. | U44: É pessoalmente comprometido com a Difrisul.
A45: Jan | B45: =[14]Janeiro!T$26 -> 0 | C45: =[14]Janeiro!U$26 -> 0 | D45: =[14]Janeiro!V$26 -> 0 | E45: =[14]Janeiro!W$26 -> 0 | F45: =[14]Janeiro!X$26 -> 0 | G45: =[14]Janeiro!Y$26 -> 0 | H45: =[14]Janeiro!Z$26 -> 0 | I45: =[14]Janeiro!AA$26 -> 0 | J45: =[14]Janeiro!AB$26 -> 0 | L45: Jan | M45: =[14]Janeiro!T$44 -> 0 | N45: =[14]Janeiro!U$44 -> 0 | O45: =[14]Janeiro!V$44 -> 0 | P45: =[14]Janeiro!W$44 -> 0 | Q45: =[14]Janeiro!X$44 -> 0 | R45: =[14]Janeiro!Y$44 -> 0 | S45: =[14]Janeiro!Z$44 -> 0 | T45: =[14]Janeiro!AA$44 -> 0 | U45: =[14]Janeiro!AB$44 -> 0
A46: Julho | B46: =[14]Julho!T$26 -> 0 | C46: =[14]Julho!U$26 -> 0 | D46: =[14]Julho!V$26 -> 0 | E46: =[14]Julho!W$26 -> 0 | F46: =[14]Julho!X$26 -> 0 | G46: =[14]Julho!Y$26 -> 0 | H46: =[14]Julho!Z$26 -> 0 | I46: =[14]Julho!AA$26 -> 0 | J46: =[14]Julho!AB$26 -> 0 | L46: Julho | M46: =[14]Julho!T$44 -> 0 | N46: =[14]Julho!U$44 -> 0 | O46: =[14]Julho!V$44 -> 0 | P46: =[14]Julho!W$44 -> 0 | Q46: =[14]Julho!X$44 -> 0 | R46: =[14]Julho!Y$44 -> 0 | S46: =[14]Julho!Z$44 -> 0 | T46: =[14]Julho!AA$44 -> 0 | U46: =[14]Julho!AB$44 -> 0
A47: Nov | B47: =[14]Novembro!T$26 -> 0 | C47: =[14]Novembro!U$26 -> 0 | D47: =[14]Novembro!V$26 -> 0 | E47: =[14]Novembro!W$26 -> 0 | F47: =[14]Novembro!X$26 -> 0 | G47: =[14]Novembro!Y$26 -> 0 | H47: =[14]Novembro!Z$26 -> 0 | I47: =[14]Novembro!AA$26 -> 0 | J47: =[14]Novembro!AB$26 -> 0 | L47: Nov | M47: =[14]Novembro!T$44 -> 0 | N47: =[14]Novembro!U$44 -> 0 | O47: =[14]Novembro!V$44 -> 0 | P47: =[14]Novembro!W$44 -> 0 | Q47: =[14]Novembro!X$44 -> 0 | R47: =[14]Novembro!Y$44 -> 0 | S47: =[14]Novembro!Z$44 -> 0 | T47: =[14]Novembro!AA$44 -> 0 | U47: =[14]Novembro!AB$44 -> 0
A50: Edson | B50: Gerencia bem as atividades – cumpre seu prazo de entrega, é sempre preciso no que faz e planeja metas. | C50: Assume as consequencias de seus atos (erros ou acertos), aceitando e reconhecendo suas falhas | D50: É claro na transmissão de informações. | E50: Disponibilidade de ouvir e, possivelmente, aceitar opiniões diversas. | F50: Compreende a forma como o seu trabalho impata o trabalho dos outros. | G50: Encoraja as pessoas a fazerem o seu melhor, incentiva e transmite segurança. | H50: Compreende e se sensibiliza com os sentimentos e necessidades dos outros. | I50: Trata as pessoas com respeito. | J50: É pessoalmente comprometido com a Difrisul. | L50: Ezequiel | M50: Gerencia bem as atividades – cumpre seu prazo de entrega, é sempre preciso no que faz e planeja metas. | N50: Assume as consequencias de seus atos erros ou acertos, aceitando e reconhecendo suas falhas. | O50: É claro na transmissão de informações. | P50: Disponibilidade de ouvir e, possivelmente, aceitar opiniões diversas. | Q50: Compreende a forma como o seu trabalho impata o trabalho dos outros. | R50: Encoraja as pessoas a fazerem o seu melhor, incentiva e transmite segurança. | S50: Compreende e se sensibiliza com os sentimentos e necessidades dos outros. | T50: Trata as pessoas com respeito. | U50: É pessoalmente comprometido com a Difrisul.
A51: Jan | B51: =[14]Janeiro!T$14 -> 0 | C51: =[14]Janeiro!U$14 -> 0 | D51: =[14]Janeiro!V$14 -> 0 | E51: =[14]Janeiro!W$14 -> 0 | F51: =[14]Janeiro!X$14 -> 0 | G51: =[14]Janeiro!Y$14 -> 0 | H51: =[14]Janeiro!Z$14 -> 0 | I51: =[14]Janeiro!AA$14 -> 0 | J51: =[14]Janeiro!AB$14 -> 0 | L51: Jan | M51: =[14]Janeiro!T$17 -> 0 | N51: =[14]Janeiro!U$17 -> 0 | O51: =[14]Janeiro!V$17 -> 0 | P51: =[14]Janeiro!W$17 -> 0 | Q51: =[14]Janeiro!X$17 -> 0 | R51: =[14]Janeiro!Y$17 -> 0 | S51: =[14]Janeiro!Z$17 -> 0 | T51: =[14]Janeiro!AA$17 -> 0 | U51: =[14]Janeiro!AB$17 -> 0
A52: Julho | B52: =[14]Julho!T$14 -> 0 | C52: =[14]Julho!U$14 -> 0 | D52: =[14]Julho!V$14 -> 0 | E52: =[14]Julho!W$14 -> 0 | F52: =[14]Julho!X$14 -> 0 | G52: =[14]Julho!Y$14 -> 0 | H52: =[14]Julho!Z$14 -> 0 | I52: =[14]Julho!AA$14 -> 0 | J52: =[14]Julho!AB$14 -> 0 | L52: Julho | M52: =[14]Julho!T$17 -> 0 | N52: =[14]Julho!U$17 -> 0 | O52: =[14]Julho!V$17 -> 0 | P52: =[14]Julho!W$17 -> 0 | Q52: =[14]Julho!X$17 -> 0 | R52: =[14]Julho!Y$17 -> 0 | S52: =[14]Julho!Z$17 -> 0 | T52: =[14]Julho!AA$17 -> 0 | U52: =[14]Julho!AB$17 -> 0
A53: Nov | B53: =[14]Novembro!T$14 -> 0 | C53: =[14]Novembro!U$14 -> 0 | D53: =[14]Novembro!V$14 -> 0 | E53: =[14]Novembro!W$14 -> 0 | F53: =[14]Novembro!X$14 -> 0 | G53: =[14]Novembro!Y$14 -> 0 | H53: =[14]Novembro!Z$14 -> 0 | I53: =[14]Novembro!AA$14 -> 0 | J53: =[14]Novembro!AB$14 -> 0 | L53: Nov | M53: =[14]Novembro!T$17 -> 0 | N53: =[14]Novembro!U$17 -> 0 | O53: =[14]Novembro!V$17 -> 0 | P53: =[14]Novembro!W$17 -> 0 | Q53: =[14]Novembro!X$17 -> 0 | R53: =[14]Novembro!Y$17 -> 0 | S53: =[14]Novembro!Z$17 -> 0 | T53: =[14]Novembro!AA$17 -> 0 | U53: =[14]Novembro!AB$17 -> 0
A56: Diogo | B56: Gerencia bem as atividades – cumpre seu prazo de entrega, é sempre preciso no que faz e planeja metas. | C56: Assume as consequencias de seus atos (erros ou acertos), aceitando e reconhecendo suas falhas | D56: É claro na transmissão de informações. | E56: Disponibilidade de ouvir e, possivelmente, aceitar opiniões diversas. | F56: Compreende a forma como o seu trabalho impata o trabalho dos outros. | G56: Encoraja as pessoas a fazerem o seu melhor, incentiva e transmite segurança. | H56: Compreende e se sensibiliza com os sentimentos e necessidades dos outros. | I56: Trata as pessoas com respeito. | J56: É pessoalmente comprometido com a Difrisul. | L56: Junior | M56: Gerencia bem as atividades – cumpre seu prazo de entrega, é sempre preciso no que faz e planeja metas. | N56: Assume as consequencias de seus atos erros ou acertos, aceitando e reconhecendo suas falhas. | O56: É claro na transmissão de informações. | P56: Disponibilidade de ouvir e, possivelmente, aceitar opiniões diversas. | Q56: Compreende a forma como o seu trabalho impata o trabalho dos outros. | R56: Encoraja as pessoas a fazerem o seu melhor, incentiva e transmite segurança. | S56: Compreende e se sensibiliza com os sentimentos e necessidades dos outros. | T56: Trata as pessoas com respeito. | U56: É pessoalmente comprometido com a Difrisul.
A57: Jan | B57: =[14]Janeiro!T$13 -> 0 | C57: =[14]Janeiro!U$13 -> 0 | D57: =[14]Janeiro!V$13 -> 0 | E57: =[14]Janeiro!W$13 -> 0 | F57: =[14]Janeiro!X$13 -> 0 | G57: =[14]Janeiro!Y$13 -> 0 | H57: =[14]Janeiro!Z$13 -> 0 | I57: =[14]Janeiro!AA$13 -> 0 | J57: =[14]Janeiro!AB$13 -> 0 | L57: Jan | M57: =[14]Janeiro!T$27 -> 0 | N57: =[14]Janeiro!U$27 -> 0 | O57: =[14]Janeiro!V$27 -> 0 | P57: =[14]Janeiro!W$27 -> 0 | Q57: =[14]Janeiro!X$27 -> 0 | R57: =[14]Janeiro!Y$27 -> 0 | S57: =[14]Janeiro!Z$27 -> 0 | T57: =[14]Janeiro!AA$27 -> 0 | U57: =[14]Janeiro!AB$27 -> 0
A58: Julho | B58: =[14]Julho!T$13 -> 0 | C58: =[14]Julho!U$13 -> 0 | D58: =[14]Julho!V$13 -> 0 | E58: =[14]Julho!W$13 -> 0 | F58: =[14]Julho!X$13 -> 0 | G58: =[14]Julho!Y$13 -> 0 | H58: =[14]Julho!Z$13 -> 0 | I58: =[14]Julho!AA$13 -> 0 | J58: =[14]Julho!AB$13 -> 0 | L58: Julho | M58: =[14]Julho!T$27 -> 0 | N58: =[14]Julho!U$27 -> 0 | O58: =[14]Julho!V$27 -> 0 | P58: =[14]Julho!W$27 -> 0 | Q58: =[14]Julho!X$27 -> 0 | R58: =[14]Julho!Y$27 -> 0 | S58: =[14]Julho!Z$27 -> 0 | T58: =[14]Julho!AA$27 -> 0 | U58: =[14]Julho!AB$27 -> 0
A59: Nov | B59: =[14]Novembro!T$13 -> 0 | C59: =[14]Novembro!U$13 -> 0 | D59: =[14]Novembro!V$13 -> 0 | E59: =[14]Novembro!W$13 -> 0 | F59: =[14]Novembro!X$13 -> 0 | G59: =[14]Novembro!Y$13 -> 0 | H59: =[14]Novembro!Z$13 -> 0 | I59: =[14]Novembro!AA$13 -> 0 | J59: =[14]Novembro!AB$13 -> 0 | L59: Nov | M59: =[14]Novembro!T$27 -> 0 | N59: =[14]Novembro!U$27 -> 0 | O59: =[14]Novembro!V$27 -> 0 | P59: =[14]Novembro!W$27 -> 0 | Q59: =[14]Novembro!X$27 -> 0 | R59: =[14]Novembro!Y$27 -> 0 | S59: =[14]Novembro!Z$27 -> 0 | T59: =[14]Novembro!AA$27 -> 0 | U59: =[14]Novembro!AB$27 -> 0
A62: Guri Novo | B62: Gerencia bem as atividades – cumpre seu prazo de entrega, é sempre preciso no que faz e planeja metas. | C62: Assume as consequencias de seus atos (erros ou acertos), aceitando e reconhecendo suas falhas | D62: É claro na transmissão de informações. | E62: Disponibilidade de ouvir e, possivelmente, aceitar opiniões diversas. | F62: Compreende a forma como o seu trabalho impata o trabalho dos outros. | G62: Encoraja as pessoas a fazerem o seu melhor, incentiva e transmite segurança. | H62: Compreende e se sensibiliza com os sentimentos e necessidades dos outros. | I62: Trata as pessoas com respeito. | J62: É pessoalmente comprometido com a Difrisul.
A63: Jan | B63: =[14]Janeiro!T$46 -> 0 | C63: =[14]Janeiro!U$46 -> 0 | D63: =[14]Janeiro!V$46 -> 0 | E63: =[14]Janeiro!W$46 -> 0 | F63: =[14]Janeiro!X$46 -> 0 | G63: =[14]Janeiro!Y$46 -> 0 | H63: =[14]Janeiro!Z$46 -> 0 | I63: =[14]Janeiro!AA$46 -> 0 | J63: =[14]Janeiro!AB$46 -> 0
A64: Julho | B64: =[14]Julho!T$46 -> 0 | C64: =[14]Julho!U$46 -> 0 | D64: =[14]Julho!V$46 -> 0 | E64: =[14]Julho!W$46 -> 0 | F64: =[14]Julho!X$46 -> 0 | G64: =[14]Julho!Y$46 -> 0 | H64: =[14]Julho!Z$46 -> 0 | I64: =[14]Julho!AA$46 -> 0 | J64: =[14]Julho!AB$46 -> 0
A65: Nov | B65: =[14]Novembro!T$46 -> 0 | C65: =[14]Novembro!U$46 -> 0 | D65: =[14]Novembro!V$46 -> 0 | E65: =[14]Novembro!W$46 -> 0 | F65: =[14]Novembro!X$46 -> 0 | G65: =[14]Novembro!Y$46 -> 0 | H65: =[14]Novembro!Z$46 -> 0 | I65: =[14]Novembro!AA$46 -> 0 | J65: =[14]Novembro!AB$46 -> 0

Sheet Evolução Motoristas
B38: 12.09 | C38: 01.10 | D38: 02.10 | E38: 03.10 | F38: 04.10 | G38: 05.10 | H38: 06.10 | I38: 07.10 | J38: 08.10 | K38: 09.10 | L38: 10.10 | M38: 11.10 | N38: 12.10 | O38: Total | P38: Média
A39: Cheques errados | B39: =[1]Motoristas!$B4 -> 3 | C39: =[2]Motoristas!$B4 -> 0 | D39: =[3]Motoristas!$B4 -> 0 | E39: =[4]Motoristas!$B4 -> 0 | F39: =[5]Motoristas!$B4 -> 0 | G39: =[6]Motoristas!$B4 -> 0 | H39: =[7]Motoristas!$B4 -> 0 | I39: =[8]Motoristas!$B4 -> 0 | J39: =[9]Motoristas!$B4 -> 0 | K39: =[10]Motoristas!$B4 -> 0 | L39: =[11]Motoristas!$B4 -> 0 | M39: =[12]Motoristas!$B4 -> 0 | N39: =[13]Motoristas!$B4 -> 0 | O39: =SUM(B39:N39) -> 3 | P39: =AVERAGEIF(B39:N39,"<>0") -> 3
A40: Nr vezes passados o limite de velocidade | B40: =[1]Motoristas!$B5 -> 0 | C40: =[2]Motoristas!$B5 -> 0 | D40: =[3]Motoristas!$B5 -> 0 | E40: =[4]Motoristas!$B5 -> 0 | F40: =[5]Motoristas!$B5 -> 0 | G40: =[6]Motoristas!$B5 -> 0 | H40: =[7]Motoristas!$B5 -> 0 | I40: =[8]Motoristas!$B5 -> 0 | J40: =[9]Motoristas!$B5 -> 0 | K40: =[10]Motoristas!$B5 -> 0 | L40: =[11]Motoristas!$B5 -> 0 | M40: =[12]Motoristas!$B5 -> 0 | N40: =[13]Motoristas!$B5 -> 0 | O40: =SUM(B40:N40) -> 0 | P40: =AVERAGEIF(B40:N40,"<>0") -> #DIV/0!
A41: Mercadoria devolvida por condições do produto | B41: =[1]Motoristas!$B6 -> 0 | C41: =[2]Motoristas!$B6 -> 0 | D41: =[3]Motoristas!$B6 -> 0 | E41: =[4]Motoristas!$B6 -> 0 | F41: =[5]Motoristas!$B6 -> 0 | G41: =[6]Motoristas!$B6 -> 0 | H41: =[7]Motoristas!$B6 -> 0 | I41: =[8]Motoristas!$B6 -> 0 | J41: =[9]Motoristas!$B6 -> 0 | K41: =[10]Motoristas!$B6 -> 0 | L41: =[11]Motoristas!$B6 -> 0 | M41: =[12]Motoristas!$B6 -> 0 | N41: =[13]Motoristas!$B6 -> 0 | O41: =SUM(B41:N41) -> 0 | P41: =AVERAGEIF(B41:N41,"<>0") -> #DIV/0!
A42: Mercadoria que volta por carregamento errado | B42: =[1]Motoristas!$B7 -> 0 | C42: =[2]Motoristas!$B7 -> 4 | D42: =[3]Motoristas!$B7 -> 0 | E42: =[4]Motoristas!$B7 -> 0 | F42: =[5]Motoristas!$B7 -> 0 | G42: =[6]Motoristas!$B7 -> 0 | H42: =[7]Motoristas!$B7 -> 0 | I42: =[8]Motoristas!$B7 -> 0 | J42: =[9]Motoristas!$B7 -> 0 | K42: =[10]Motoristas!$B7 -> 0 | L42: =[11]Motoristas!$B7 -> 0 | M42: =[12]Motoristas!$B7 -> 0 | N42: =[13]Motoristas!$B7 -> 0 | O42: =SUM(B42:N42) -> 4 | P42: =AVERAGEIF(B42:N42,"<>0") -> 4
A43: Peso Entregue | B43: =[1]Motoristas!$B8 -> 0 | C43: =[2]Motoristas!$B8 -> 343145 | D43: =[3]Motoristas!$B8 -> 0 | E43: =[4]Motoristas!$B8 -> 0 | F43: =[5]Motoristas!$B8 -> 0 | G43: =[6]Motoristas!$B8 -> 0 | H43: =[7]Motoristas!$B8 -> 0 | I43: =[8]Motoristas!$B8 -> 0 | J43: =[9]Motoristas!$B8 -> 0 | K43: =[10]Motoristas!$B8 -> 0 | L43: =[11]Motoristas!$B8 -> 0 | M43: =[12]Motoristas!$B8 -> 0 | N43: =[13]Motoristas!$B8 -> 0 | O43: =SUM(B43:N43) -> 343145 | P43: =AVERAGEIF(B43:N43,"<>0") -> 343145
A44: Cobranças que voltam | B44: =[1]Motoristas!$B9 -> 0 | C44: =[2]Motoristas!$B9 -> 0 | D44: =[3]Motoristas!$B9 -> 0 | E44: =[4]Motoristas!$B9 -> 0 | F44: =[5]Motoristas!$B9 -> 0 | G44: =[6]Motoristas!$B9 -> 0 | H44: =[7]Motoristas!$B9 -> 0 | I44: =[8]Motoristas!$B9 -> 0 | J44: =[9]Motoristas!$B9 -> 0 | K44: =[10]Motoristas!$B9 -> 0 | L44: =[11]Motoristas!$B9 -> 0 | M44: =[12]Motoristas!$B9 -> 0 | N44: =[13]Motoristas!$B9 -> 0 | O44: =SUM(B44:N44) -> 0 | P44: =AVERAGEIF(B44:N44,"<>0") -> #DIV/0!
A45: Quantidade de mercadoria que se consegue vender pelo caminho | B45: =[1]Motoristas!$B10 -> 0 | C45: =[2]Motoristas!$B10 -> 0 | D45: =[3]Motoristas!$B10 -> 0 | E45: =[4]Motoristas!$B10 -> 0 | F45: =[5]Motoristas!$B10 -> 0 | G45: =[6]Motoristas!$B10 -> 0 | H45: =[7]Motoristas!$B10 -> 0 | I45: =[8]Motoristas!$B10 -> 0 | J45: =[9]Motoristas!$B10 -> 0 | K45: =[10]Motoristas!$B10 -> 0 | L45: =[11]Motoristas!$B10 -> 0 | M45: =[12]Motoristas!$B10 -> 0 | N45: =[13]Motoristas!$B10 -> 0 | O45: =SUM(B45:N45) -> 0 | P45: =AVERAGEIF(B45:N45,"<>0") -> #DIV/0!
A46: Acertos que não fecham | B46: =[1]Motoristas!$B11 -> 0 | C46: =[2]Motoristas!$B11 -> 0 | D46: =[3]Motoristas!$B11 -> 0 | E46: =[4]Motoristas!$B11 -> 0 | F46: =[5]Motoristas!$B11 -> 0 | G46: =[6]Motoristas!$B11 -> 0 | H46: =[7]Motoristas!$B11 -> 0 | I46: =[8]Motoristas!$B11 -> 0 | J46: =[9]Motoristas!$B11 -> 0 | K46: =[10]Motoristas!$B11 -> 0 | L46: =[11]Motoristas!$B11 -> 0 | M46: =[12]Motoristas!$B11 -> 0 | N46: =[13]Motoristas!$B11 -> 0 | O46: =SUM(B46:N46) -> 0 | P46: =AVERAGEIF(B46:N46,"<>0") -> #DIV/0!
A47: Mercadoria entregue errada | B47: =[1]Motoristas!$B12 -> 0 | C47: =[2]Motoristas!$B12 -> 0 | D47: =[3]Motoristas!$B12 -> 0 | E47: =[4]Motoristas!$B12 -> 0 | F47: =[5]Motoristas!$B12 -> 0 | G47: =[6]Motoristas!$B12 -> 0 | H47: =[7]Motoristas!$B12 -> 0 | I47: =[8]Motoristas!$B12 -> 0 | J47: =[9]Motoristas!$B12 -> 0 | K47: =[10]Motoristas!$B12 -> 0 | L47: =[11]Motoristas!$B12 -> 0 | M47: =[12]Motoristas!$B12 -> 0 | N47: =[13]Motoristas!$B12 -> 0 | O47: =SUM(B47:N47) -> 0 | P47: =AVERAGEIF(B47:N47,"<>0") -> #DIV/0!

Sheet Distribuição Motoristas
B58: Peso Entregue | C58: Mercadoria que se consegue vender pelo caminho | D58: Mercadoria devolvida por condições do produto | E58: Mercadoria que volta por carregamento errado | F58: Acertos que não fecham | G58: Cobranças que voltam | H58: Cheques errados | I58: Nr de vezes passado o limite de velocidade | J58: Mercadoria que é entregue errada
A59: Delcio | B59: =Delcio!B70 -> 31669 | C59: =Delcio!C70 -> 0 | D59: =Delcio!D70 -> 0 | E59: =Delcio!E70 -> 0 | F59: =Delcio!F70 -> 0 | G59: =Delcio!G70 -> 0 | H59: =Delcio!H70 -> 0 | I59: =Delcio!I$70 -> 0 | J59: =Delcio!J$70 -> 0
A60: Climar | B60: =Climar!B70 -> 21932 | C60: =Climar!C70 -> 0 | D60: =Climar!D70 -> 0 | E60: =Climar!E70 -> 0 | F60: =Climar!F70 -> 0 | G60: =Climar!G70 -> 1 | H60: =Climar!H70 -> 0 | I60: =Climar!I70 -> 0 | J60: =Climar!J70 -> 1
A61: Ivolnei | B61: =Ivolnei!B70 -> 37893 | C61: =Ivolnei!C70 -> 0 | D61: =Ivolnei!D70 -> 0 | E61: =Ivolnei!E70 -> 0 | F61: =Ivolnei!F70 -> 0 | G61: =Ivolnei!G70 -> 0 | H61: =Ivolnei!H70 -> 0 | I61: =Ivolnei!I70 -> 0 | J61: =Ivolnei!J70 -> 0
A62: Jacir Carraro | B62: =Jacir!B70 -> 31332 | C62: =Jacir!C70 -> 0 | D62: =Jacir!D70 -> 0 | E62: =Jacir!E70 -> 0 | F62: =Jacir!F70 -> 0 | G62: =Jacir!G70 -> 0 | H62: =Jacir!H70 -> 0 | I62: =Jacir!I70 -> 0 | J62: =Jacir!J70 -> 0
A63: Leandro | B63: =Leandro!B70 -> 24085 | C63: =Leandro!C70 -> 0 | D63: =Leandro!D70 -> 0 | E63: =Leandro!E70 -> 0 | F63: =Leandro!F70 -> 0 | G63: =Leandro!G70 -> 0 | H63: =Leandro!H70 -> 0 | I63: =Leandro!I70 -> 0 | J63: =Leandro!J70 -> 0
A64: Marcio | B64: =Márcio!B70 -> 46319 | C64: =Márcio!C70 -> 0 | D64: =Márcio!D70 -> 0 | E64: =Márcio!E70 -> 1 | F64: =Márcio!F70 -> 0 | G64: =Márcio!G70 -> 0 | H64: =Márcio!H70 -> 0 | I64: =Márcio!I70 -> 0 | J64: =Márcio!J70 -> 0
A65: Marcos | B65: =Marcos!B70 -> 37164 | C65: =Marcos!C70 -> 0 | D65: =Marcos!D70 -> 0 | E65: =Marcos!E70 -> 0 | F65: =Marcos!F70 -> 0 | G65: =Marcos!G70 -> 0 | H65: =Marcos!H70 -> 1 | I65: =Marcos!I70 -> 0 | J65: =Marcos!J70 -> 0
A66: Paulo | B66: =Paulo!B70 -> 63059 | C66: =Paulo!C70 -> 0 | D66: =Paulo!D70 -> 0 | E66: =Paulo!E70 -> 1 | F66: =Paulo!F70 -> 0 | G66: =Paulo!G70 -> 0 | H66: =Paulo!H70 -> 0 | I66: =Paulo!I70 -> 0 | J66: =Paulo!J70 -> 0
A67: Renato | B67: =Renato!B70 -> 47914 | C67: =Renato!C70 -> 0 | D67: =Renato!D70 -> 0 | E67: =Renato!E70 -> 1 | F67: =Renato!F70 -> 0 | G67: =Renato!G70 -> 0 | H67: =Renato!H70 -> 0 | I67: =Renato!I70 -> 0 | J67: =Renato!J70 -> 0
A68: Sandro | B68: =Sandro!B70 -> 31421 | C68: =Sandro!C70 -> 0 | D68: =Sandro!D70 -> 0 | E68: =Sandro!E70 -> 0 | F68: =Sandro!F70 -> 0 | G68: =Sandro!G70 -> 0 | H68: =Sandro!H70 -> 0 | I68: =Sandro!I70 -> 0 | J68: =Sandro!J70 -> 0
A69: Sidney | B69: =Sidney!B70 -> 13395 | C69: =Sidney!C70 -> 0 | D69: =Sidney!D70 -> 0 | E69: =Sidney!E70 -> 1 | F69: =Sidney!F70 -> 0 | G69: =Sidney!G70 -> 0 | H69: =Sidney!H70 -> 1 | I69: =Sidney!I70 -> 0 | J69: =Sidney!J70 -> 0
A70: Total | B70: =SUM(B59:B69) -> 386183 | C70: =SUM(C59:C69) -> 0 | D70: =SUM(D59:D69) -> 0 | E70: =SUM(E59:E69) -> 4 | F70: =SUM(F59:F69) -> 0 | G70: =SUM(G59:G69) -> 1 | H70: =SUM(H59:H69) -> 2 | I70: =SUM(I59:I69) -> 0 | J70: =SUM(J59:J69) -> 1

Sheet Delcio
A6: Délcio
B56: Peso Entregue | C56: Mercadoria que se consegue vender pelo caminho | D56: Mercadoria devolvida por condições do produto | E56: Mercadoria que volta por carregamento errado | F56: Acertos que não fecham | G56: Cobranças que voltam | H56: Cheques errados | I56: Nr de vezes passado o limite de velocidade | J56: Mercadoria que é entregue errada | M56: Gerencia bem as atividades – cumpre seu prazo de entrega, é sempre preciso no que faz e planeja metas. | N56: Assume as consequencias de seus atos erros ou acertos, aceitando e reconhecendo suas falhas. | O56: É claro na transmissão de informações. | P56: Disponibilidade de ouvir e, possivelmente, aceitar opiniões diversas. | Q56: Compreende a forma como o seu trabalho impata o trabalho dos outros. | R56: Encoraja as pessoas a fazerem o seu melhor, incentiva e transmite segurança. | S56: Compreende e se sensibiliza com os sentimentos e necessidades dos outros. | T56: Trata as pessoas com respeito. | U56: É pessoalmente comprometido com a Difrisul.
A57: 12.09 | B57: =[1]Motoristas!B$17 -> 0 | C57: =[1]Motoristas!C$17 -> 0 | D57: =[1]Motoristas!D$17 -> 0 | E57: =[1]Motoristas!E$17 -> 0 | F57: =[1]Motoristas!F$17 -> 0 | G57: =[1]Motoristas!G$17 -> 0 | H57: =[1]Motoristas!H$17 -> 0 | I57: =[1]Motoristas!I$17 -> 0 | J57: =[1]Motoristas!J$17 -> 0 | L57: Jan | M57: =[14]Janeiro!T$11 -> 0 | N57: =[14]Janeiro!U$11 -> 0 | O57: =[14]Janeiro!V$11 -> 0 | P57: =[14]Janeiro!W$11 -> 0 | Q57: =[14]Janeiro!X$11 -> 0 | R57: =[14]Janeiro!Y$11 -> 0 | S57: =[14]Janeiro!Z$11 -> 0 | T57: =[14]Janeiro!AA$11 -> 0 | U57: =[14]Janeiro!AB$11 -> 0
A58: 01.10 | B58: =[2]Motoristas!B$17 -> 31669 | C58: =[2]Motoristas!C$17 -> 0 | D58: =[2]Motoristas!D$17 -> 0 | E58: =[2]Motoristas!E$17 -> 0 | F58: =[2]Motoristas!F$17 -> 0 | G58: =[2]Motoristas!G$17 -> 0 | H58: =[2]Motoristas!H$17 -> 0 | I58: =[2]Motoristas!I$17 -> 0 | J58: =[2]Motoristas!J$17 -> 0 | L58: Julho | M58: =[14]Julho!T$11 -> 0 | N58: =[14]Julho!U$11 -> 0 | O58: =[14]Julho!V$11 -> 0 | P58: =[14]Julho!W$11 -> 0 | Q58: =[14]Julho!X$11 -> 0 | R58: =[14]Julho!Y$11 -> 0 | S58: =[14]Julho!Z$11 -> 0 | T58: =[14]Julho!AA$11 -> 0 | U58: =[14]Julho!AB$11 -> 0
A59: 02.10 | B59: =[3]Motoristas!B$17 -> 0 | C59: =[3]Motoristas!C$17 -> 0 | D59: =[3]Motoristas!D$17 -> 0 | E59: =[3]Motoristas!E$17 -> 0 | F59: =[3]Motoristas!F$17 -> 0 | G59: =[3]Motoristas!G$17 -> 0 | H59: =[3]Motoristas!H$17 -> 0 | I59: =[3]Motoristas!I$17 -> 0 | J59: =[3]Motoristas!J$17 -> 0 | L59: Nov | M59: =[14]Novembro!T$11 -> 0 | N59: =[14]Novembro!U$11 -> 0 | O59: =[14]Novembro!V$11 -> 0 | P59: =[14]Novembro!W$11 -> 0 | Q59: =[14]Novembro!X$11 -> 0 | R59: =[14]Novembro!Y$11 -> 0 | S59: =[14]Novembro!Z$11 -> 0 | T59: =[14]Novembro!AA$11 -> 0 | U59: =[14]Novembro!AB$11 -> 0
A60: 03.10 | B60: =[4]Motoristas!B$17 -> 0 | C60: =[4]Motoristas!C$17 -> 0 | D60: =[4]Motoristas!D$17 -> 0 | E60: =[4]Motoristas!E$17 -> 0 | F60: =[4]Motoristas!F$17 -> 0 | G60: =[4]Motoristas!G$17 -> 0 | H60: =[4]Motoristas!H$17 -> 0 | I60: =[4]Motoristas!I$17 -> 0 | J60: =[4]Motoristas!J$17 -> 0
A61: 04.10 | B61: =[5]Motoristas!B$17 -> 0 | C61: =[5]Motoristas!C$17 -> 0 | D61: =[5]Motoristas!D$17 -> 0 | E61: =[5]Motoristas!E$17 -> 0 | F61: =[5]Motoristas!F$17 -> 0 | G61: =[5]Motoristas!G$17 -> 0 | H61: =[5]Motoristas!H$17 -> 0 | I61: =[5]Motoristas!I$17 -> 0 | J61: =[5]Motoristas!J$17 -> 0
A62: 05.10 | B62: =[6]Motoristas!B$17 -> 0 | C62: =[6]Motoristas!C$17 -> 0 | D62: =[6]Motoristas!D$17 -> 0 | E62: =[6]Motoristas!E$17 -> 0 | F62: =[6]Motoristas!F$17 -> 0 | G62: =[6]Motoristas!G$17 -> 0 | H62: =[6]Motoristas!H$17 -> 0 | I62: =[6]Motoristas!I$17 -> 0 | J62: =[6]Motoristas!J$17 -> 0
A63: 06.10 | B63: =[7]Motoristas!B$17 -> 0 | C63: =[7]Motoristas!C$17 -> 0 | D63: =[7]Motoristas!D$17 -> 0 | E63: =[7]Motoristas!E$17 -> 0 | F63: =[7]Motoristas!F$17 -> 0 | G63: =[7]Motoristas!G$17 -> 0 | H63: =[7]Motoristas!H$17 -> 0 | I63: =[7]Motoristas!I$17 -> 0 | J63: =[7]Motoristas!J$17 -> 0
A64: 07.10 | B64: =[8]Motoristas!B$17 -> 0 | C64: =[8]Motoristas!C$17 -> 0 | D64: =[8]Motoristas!D$17 -> 0 | E64: =[8]Motoristas!E$17 -> 0 | F64: =[8]Motoristas!F$17 -> 0 | G64: =[8]Motoristas!G$17 -> 0 | H64: =[8]Motoristas!H$17 -> 0 | I64: =[8]Motoristas!I$17 -> 0 | J64: =[8]Motoristas!J$17 -> 0
A65: 08.10 | B65: =[9]Motoristas!B$17 -> 0 | C65: =[9]Motoristas!C$17 -> 0 | D65: =[9]Motoristas!D$17 -> 0 | E65: =[9]Motoristas!E$17 -> 0 | F65: =[9]Motoristas!F$17 -> 0 | G65: =[9]Motoristas!G$17 -> 0 | H65: =[9]Motoristas!H$17 -> 0 | I65: =[9]Motoristas!I$17 -> 0 | J65: =[9]Motoristas!J$17 -> 0
A66: 09.10 | B66: =[10]Motoristas!B$17 -> 0 | C66: =[10]Motoristas!C$17 -> 0 | D66: =[10]Motoristas!D$17 -> 0 | E66: =[10]Motoristas!E$17 -> 0 | F66: =[10]Motoristas!F$17 -> 0 | G66: =[10]Motoristas!G$17 -> 0 | H66: =[10]Motoristas!H$17 -> 0 | I66: =[10]Motoristas!I$17 -> 0 | J66: =[10]Motoristas!J$17 -> 0
A67: 10.10 | B67: =[11]Motoristas!B$17 -> 0 | C67: =[11]Motoristas!C$17 -> 0 | D67: =[11]Motoristas!D$17 -> 0 | E67: =[11]Motoristas!E$17 -> 0 | F67: =[11]Motoristas!F$17 -> 0 | G67: =[11]Motoristas!G$17 -> 0 | H67: =[11]Motoristas!H$17 -> 0 | I67: =[11]Motoristas!I$17 -> 0 | J67: =[11]Motoristas!J$17 -> 0
A68: 11.10 | B68: =[12]Motoristas!B$17 -> 0 | C68: =[12]Motoristas!C$17 -> 0 | D68: =[12]Motoristas!D$17 -> 0 | E68: =[12]Motoristas!E$17 -> 0 | F68: =[12]Motoristas!F$17 -> 0 | G68: =[12]Motoristas!G$17 -> 0 | H68: =[12]Motoristas!H$17 -> 0 | I68: =[12]Motoristas!I$17 -> 0 | J68: =[12]Motoristas!J$17 -> 0
A69: 12.10 | B69: =[13]Motoristas!B$17 -> 0 | C69: =[13]Motoristas!C$17 -> 0 | D69: =[13]Motoristas!D$17 -> 0 | E69: =[13]Motoristas!E$17 -> 0 | F69: =[13]Motoristas!F$17 -> 0 | G69: =[13]Motoristas!G$17 -> 0 | H69: =[13]Motoristas!H$17 -> 0 | I69: =[13]Motoristas!I$17 -> 0 | J69: =[13]Motoristas!J$17 -> 0
A70: Total | B70: =SUM(B57:B69) -> 31669 | C70: =SUM(C57:C69) -> 0 | D70: =SUM(D57:D69) -> 0 | E70: =SUM(E57:E69) -> 0 | F70: =SUM(F57:F69) -> 0 | G70: =SUM(G57:G69) -> 0 | H70: =SUM(H57:H69) -> 0 | I70: =SUM(I57:I69) -> 0 | J70: =SUM(J57:J69) -> 0

Sheet Climar
A6: Climar
B56: Peso Entregue | C56: Mercadoria que se consegue vender pelo caminho | D56: Mercadoria devolvida por condições do produto | E56: Mercadoria que volta por carregamento errado | F56: Acertos que não fecham | G56: Cobranças que voltam | H56: Cheques errados | I56: Nr de vezes passado o limite de velocidade | J56: Mercadoria que é entregue errada | M56: Gerencia bem as atividades – cumpre seu prazo de entrega, é sempre preciso no que faz e planeja metas. | N56: Assume as consequencias de seus atos erros ou acertos, aceitando e reconhecendo suas falhas. | O56: É claro na transmissão de informações. | P56: Disponibilidade de ouvir e, possivelmente, aceitar opiniões diversas. | Q56: Compreende a forma como o seu trabalho impata o trabalho dos outros. | R56: Encoraja as pessoas a fazerem o seu melhor, incentiva e transmite segurança. | S56: Compreende e se sensibiliza com os sentimentos e necessidades dos outros. | T56: Trata as pessoas com respeito. | U56: É pessoalmente comprometido com a Difrisul.
A57: 12.09 | B57: =[1]Motoristas!B$18 -> 0 | C57: =[1]Motoristas!C$18 -> 0 | D57: =[1]Motoristas!D$18 -> 0 | E57: =[1]Motoristas!E$18 -> 0 | F57: =[1]Motoristas!F$18 -> 0 | G57: =[1]Motoristas!G$18 -> 0 | H57: =[1]Motoristas!H$18 -> 0 | I57: =[1]Motoristas!I$18 -> 0 | J57: =[1]Motoristas!J$18 -> 0 | L57: Jan | M57: =[14]Janeiro!T$9 -> 0 | N57: =[14]Janeiro!U$9 -> 0 | O57: =[14]Janeiro!V$9 -> 0 | P57: =[14]Janeiro!W$9 -> 0 | Q57: =[14]Janeiro!X$9 -> 0 | R57: =[14]Janeiro!Y$9 -> 0 | S57: =[14]Janeiro!Z$9 -> 0 | T57: =[14]Janeiro!AA$9 -> 0 | U57: =[14]Janeiro!AB$9 -> 0
A58: 01.10 | B58: =[2]Motoristas!B$18 -> 21932 | C58: =[2]Motoristas!C$18 -> 0 | D58: =[2]Motoristas!D$18 -> 0 | E58: =[2]Motoristas!E$18 -> 0 | F58: =[2]Motoristas!F$18 -> 0 | G58: =[2]Motoristas!G$18 -> 1 | H58: =[2]Motoristas!H$18 -> 0 | I58: =[2]Motoristas!I$18 -> 0 | J58: =[2]Motoristas!J$18 -> 1 | L58: Julho | M58: =[14]Julho!T$9 -> 0 | N58: =[14]Julho!U$9 -> 0 | O58: =[14]Julho!V$9 -> 0 | P58: =[14]Julho!W$9 -> 0 | Q58: =[14]Julho!X$9 -> 0 | R58: =[14]Julho!Y$9 -> 0 | S58: =[14]Julho!Z$9 -> 0 | T58: =[14]Julho!AA$9 -> 0 | U58: =[14]Julho!AB$9 -> 0
A59: 02.10 | B59: =[3]Motoristas!B$18 -> 0 | C59: =[3]Motoristas!C$18 -> 0 | D59: =[3]Motoristas!D$18 -> 0 | E59: =[3]Motoristas!E$18 -> 0 | F59: =[3]Motoristas!F$18 -> 0 | G59: =[3]Motoristas!G$18 -> 0 | H59: =[3]Motoristas!H$18 -> 0 | I59: =[3]Motoristas!I$18 -> 0 | J59: =[3]Motoristas!J$18 -> 0 | L59: Nov | M59: =[14]Novembro!T$9 -> 0 | N59: =[14]Novembro!U$9 -> 0 | O59: =[14]Novembro!V$9 -> 0 | P59: =[14]Novembro!W$9 -> 0 | Q59: =[14]Novembro!X$9 -> 0 | R59: =[14]Novembro!Y$9 -> 0 | S59: =[14]Novembro!Z$9 -> 0 | T59: =[14]Novembro!AA$9 -> 0 | U59: =[14]Novembro!AB$9 -> 0
A60: 03.10 | B60: =[4]Motoristas!B$18 -> 0 | C60: =[4]Motoristas!C$18 -> 0 | D60: =[4]Motoristas!D$18 -> 0 | E60: =[4]Motoristas!E$18 -> 0 | F60: =[4]Motoristas!F$18 -> 0 | G60: =[4]Motoristas!G$18 -> 0 | H60: =[4]Motoristas!H$18 -> 0 | I60: =[4]Motoristas!I$18 -> 0 | J60: =[4]Motoristas!J$18 -> 0
A61: 04.10 | B61: =[5]Motoristas!B$18 -> 0 | C61: =[5]Motoristas!C$18 -> 0 | D61: =[5]Motoristas!D$18 -> 0 | E61: =[5]Motoristas!E$18 -> 0 | F61: =[5]Motoristas!F$18 -> 0 | G61: =[5]Motoristas!G$18 -> 0 | H61: =[5]Motoristas!H$18 -> 0 | I61: =[5]Motoristas!I$18 -> 0 | J61: =[5]Motoristas!J$18 -> 0
A62: 05.10 | B62: =[6]Motoristas!B$18 -> 0 | C62: =[6]Motoristas!C$18 -> 0 | D62: =[6]Motoristas!D$18 -> 0 | E62: =[6]Motoristas!E$18 -> 0 | F62: =[6]Motoristas!F$18 -> 0 | G62: =[6]Motoristas!G$18 -> 0 | H62: =[6]Motoristas!H$18 -> 0 | I62: =[6]Motoristas!I$18 -> 0 | J62: =[6]Motoristas!J$18 -> 0
A63: 06.10 | B63: =[7]Motoristas!B$18 -> 0 | C63: =[7]Motoristas!C$18 -> 0 | D63: =[7]Motoristas!D$18 -> 0 | E63: =[7]Motoristas!E$18 -> 0 | F63: =[7]Motoristas!F$18 -> 0 | G63: =[7]Motoristas!G$18 -> 0 | H63: =[7]Motoristas!H$18 -> 0 | I63: =[7]Motoristas!I$18 -> 0 | J63: =[7]Motoristas!J$18 -> 0
A64: 07.10 | B64: =[8]Motoristas!B$18 -> 0 | C64: =[8]Motoristas!C$18 -> 0 | D64: =[8]Motoristas!D$18 -> 0 | E64: =[8]Motoristas!E$18 -> 0 | F64: =[8]Motoristas!F$18 -> 0 | G64: =[8]Motoristas!G$18 -> 0 | H64: =[8]Motoristas!H$18 -> 0 | I64: =[8]Motoristas!I$18 -> 0 | J64: =[8]Motoristas!J$18 -> 0
A65: 08.10 | B65: =[9]Motoristas!B$18 -> 0 | C65: =[9]Motoristas!C$18 -> 0 | D65: =[9]Motoristas!D$18 -> 0 | E65: =[9]Motoristas!E$18 -> 0 | F65: =[9]Motoristas!F$18 -> 0 | G65: =[9]Motoristas!G$18 -> 0 | H65: =[9]Motoristas!H$18 -> 0 | I65: =[9]Motoristas!I$18 -> 0 | J65: =[9]Motoristas!J$18 -> 0
A66: 09.10 | B66: =[10]Motoristas!B$18 -> 0 | C66: =[10]Motoristas!C$18 -> 0 | D66: =[10]Motoristas!D$18 -> 0 | E66: =[10]Motoristas!E$18 -> 0 | F66: =[10]Motoristas!F$18 -> 0 | G66: =[10]Motoristas!G$18 -> 0 | H66: =[10]Motoristas!H$18 -> 0 | I66: =[10]Motoristas!I$18 -> 0 | J66: =[10]Motoristas!J$18 -> 0
A67: 10.10 | B67: =[11]Motoristas!B$18 -> 0 | C67: =[11]Motoristas!C$18 -> 0 | D67: =[11]Motoristas!D$18 -> 0 | E67: =[11]Motoristas!E$18 -> 0 | F67: =[11]Motoristas!F$18 -> 0 | G67: =[11]Motoristas!G$18 -> 0 | H67: =[11]Motoristas!H$18 -> 0 | I67: =[11]Motoristas!I$18 -> 0 | J67: =[11]Motoristas!J$18 -> 0
A68: 11.10 | B68: =[12]Motoristas!B$18 -> 0 | C68: =[12]Motoristas!C$18 -> 0 | D68: =[12]Motoristas!D$18 -> 0 | E68: =[12]Motoristas!E$18 -> 0 | F68: =[12]Motoristas!F$18 -> 0 | G68: =[12]Motoristas!G$18 -> 0 | H68: =[12]Motoristas!H$18 -> 0 | I68: =[12]Motoristas!I$18 -> 0 | J68: =[12]Motoristas!J$18 -> 0
A69: 12.10 | B69: =[13]Motoristas!B$18 -> 0 | C69: =[13]Motoristas!C$18 -> 0 | D69: =[13]Motoristas!D$18 -> 0 | E69: =[13]Motoristas!E$18 -> 0 | F69: =[13]Motoristas!F$18 -> 0 | G69: =[13]Motoristas!G$18 -> 0 | H69: =[13]Motoristas!H$18 -> 0 | I69: =[13]Motoristas!I$18 -> 0 | J69: =[13]Motoristas!J$18 -> 0
A70: Total | B70: =SUM(B57:B69) -> 21932 | C70: =SUM(C57:C69) -> 0 | D70: =SUM(D57:D69) -> 0 | E70: =SUM(E57:E69) -> 0 | F70: =SUM(F57:F69) -> 0 | G70: =SUM(G57:G69) -> 1 | H70: =SUM(H57:H69) -> 0 | I70: =SUM(I57:I69) -> 0 | J70: =SUM(J57:J69) -> 1

Sheet Ivolnei
A6: Ivolnei
B56: Peso Entregue | C56: Mercadoria que se consegue vender pelo caminho | D56: Mercadoria devolvida por condições do produto | E56: Mercadoria que volta por carregamento errado | F56: Acertos que não fecham | G56: Cobranças que voltam | H56: Cheques errados | I56: Nr de vezes passado o limite de velocidade | J56: Mercadoria que é entregue errada | M56: Gerencia bem as atividades – cumpre seu prazo de entrega, é sempre preciso no que faz e planeja metas. | N56: Assume as consequencias de seus atos erros ou acertos, aceitando e reconhecendo suas falhas. | O56: É claro na transmissão de informações. | P56: Disponibilidade de ouvir e, possivelmente, aceitar opiniões diversas. | Q56: Compreende a forma como o seu trabalho impata o trabalho dos outros. | R56: Encoraja as pessoas a fazerem o seu melhor, incentiva e transmite segurança. | S56: Compreende e se sensibiliza com os sentimentos e necessidades dos outros. | T56: Trata as pessoas com respeito. | U56: É pessoalmente comprometido com a Difrisul.
A57: 12.09 | B57: =[1]Motoristas!B$19 -> 0 | C57: =[1]Motoristas!C$19 -> 0 | D57: =[1]Motoristas!D$19 -> 0 | E57: =[1]Motoristas!E$19 -> 0 | F57: =[1]Motoristas!F$19 -> 0 | G57: =[1]Motoristas!G$19 -> 0 | H57: =[1]Motoristas!H$19 -> 0 | I57: =[1]Motoristas!I$19 -> 0 | J57: =[1]Motoristas!J$19 -> 0 | L57: Jan | M57: =[14]Janeiro!T$23 -> 0 | N57: =[14]Janeiro!U$23 -> 0 | O57: =[14]Janeiro!V$23 -> 0 | P57: =[14]Janeiro!W$23 -> 0 | Q57: =[14]Janeiro!X$23 -> 0 | R57: =[14]Janeiro!Y$23 -> 0 | S57: =[14]Janeiro!Z$23 -> 0 | T57: =[14]Janeiro!AA$23 -> 0 | U57: =[14]Janeiro!AB$23 -> 0
A58: 01.10 | B58: =[2]Motoristas!B$19 -> 37893 | C58: =[2]Motoristas!C$19 -> 0 | D58: =[2]Motoristas!D$19 -> 0 | E58: =[2]Motoristas!E$19 -> 0 | F58: =[2]Motoristas!F$19 -> 0 | G58: =[2]Motoristas!G$19 -> 0 | H58: =[2]Motoristas!H$19 -> 0 | I58: =[2]Motoristas!I$19 -> 0 | J58: =[2]Motoristas!J$19 -> 0 | L58: Julho | M58: =[14]Julho!T$23 -> 0 | N58: =[14]Julho!U$23 -> 0 | O58: =[14]Julho!V$23 -> 0 | P58: =[14]Julho!W$23 -> 0 | Q58: =[14]Julho!X$23 -> 0 | R58: =[14]Julho!Y$23 -> 0 | S58: =[14]Julho!Z$23 -> 0 | T58: =[14]Julho!AA$23 -> 0 | U58: =[14]Julho!AB$23 -> 0
A59: 02.10 | B59: =[3]Motoristas!B$19 -> 0 | C59: =[3]Motoristas!C$19 -> 0 | D59: =[3]Motoristas!D$19 -> 0 | E59: =[3]Motoristas!E$19 -> 0 | F59: =[3]Motoristas!F$19 -> 0 | G59: =[3]Motoristas!G$19 -> 0 | H59: =[3]Motoristas!H$19 -> 0 | I59: =[3]Motoristas!I$19 -> 0 | J59: =[3]Motoristas!J$19 -> 0 | L59: Nov | M59: =[14]Novembro!T$23 -> 0 | N59: =[14]Novembro!U$23 -> 0 | O59: =[14]Novembro!V$23 -> 0 | P59: =[14]Novembro!W$23 -> 0 | Q59: =[14]Novembro!X$23 -> 0 | R59: =[14]Novembro!Y$23 -> 0 | S59: =[14]Novembro!Z$23 -> 0 | T59: =[14]Novembro!AA$23 -> 0 | U59: =[14]Novembro!AB$23 -> 0
A60: 03.10 | B60: =[4]Motoristas!B$19 -> 0 | C60: =[4]Motoristas!C$19 -> 0 | D60: =[4]Motoristas!D$19 -> 0 | E60: =[4]Motoristas!E$19 -> 0 | F60: =[4]Motoristas!F$19 -> 0 | G60: =[4]Motoristas!G$19 -> 0 | H60: =[4]Motoristas!H$19 -> 0 | I60: =[4]Motoristas!I$19 -> 0 | J60: =[4]Motoristas!J$19 -> 0
A61: 04.10 | B61: =[5]Motoristas!B$19 -> 0 | C61: =[5]Motoristas!C$19 -> 0 | D61: =[5]Motoristas!D$19 -> 0 | E61: =[5]Motoristas!E$19 -> 0 | F61: =[5]Motoristas!F$19 -> 0 | G61: =[5]Motoristas!G$19 -> 0 | H61: =[5]Motoristas!H$19 -> 0 | I61: =[5]Motoristas!I$19 -> 0 | J61: =[5]Motoristas!J$19 -> 0
A62: 05.10 | B62: =[6]Motoristas!B$19 -> 0 | C62: =[6]Motoristas!C$19 -> 0 | D62: =[6]Motoristas!D$19 -> 0 | E62: =[6]Motoristas!E$19 -> 0 | F62: =[6]Motoristas!F$19 -> 0 | G62: =[6]Motoristas!G$19 -> 0 | H62: =[6]Motoristas!H$19 -> 0 | I62: =[6]Motoristas!I$19 -> 0 | J62: =[6]Motoristas!J$19 -> 0
A63: 06.10 | B63: =[7]Motoristas!B$19 -> 0 | C63: =[7]Motoristas!C$19 -> 0 | D63: =[7]Motoristas!D$19 -> 0 | E63: =[7]Motoristas!E$19 -> 0 | F63: =[7]Motoristas!F$19 -> 0 | G63: =[7]Motoristas!G$19 -> 0 | H63: =[7]Motoristas!H$19 -> 0 | I63: =[7]Motoristas!I$19 -> 0 | J63: =[7]Motoristas!J$19 -> 0
A64: 07.10 | B64: =[8]Motoristas!B$19 -> 0 | C64: =[8]Motoristas!C$19 -> 0 | D64: =[8]Motoristas!D$19 -> 0 | E64: =[8]Motoristas!E$19 -> 0 | F64: =[8]Motoristas!F$19 -> 0 | G64: =[8]Motoristas!G$19 -> 0 | H64: =[8]Motoristas!H$19 -> 0 | I64: =[8]Motoristas!I$19 -> 0 | J64: =[8]Motoristas!J$19 -> 0
A65: 08.10 | B65: =[9]Motoristas!B$19 -> 0 | C65: =[9]Motoristas!C$19 -> 0 | D65: =[9]Motoristas!D$19 -> 0 | E65: =[9]Motoristas!E$19 -> 0 | F65: =[9]Motoristas!F$19 -> 0 | G65: =[9]Motoristas!G$19 -> 0 | H65: =[9]Motoristas!H$19 -> 0 | I65: =[9]Motoristas!I$19 -> 0 | J65: =[9]Motoristas!J$19 -> 0
A66: 09.10 | B66: =[10]Motoristas!B$19 -> 0 | C66: =[10]Motoristas!C$19 -> 0 | D66: =[10]Motoristas!D$19 -> 0 | E66: =[10]Motoristas!E$19 -> 0 | F66: =[10]Motoristas!F$19 -> 0 | G66: =[10]Motoristas!G$19 -> 0 | H66: =[10]Motoristas!H$19 -> 0 | I66: =[10]Motoristas!I$19 -> 0 | J66: =[10]Motoristas!J$19 -> 0
A67: 10.10 | B67: =[11]Motoristas!B$19 -> 0 | C67: =[11]Motoristas!C$19 -> 0 | D67: =[11]Motoristas!D$19 -> 0 | E67: =[11]Motoristas!E$19 -> 0 | F67: =[11]Motoristas!F$19 -> 0 | G67: =[11]Motoristas!G$19 -> 0 | H67: =[11]Motoristas!H$19 -> 0 | I67: =[11]Motoristas!I$19 -> 0 | J67: =[11]Motoristas!J$19 -> 0
A68: 11.10 | B68: =[12]Motoristas!B$19 -> 0 | C68: =[12]Motoristas!C$19 -> 0 | D68: =[12]Motoristas!D$19 -> 0 | E68: =[12]Motoristas!E$19 -> 0 | F68: =[12]Motoristas!F$19 -> 0 | G68: =[12]Motoristas!G$19 -> 0 | H68: =[12]Motoristas!H$19 -> 0 | I68: =[12]Motoristas!I$19 -> 0 | J68: =[12]Motoristas!J$19 -> 0
A69: 12.10 | B69: =[13]Motoristas!B$19 -> 0 | C69: =[13]Motoristas!C$19 -> 0 | D69: =[13]Motoristas!D$19 -> 0 | E69: =[13]Motoristas!E$19 -> 0 | F69: =[13]Motoristas!F$19 -> 0 | G69: =[13]Motoristas!G$19 -> 0 | H69: =[13]Motoristas!H$19 -> 0 | I69: =[13]Motoristas!I$19 -> 0 | J69: =[13]Motoristas!J$19 -> 0
A70: Total | B70: =SUM(B57:B69) -> 37893 | C70: =SUM(C57:C69) -> 0 | D70: =SUM(D57:D69) -> 0 | E70: =SUM(E57:E69) -> 0 | F70: =SUM(F57:F69) -> 0 | G70: =SUM(G57:G69) -> 0 | H70: =SUM(H57:H69) -> 0 | I70: =SUM(I57:I69) -> 0 | J70: =SUM(J57:J69) -> 0

Sheet Jacir
A6: Jacir
B56: Peso Entregue | C56: Mercadoria que se consegue vender pelo caminho | D56: Mercadoria devolvida por condições do produto | E56: Mercadoria que volta por carregamento errado | F56: Acertos que não fecham | G56: Cobranças que voltam | H56: Cheques errados | I56: Nr de vezes passado o limite de velocidade | J56: Mercadoria que é entregue errada | M56: Gerencia bem as atividades – cumpre seu prazo de entrega, é sempre preciso no que faz e planeja metas. | N56: Assume as consequencias de seus atos erros ou acertos, aceitando e reconhecendo suas falhas. | O56: É claro na transmissão de informações. | P56: Disponibilidade de ouvir e, possivelmente, aceitar opiniões diversas. | Q56: Compreende a forma como o seu trabalho impata o trabalho dos outros. | R56: Encoraja as pessoas a fazerem o seu melhor, incentiva e transmite segurança. | S56: Compreende e se sensibiliza com os sentimentos e necessidades dos outros. | T56: Trata as pessoas com respeito. | U56: É pessoalmente comprometido com a Difrisul.
A57: 12.09 | B57: =[1]Motoristas!B$20 -> 0 | C57: =[1]Motoristas!C$20 -> 0 | D57: =[1]Motoristas!D$20 -> 0 | E57: =[1]Motoristas!E$20 -> 0 | F57: =[1]Motoristas!F$20 -> 0 | G57: =[1]Motoristas!G$20 -> 0 | H57: =[1]Motoristas!H$20 -> 0 | I57: =[1]Motoristas!I$20 -> 0 | J57: =[1]Motoristas!J$20 -> 0 | L57: Jan | M57: =[14]Janeiro!T$24 -> 0 | N57: =[14]Janeiro!U$24 -> 0 | O57: =[14]Janeiro!V$24 -> 0 | P57: =[14]Janeiro!W$24 -> 0 | Q57: =[14]Janeiro!X$24 -> 0 | R57: =[14]Janeiro!Y$24 -> 0 | S57: =[14]Janeiro!Z$24 -> 0 | T57: =[14]Janeiro!AA$24 -> 0 | U57: =[14]Janeiro!AB$24 -> 0
A58: 01.10 | B58: =[2]Motoristas!B$20 -> 31332 | C58: =[2]Motoristas!C$20 -> 0 | D58: =[2]Motoristas!D$20 -> 0 | E58: =[2]Motoristas!E$20 -> 0 | F58: =[2]Motoristas!F$20 -> 0 | G58: =[2]Motoristas!G$20 -> 0 | H58: =[2]Motoristas!H$20 -> 0 | I58: =[2]Motoristas!I$20 -> 0 | J58: =[2]Motoristas!J$20 -> 0 | L58: Julho | M58: =[14]Julho!T$24 -> 0 | N58: =[14]Julho!U$24 -> 0 | O58: =[14]Julho!V$24 -> 0 | P58: =[14]Julho!W$24 -> 0 | Q58: =[14]Julho!X$24 -> 0 | R58: =[14]Julho!Y$24 -> 0 | S58: =[14]Julho!Z$24 -> 0 | T58: =[14]Julho!AA$24 -> 0 | U58: =[14]Julho!AB$24 -> 0
A59: 02.10 | B59: =[3]Motoristas!B$20 -> 0 | C59: =[3]Motoristas!C$20 -> 0 | D59: =[3]Motoristas!D$20 -> 0 | E59: =[3]Motoristas!E$20 -> 0 | F59: =[3]Motoristas!F$20 -> 0 | G59: =[3]Motoristas!G$20 -> 0 | H59: =[3]Motoristas!H$20 -> 0 | I59: =[3]Motoristas!I$20 -> 0 | J59: =[3]Motoristas!J$20 -> 0 | L59: Nov | M59: =[14]Novembro!T$24 -> 0 | N59: =[14]Novembro!U$24 -> 0 | O59: =[14]Novembro!V$24 -> 0 | P59: =[14]Novembro!W$24 -> 0 | Q59: =[14]Novembro!X$24 -> 0 | R59: =[14]Novembro!Y$24 -> 0 | S59: =[14]Novembro!Z$24 -> 0 | T59: =[14]Novembro!AA$24 -> 0 | U59: =[14]Novembro!AB$24 -> 0
A60: 03.10 | B60: =[4]Motoristas!B$20 -> 0 | C60: =[4]Motoristas!C$20 -> 0 | D60: =[4]Motoristas!D$20 -> 0 | E60: =[4]Motoristas!E$20 -> 0 | F60: =[4]Motoristas!F$20 -> 0 | G60: =[4]Motoristas!G$20 -> 0 | H60: =[4]Motoristas!H$20 -> 0 | I60: =[4]Motoristas!I$20 -> 0 | J60: =[4]Motoristas!J$20 -> 0
A61: 04.10 | B61: =[5]Motoristas!B$20 -> 0 | C61: =[5]Motoristas!C$20 -> 0 | D61: =[5]Motoristas!D$20 -> 0 | E61: =[5]Motoristas!E$20 -> 0 | F61: =[5]Motoristas!F$20 -> 0 | G61: =[5]Motoristas!G$20 -> 0 | H61: =[5]Motoristas!H$20 -> 0 | I61: =[5]Motoristas!I$20 -> 0 | J61: =[5]Motoristas!J$20 -> 0
A62: 05.10 | B62: =[6]Motoristas!B$20 -> 0 | C62: =[6]Motoristas!C$20 -> 0 | D62: =[6]Motoristas!D$20 -> 0 | E62: =[6]Motoristas!E$20 -> 0 | F62: =[6]Motoristas!F$20 -> 0 | G62: =[6]Motoristas!G$20 -> 0 | H62: =[6]Motoristas!H$20 -> 0 | I62: =[6]Motoristas!I$20 -> 0 | J62: =[6]Motoristas!J$20 -> 0
A63: 06.10 | B63: =[7]Motoristas!B$20 -> 0 | C63: =[7]Motoristas!C$20 -> 0 | D63: =[7]Motoristas!D$20 -> 0 | E63: =[7]Motoristas!E$20 -> 0 | F63: =[7]Motoristas!F$20 -> 0 | G63: =[7]Motoristas!G$20 -> 0 | H63: =[7]Motoristas!H$20 -> 0 | I63: =[7]Motoristas!I$20 -> 0 | J63: =[7]Motoristas!J$20 -> 0
A64: 07.10 | B64: =[8]Motoristas!B$20 -> 0 | C64: =[8]Motoristas!C$20 -> 0 | D64: =[8]Motoristas!D$20 -> 0 | E64: =[8]Motoristas!E$20 -> 0 | F64: =[8]Motoristas!F$20 -> 0 | G64: =[8]Motoristas!G$20 -> 0 | H64: =[8]Motoristas!H$20 -> 0 | I64: =[8]Motoristas!I$20 -> 0 | J64: =[8]Motoristas!J$20 -> 0
A65: 08.10 | B65: =[9]Motoristas!B$20 -> 0 | C65: =[9]Motoristas!C$20 -> 0 | D65: =[9]Motoristas!D$20 -> 0 | E65: =[9]Motoristas!E$20 -> 0 | F65: =[9]Motoristas!F$20 -> 0 | G65: =[9]Motoristas!G$20 -> 0 | H65: =[9]Motoristas!H$20 -> 0 | I65: =[9]Motoristas!I$20 -> 0 | J65: =[9]Motoristas!J$20 -> 0
A66: 09.10 | B66: =[10]Motoristas!B$20 -> 0 | C66: =[10]Motoristas!C$20 -> 0 | D66: =[10]Motoristas!D$20 -> 0 | E66: =[10]Motoristas!E$20 -> 0 | F66: =[10]Motoristas!F$20 -> 0 | G66: =[10]Motoristas!G$20 -> 0 | H66: =[10]Motoristas!H$20 -> 0 | I66: =[10]Motoristas!I$20 -> 0 | J66: =[10]Motoristas!J$20 -> 0
A67: 10.10 | B67: =[11]Motoristas!B$20 -> 0 | C67: =[11]Motoristas!C$20 -> 0 | D67: =[11]Motoristas!D$20 -> 0 | E67: =[11]Motoristas!E$20 -> 0 | F67: =[11]Motoristas!F$20 -> 0 | G67: =[11]Motoristas!G$20 -> 0 | H67: =[11]Motoristas!H$20 -> 0 | I67: =[11]Motoristas!I$20 -> 0 | J67: =[11]Motoristas!J$20 -> 0
A68: 11.10 | B68: =[12]Motoristas!B$20 -> 0 | C68: =[12]Motoristas!C$20 -> 0 | D68: =[12]Motoristas!D$20 -> 0 | E68: =[12]Motoristas!E$20 -> 0 | F68: =[12]Motoristas!F$20 -> 0 | G68: =[12]Motoristas!G$20 -> 0 | H68: =[12]Motoristas!H$20 -> 0 | I68: =[12]Motoristas!I$20 -> 0 | J68: =[12]Motoristas!J$20 -> 0
A69: 12.10 | B69: =[13]Motoristas!B$20 -> 0 | C69: =[13]Motoristas!C$20 -> 0 | D69: =[13]Motoristas!D$20 -> 0 | E69: =[13]Motoristas!E$20 -> 0 | F69: =[13]Motoristas!F$20 -> 0 | G69: =[13]Motoristas!G$20 -> 0 | H69: =[13]Motoristas!H$20 -> 0 | I69: =[13]Motoristas!I$20 -> 0 | J69: =[13]Motoristas!J$20 -> 0
A70: Total | B70: =SUM(B57:B69) -> 31332 | C70: =SUM(C57:C69) -> 0 | D70: =SUM(D57:D69) -> 0 | E70: =SUM(E57:E69) -> 0 | F70: =SUM(F57:F69) -> 0 | G70: =SUM(G57:G69) -> 0 | H70: =SUM(H57:H69) -> 0 | I70: =SUM(I57:I69) -> 0 | J70: =SUM(J57:J69) -> 0

Sheet Leandro
A6: Leandro
B56: Peso Entregue | C56: Mercadoria que se consegue vender pelo caminho | D56: Mercadoria devolvida por condições do produto | E56: Mercadoria que volta por carregamento errado | F56: Acertos que não fecham | G56: Cobranças que voltam | H56: Cheques errados | I56: Nr de vezes passado o limite de velocidade | J56: Mercadoria que é entregue errada | M56: Gerencia bem as atividades – cumpre seu prazo de entrega, é sempre preciso no que faz e planeja metas. | N56: Assume as consequencias de seus atos erros ou acertos, aceitando e reconhecendo suas falhas. | O56: É claro na transmissão de informações. | P56: Disponibilidade de ouvir e, possivelmente, aceitar opiniões diversas. | Q56: Compreende a forma como o seu trabalho impata o trabalho dos outros. | R56: Encoraja as pessoas a fazerem o seu melhor, incentiva e transmite segurança. | S56: Compreende e se sensibiliza com os sentimentos e necessidades dos outros. | T56: Trata as pessoas com respeito. | U56: É pessoalmente comprometido com a Difrisul.
A57: 12.09 | B57: =[1]Motoristas!B$21 -> 0 | C57: =[1]Motoristas!C$21 -> 0 | D57: =[1]Motoristas!D$21 -> 0 | E57: =[1]Motoristas!E$21 -> 0 | F57: =[1]Motoristas!F$21 -> 0 | G57: =[1]Motoristas!G$21 -> 0 | H57: =[1]Motoristas!H$21 -> 0 | I57: =[1]Motoristas!I$21 -> 0 | J57: =[1]Motoristas!J$21 -> 0 | L57: Jan | M57: =[14]Janeiro!T$29 -> 0 | N57: =[14]Janeiro!U$29 -> 0 | O57: =[14]Janeiro!V$29 -> 0 | P57: =[14]Janeiro!W$29 -> 0 | Q57: =[14]Janeiro!X$29 -> 0 | R57: =[14]Janeiro!Y$29 -> 0 | S57: =[14]Janeiro!Z$29 -> 0 | T57: =[14]Janeiro!AA$29 -> 0 | U57: =[14]Janeiro!AB$29 -> 0
A58: 01.10 | B58: =[2]Motoristas!B$21 -> 24085 | C58: =[2]Motoristas!C$21 -> 0 | D58: =[2]Motoristas!D$21 -> 0 | E58: =[2]Motoristas!E$21 -> 0 | F58: =[2]Motoristas!F$21 -> 0 | G58: =[2]Motoristas!G$21 -> 0 | H58: =[2]Motoristas!H$21 -> 0 | I58: =[2]Motoristas!I$21 -> 0 | J58: =[2]Motoristas!J$21 -> 0 | L58: Julho | M58: =[14]Julho!T$29 -> 0 | N58: =[14]Julho!U$29 -> 0 | O58: =[14]Julho!V$29 -> 0 | P58: =[14]Julho!W$29 -> 0 | Q58: =[14]Julho!X$29 -> 0 | R58: =[14]Julho!Y$29 -> 0 | S58: =[14]Julho!Z$29 -> 0 | T58: =[14]Julho!AA$29 -> 0 | U58: =[14]Julho!AB$29 -> 0
A59: 02.10 | B59: =[3]Motoristas!B$21 -> 0 | C59: =[3]Motoristas!C$21 -> 0 | D59: =[3]Motoristas!D$21 -> 0 | E59: =[3]Motoristas!E$21 -> 0 | F59: =[3]Motoristas!F$21 -> 0 | G59: =[3]Motoristas!G$21 -> 0 | H59: =[3]Motoristas!H$21 -> 0 | I59: =[3]Motoristas!I$21 -> 0 | J59: =[3]Motoristas!J$21 -> 0 | L59: Nov | M59: =[14]Novembro!T$29 -> 0 | N59: =[14]Novembro!U$29 -> 0 | O59: =[14]Novembro!V$29 -> 0 | P59: =[14]Novembro!W$29 -> 0 | Q59: =[14]Novembro!X$29 -> 0 | R59: =[14]Novembro!Y$29 -> 0 | S59: =[14]Novembro!Z$29 -> 0 | T59: =[14]Novembro!AA$29 -> 0 | U59: =[14]Novembro!AB$29 -> 0
A60: 03.10 | B60: =[4]Motoristas!B$21 -> 0 | C60: =[4]Motoristas!C$21 -> 0 | D60: =[4]Motoristas!D$21 -> 0 | E60: =[4]Motoristas!E$21 -> 0 | F60: =[4]Motoristas!F$21 -> 0 | G60: =[4]Motoristas!G$21 -> 0 | H60: =[4]Motoristas!H$21 -> 0 | I60: =[4]Motoristas!I$21 -> 0 | J60: =[4]Motoristas!J$21 -> 0
A61: 04.10 | B61: =[5]Motoristas!B$21 -> 0 | C61: =[5]Motoristas!C$21 -> 0 | D61: =[5]Motoristas!D$21 -> 0 | E61: =[5]Motoristas!E$21 -> 0 | F61: =[5]Motoristas!F$21 -> 0 | G61: =[5]Motoristas!G$21 -> 0 | H61: =[5]Motoristas!H$21 -> 0 | I61: =[5]Motoristas!I$21 -> 0 | J61: =[5]Motoristas!J$21 -> 0
A62: 05.10 | B62: =[6]Motoristas!B$21 -> 0 | C62: =[6]Motoristas!C$21 -> 0 | D62: =[6]Motoristas!D$21 -> 0 | E62: =[6]Motoristas!E$21 -> 0 | F62: =[6]Motoristas!F$21 -> 0 | G62: =[6]Motoristas!G$21 -> 0 | H62: =[6]Motoristas!H$21 -> 0 | I62: =[6]Motoristas!I$21 -> 0 | J62: =[6]Motoristas!J$21 -> 0
A63: 06.10 | B63: =[7]Motoristas!B$21 -> 0 | C63: =[7]Motoristas!C$21 -> 0 | D63: =[7]Motoristas!D$21 -> 0 | E63: =[7]Motoristas!E$21 -> 0 | F63: =[7]Motoristas!F$21 -> 0 | G63: =[7]Motoristas!G$21 -> 0 | H63: =[7]Motoristas!H$21 -> 0 | I63: =[7]Motoristas!I$21 -> 0 | J63: =[7]Motoristas!J$21 -> 0
A64: 07.10 | B64: =[8]Motoristas!B$21 -> 0 | C64: =[8]Motoristas!C$21 -> 0 | D64: =[8]Motoristas!D$21 -> 0 | E64: =[8]Motoristas!E$21 -> 0 | F64: =[8]Motoristas!F$21 -> 0 | G64: =[8]Motoristas!G$21 -> 0 | H64: =[8]Motoristas!H$21 -> 0 | I64: =[8]Motoristas!I$21 -> 0 | J64: =[8]Motoristas!J$21 -> 0
A65: 08.10 | B65: =[9]Motoristas!B$21 -> 0 | C65: =[9]Motoristas!C$21 -> 0 | D65: =[9]Motoristas!D$21 -> 0 | E65: =[9]Motoristas!E$21 -> 0 | F65: =[9]Motoristas!F$21 -> 0 | G65: =[9]Motoristas!G$21 -> 0 | H65: =[9]Motoristas!H$21 -> 0 | I65: =[9]Motoristas!I$21 -> 0 | J65: =[9]Motoristas!J$21 -> 0
A66: 09.10 | B66: =[10]Motoristas!B$21 -> 0 | C66: =[10]Motoristas!C$21 -> 0 | D66: =[10]Motoristas!D$21 -> 0 | E66: =[10]Motoristas!E$21 -> 0 | F66: =[10]Motoristas!F$21 -> 0 | G66: =[10]Motoristas!G$21 -> 0 | H66: =[10]Motoristas!H$21 -> 0 | I66: =[10]Motoristas!I$21 -> 0 | J66: =[10]Motoristas!J$21 -> 0
A67: 10.10 | B67: =[11]Motoristas!B$21 -> 0 | C67: =[11]Motoristas!C$21 -> 0 | D67: =[11]Motoristas!D$21 -> 0 | E67: =[11]Motoristas!E$21 -> 0 | F67: =[11]Motoristas!F$21 -> 0 | G67: =[11]Motoristas!G$21 -> 0 | H67: =[11]Motoristas!H$21 -> 0 | I67: =[11]Motoristas!I$21 -> 0 | J67: =[11]Motoristas!J$21 -> 0
A68: 11.10 | B68: =[12]Motoristas!B$21 -> 0 | C68: =[12]Motoristas!C$21 -> 0 | D68: =[12]Motoristas!D$21 -> 0 | E68: =[12]Motoristas!E$21 -> 0 | F68: =[12]Motoristas!F$21 -> 0 | G68: =[12]Motoristas!G$21 -> 0 | H68: =[12]Motoristas!H$21 -> 0 | I68: =[12]Motoristas!I$21 -> 0 | J68: =[12]Motoristas!J$21 -> 0
A69: 12.10 | B69: =[13]Motoristas!B$21 -> 0 | C69: =[13]Motoristas!C$21 -> 0 | D69: =[13]Motoristas!D$21 -> 0 | E69: =[13]Motoristas!E$21 -> 0 | F69: =[13]Motoristas!F$21 -> 0 | G69: =[13]Motoristas!G$21 -> 0 | H69: =[13]Motoristas!H$21 -> 0 | I69: =[13]Motoristas!I$21 -> 0 | J69: =[13]Motoristas!J$21 -> 0
A70: Total | B70: =SUM(B57:B69) -> 24085 | C70: =SUM(C57:C69) -> 0 | D70: =SUM(D57:D69) -> 0 | E70: =SUM(E57:E69) -> 0 | F70: =SUM(F57:F69) -> 0 | G70: =SUM(G57:G69) -> 0 | H70: =SUM(H57:H69) -> 0 | I70: =SUM(I57:I69) -> 0 | J70: =SUM(J57:J69) -> 0

Sheet Márcio
A6: Márcio
B56: Peso Entregue | C56: Mercadoria que se consegue vender pelo caminho | D56: Mercadoria devolvida por condições do produto | E56: Mercadoria que volta por carregamento errado | F56: Acertos que não fecham | G56: Cobranças que voltam | H56: Cheques errados | I56: Nr de vezes passado o limite de velocidade | J56: Mercadoria que é entregue errada | M56: Gerencia bem as atividades – cumpre seu prazo de entrega, é sempre preciso no que faz e planeja metas. | N56: Assume as consequencias de seus atos erros ou acertos, aceitando e reconhecendo suas falhas. | O56: É claro na transmissão de informações. | P56: Disponibilidade de ouvir e, possivelmente, aceitar opiniões diversas. | Q56: Compreende a forma como o seu trabalho impata o trabalho dos outros. | R56: Encoraja as pessoas a fazerem o seu melhor, incentiva e transmite segurança. | S56: Compreende e se sensibiliza com os sentimentos e necessidades dos outros. | T56: Trata as pessoas com respeito. | U56: É pessoalmente comprometido com a Difrisul.
A57: 12.09 | B57: =[1]Motoristas!B$22 -> 0 | C57: =[1]Motoristas!C$22 -> 0 | D57: =[1]Motoristas!D$22 -> 0 | E57: =[1]Motoristas!E$22 -> 0 | F57: =[1]Motoristas!F$22 -> 0 | G57: =[1]Motoristas!G$22 -> 0 | H57: =[1]Motoristas!H$22 -> 0 | I57: =[1]Motoristas!I$22 -> 0 | J57: =[1]Motoristas!J$22 -> 0 | L57: Jan | M57: =[14]Janeiro!T$47 -> 0 | N57: =[14]Janeiro!U$47 -> 0 | O57: =[14]Janeiro!V$47 -> 0 | P57: =[14]Janeiro!W$47 -> 0 | Q57: =[14]Janeiro!X$47 -> 0 | R57: =[14]Janeiro!Y$47 -> 0 | S57: =[14]Janeiro!Z$47 -> 0 | T57: =[14]Janeiro!AA$47 -> 0 | U57: =[14]Janeiro!AB$47 -> 0
A58: 01.10 | B58: =[2]Motoristas!B$22 -> 46319 | C58: =[2]Motoristas!C$22 -> 0 | D58: =[2]Motoristas!D$22 -> 0 | E58: =[2]Motoristas!E$22 -> 1 | F58: =[2]Motoristas!F$22 -> 0 | G58: =[2]Motoristas!G$22 -> 0 | H58: =[2]Motoristas!H$22 -> 0 | I58: =[2]Motoristas!I$22 -> 0 | J58: =[2]Motoristas!J$22 -> 0 | L58: Julho | M58: =[14]Julho!T$46 -> 0 | N58: =[14]Julho!U$46 -> 0 | O58: =[14]Julho!V$46 -> 0 | P58: =[14]Julho!W$46 -> 0 | Q58: =[14]Julho!X$46 -> 0 | R58: =[14]Julho!Y$46 -> 0 | S58: =[14]Julho!Z$46 -> 0 | T58: =[14]Julho!AA$46 -> 0 | U58: =[14]Julho!AB$46 -> 0
A59: 02.10 | B59: =[3]Motoristas!B$22 -> 0 | C59: =[3]Motoristas!C$22 -> 0 | D59: =[3]Motoristas!D$22 -> 0 | E59: =[3]Motoristas!E$22 -> 0 | F59: =[3]Motoristas!F$22 -> 0 | G59: =[3]Motoristas!G$22 -> 0 | H59: =[3]Motoristas!H$22 -> 0 | I59: =[3]Motoristas!I$22 -> 0 | J59: =[3]Motoristas!J$22 -> 0 | L59: Nov | M59: =[14]Novembro!T$45 -> 0 | N59: =[14]Novembro!U$45 -> 0 | O59: =[14]Novembro!V$45 -> 0 | P59: =[14]Novembro!W$45 -> 0 | Q59: =[14]Novembro!X$45 -> 0 | R59: =[14]Novembro!Y$45 -> 0 | S59: =[14]Novembro!Z$45 -> 0 | T59: =[14]Novembro!AA$45 -> 0 | U59: =[14]Novembro!AB$45 -> 0
A60: 03.10 | B60: =[4]Motoristas!B$22 -> 0 | C60: =[4]Motoristas!C$22 -> 0 | D60: =[4]Motoristas!D$22 -> 0 | E60: =[4]Motoristas!E$22 -> 0 | F60: =[4]Motoristas!F$22 -> 0 | G60: =[4]Motoristas!G$22 -> 0 | H60: =[4]Motoristas!H$22 -> 0 | I60: =[4]Motoristas!I$22 -> 0 | J60: =[4]Motoristas!J$22 -> 0
A61: 04.10 | B61: =[5]Motoristas!B$22 -> 0 | C61: =[5]Motoristas!C$22 -> 0 | D61: =[5]Motoristas!D$22 -> 0 | E61: =[5]Motoristas!E$22 -> 0 | F61: =[5]Motoristas!F$22 -> 0 | G61: =[5]Motoristas!G$22 -> 0 | H61: =[5]Motoristas!H$22 -> 0 | I61: =[5]Motoristas!I$22 -> 0 | J61: =[5]Motoristas!J$22 -> 0
A62: 05.10 | B62: =[6]Motoristas!B$22 -> 0 | C62: =[6]Motoristas!C$22 -> 0 | D62: =[6]Motoristas!D$22 -> 0 | E62: =[6]Motoristas!E$22 -> 0 | F62: =[6]Motoristas!F$22 -> 0 | G62: =[6]Motoristas!G$22 -> 0 | H62: =[6]Motoristas!H$22 -> 0 | I62: =[6]Motoristas!I$22 -> 0 | J62: =[6]Motoristas!J$22 -> 0
A63: 06.10 | B63: =[7]Motoristas!B$22 -> 0 | C63: =[7]Motoristas!C$22 -> 0 | D63: =[7]Motoristas!D$22 -> 0 | E63: =[7]Motoristas!E$22 -> 0 | F63: =[7]Motoristas!F$22 -> 0 | G63: =[7]Motoristas!G$22 -> 0 | H63: =[7]Motoristas!H$22 -> 0 | I63: =[7]Motoristas!I$22 -> 0 | J63: =[7]Motoristas!J$22 -> 0
A64: 07.10 | B64: =[8]Motoristas!B$22 -> 0 | C64: =[8]Motoristas!C$22 -> 0 | D64: =[8]Motoristas!D$22 -> 0 | E64: =[8]Motoristas!E$22 -> 0 | F64: =[8]Motoristas!F$22 -> 0 | G64: =[8]Motoristas!G$22 -> 0 | H64: =[8]Motoristas!H$22 -> 0 | I64: =[8]Motoristas!I$22 -> 0 | J64: =[8]Motoristas!J$22 -> 0
A65: 08.10 | B65: =[9]Motoristas!B$22 -> 0 | C65: =[9]Motoristas!C$22 -> 0 | D65: =[9]Motoristas!D$22 -> 0 | E65: =[9]Motoristas!E$22 -> 0 | F65: =[9]Motoristas!F$22 -> 0 | G65: =[9]Motoristas!G$22 -> 0 | H65: =[9]Motoristas!H$22 -> 0 | I65: =[9]Motoristas!I$22 -> 0 | J65: =[9]Motoristas!J$22 -> 0
A66: 09.10 | B66: =[10]Motoristas!B$22 -> 0 | C66: =[10]Motoristas!C$22 -> 0 | D66: =[10]Motoristas!D$22 -> 0 | E66: =[10]Motoristas!E$22 -> 0 | F66: =[10]Motoristas!F$22 -> 0 | G66: =[10]Motoristas!G$22 -> 0 | H66: =[10]Motoristas!H$22 -> 0 | I66: =[10]Motoristas!I$22 -> 0 | J66: =[10]Motoristas!J$22 -> 0
A67: 10.10 | B67: =[11]Motoristas!B$22 -> 0 | C67: =[11]Motoristas!C$22 -> 0 | D67: =[11]Motoristas!D$22 -> 0 | E67: =[11]Motoristas!E$22 -> 0 | F67: =[11]Motoristas!F$22 -> 0 | G67: =[11]Motoristas!G$22 -> 0 | H67: =[11]Motoristas!H$22 -> 0 | I67: =[11]Motoristas!I$22 -> 0 | J67: =[11]Motoristas!J$22 -> 0
A68: 11.10 | B68: =[12]Motoristas!B$22 -> 0 | C68: =[12]Motoristas!C$22 -> 0 | D68: =[12]Motoristas!D$22 -> 0 | E68: =[12]Motoristas!E$22 -> 0 | F68: =[12]Motoristas!F$22 -> 0 | G68: =[12]Motoristas!G$22 -> 0 | H68: =[12]Motoristas!H$22 -> 0 | I68: =[12]Motoristas!I$22 -> 0 | J68: =[12]Motoristas!J$22 -> 0
A69: 12.10 | B69: =[13]Motoristas!B$22 -> 0 | C69: =[13]Motoristas!C$22 -> 0 | D69: =[13]Motoristas!D$22 -> 0 | E69: =[13]Motoristas!E$22 -> 0 | F69: =[13]Motoristas!F$22 -> 0 | G69: =[13]Motoristas!G$22 -> 0 | H69: =[13]Motoristas!H$22 -> 0 | I69: =[13]Motoristas!I$22 -> 0 | J69: =[13]Motoristas!J$22 -> 0
A70: Total | B70: =SUM(B57:B69) -> 46319 | C70: =SUM(C57:C69) -> 0 | D70: =SUM(D57:D69) -> 0 | E70: =SUM(E57:E69) -> 1 | F70: =SUM(F57:F69) -> 0 | G70: =SUM(G57:G69) -> 0 | H70: =SUM(H57:H69) -> 0 | I70: =SUM(I57:I69) -> 0 | J70: =SUM(J57:J69) -> 0

Sheet Marcos
A6: Marcos
B56: Peso Entregue | C56: Mercadoria que se consegue vender pelo caminho | D56: Mercadoria devolvida por condições do produto | E56: Mercadoria que volta por carregamento errado | F56: Acertos que não fecham | G56: Cobranças que voltam | H56: Cheques errados | I56: Nr de vezes passado o limite de velocidade | J56: Mercadoria que é entregue errada | M56: Gerencia bem as atividades – cumpre seu prazo de entrega, é sempre preciso no que faz e planeja metas. | N56: Assume as consequencias de seus atos erros ou acertos, aceitando e reconhecendo suas falhas. | O56: É claro na transmissão de informações. | P56: Disponibilidade de ouvir e, possivelmente, aceitar opiniões diversas. | Q56: Compreende a forma como o seu trabalho impata o trabalho dos outros. | R56: Encoraja as pessoas a fazerem o seu melhor, incentiva e transmite segurança. | S56: Compreende e se sensibiliza com os sentimentos e necessidades dos outros. | T56: Trata as pessoas com respeito. | U56: É pessoalmente comprometido com a Difrisul.
A57: 12.09 | B57: =[1]Motoristas!B$23 -> 0 | C57: =[1]Motoristas!C$23 -> 0 | D57: =[1]Motoristas!D$23 -> 0 | E57: =[1]Motoristas!E$23 -> 0 | F57: =[1]Motoristas!F$23 -> 0 | G57: =[1]Motoristas!G$23 -> 0 | H57: =[1]Motoristas!H$23 -> 1 | I57: =[1]Motoristas!I$23 -> 0 | J57: =[1]Motoristas!J$23 -> 0 | L57: Jan | M57: =[14]Janeiro!T$32 -> 0 | N57: =[14]Janeiro!U$32 -> 0 | O57: =[14]Janeiro!V$32 -> 0 | P57: =[14]Janeiro!W$32 -> 0 | Q57: =[14]Janeiro!X$32 -> 0 | R57: =[14]Janeiro!Y$32 -> 0 | S57: =[14]Janeiro!Z$32 -> 0 | T57: =[14]Janeiro!AA$32 -> 0 | U57: =[14]Janeiro!AB$32 -> 0
A58: 01.10 | B58: =[2]Motoristas!B$23 -> 37164 | C58: =[2]Motoristas!C$23 -> 0 | D58: =[2]Motoristas!D$23 -> 0 | E58: =[2]Motoristas!E$23 -> 0 | F58: =[2]Motoristas!F$23 -> 0 | G58: =[2]Motoristas!G$23 -> 0 | H58: =[2]Motoristas!H$23 -> 0 | I58: =[2]Motoristas!I$23 -> 0 | J58: =[2]Motoristas!J$23 -> 0 | L58: Julho | M58: =[14]Julho!T$32 -> 0 | N58: =[14]Julho!U$32 -> 0 | O58: =[14]Julho!V$32 -> 0 | P58: =[14]Julho!W$32 -> 0 | Q58: =[14]Julho!X$32 -> 0 | R58: =[14]Julho!Y$32 -> 0 | S58: =[14]Julho!Z$32 -> 0 | T58: =[14]Julho!AA$32 -> 0 | U58: =[14]Julho!AB$32 -> 0
A59: 02.10 | B59: =[3]Motoristas!B$23 -> 0 | C59: =[3]Motoristas!C$23 -> 0 | D59: =[3]Motoristas!D$23 -> 0 | E59: =[3]Motoristas!E$23 -> 0 | F59: =[3]Motoristas!F$23 -> 0 | G59: =[3]Motoristas!G$23 -> 0 | H59: =[3]Motoristas!H$23 -> 0 | I59: =[3]Motoristas!I$23 -> 0 | J59: =[3]Motoristas!J$23 -> 0 | L59: Nov | M59: =[14]Novembro!T$32 -> 0 | N59: =[14]Novembro!U$32 -> 0 | O59: =[14]Novembro!V$32 -> 0 | P59: =[14]Novembro!W$32 -> 0 | Q59: =[14]Novembro!X$32 -> 0 | R59: =[14]Novembro!Y$32 -> 0 | S59: =[14]Novembro!Z$32 -> 0 | T59: =[14]Novembro!AA$32 -> 0 | U59: =[14]Novembro!AB$32 -> 0
A60: 03.10 | B60: =[4]Motoristas!B$23 -> 0 | C60: =[4]Motoristas!C$23 -> 0 | D60: =[4]Motoristas!D$23 -> 0 | E60: =[4]Motoristas!E$23 -> 0 | F60: =[4]Motoristas!F$23 -> 0 | G60: =[4]Motoristas!G$23 -> 0 | H60: =[4]Motoristas!H$23 -> 0 | I60: =[4]Motoristas!I$23 -> 0 | J60: =[4]Motoristas!J$23 -> 0
A61: 04.10 | B61: =[5]Motoristas!B$23 -> 0 | C61: =[5]Motoristas!C$23 -> 0 | D61: =[5]Motoristas!D$23 -> 0 | E61: =[5]Motoristas!E$23 -> 0 | F61: =[5]Motoristas!F$23 -> 0 | G61: =[5]Motoristas!G$23 -> 0 | H61: =[5]Motoristas!H$23 -> 0 | I61: =[5]Motoristas!I$23 -> 0 | J61: =[5]Motoristas!J$23 -> 0
A62: 05.10 | B62: =[6]Motoristas!B$23 -> 0 | C62: =[6]Motoristas!C$23 -> 0 | D62: =[6]Motoristas!D$23 -> 0 | E62: =[6]Motoristas!E$23 -> 0 | F62: =[6]Motoristas!F$23 -> 0 | G62: =[6]Motoristas!G$23 -> 0 | H62: =[6]Motoristas!H$23 -> 0 | I62: =[6]Motoristas!I$23 -> 0 | J62: =[6]Motoristas!J$23 -> 0
A63: 06.10 | B63: =[7]Motoristas!B$23 -> 0 | C63: =[7]Motoristas!C$23 -> 0 | D63: =[7]Motoristas!D$23 -> 0 | E63: =[7]Motoristas!E$23 -> 0 | F63: =[7]Motoristas!F$23 -> 0 | G63: =[7]Motoristas!G$23 -> 0 | H63: =[7]Motoristas!H$23 -> 0 | I63: =[7]Motoristas!I$23 -> 0 | J63: =[7]Motoristas!J$23 -> 0
A64: 07.10 | B64: =[8]Motoristas!B$23 -> 0 | C64: =[8]Motoristas!C$23 -> 0 | D64: =[8]Motoristas!D$23 -> 0 | E64: =[8]Motoristas!E$23 -> 0 | F64: =[8]Motoristas!F$23 -> 0 | G64: =[8]Motoristas!G$23 -> 0 | H64: =[8]Motoristas!H$23 -> 0 | I64: =[8]Motoristas!I$23 -> 0 | J64: =[8]Motoristas!J$23 -> 0
A65: 08.10 | B65: =[9]Motoristas!B$23 -> 0 | C65: =[9]Motoristas!C$23 -> 0 | D65: =[9]Motoristas!D$23 -> 0 | E65: =[9]Motoristas!E$23 -> 0 | F65: =[9]Motoristas!F$23 -> 0 | G65: =[9]Motoristas!G$23 -> 0 | H65: =[9]Motoristas!H$23 -> 0 | I65: =[9]Motoristas!I$23 -> 0 | J65: =[9]Motoristas!J$23 -> 0
A66: 09.10 | B66: =[10]Motoristas!B$23 -> 0 | C66: =[10]Motoristas!C$23 -> 0 | D66: =[10]Motoristas!D$23 -> 0 | E66: =[10]Motoristas!E$23 -> 0 | F66: =[10]Motoristas!F$23 -> 0 | G66: =[10]Motoristas!G$23 -> 0 | H66: =[10]Motoristas!H$23 -> 0 | I66: =[10]Motoristas!I$23 -> 0 | J66: =[10]Motoristas!J$23 -> 0
A67: 10.10 | B67: =[11]Motoristas!B$23 -> 0 | C67: =[11]Motoristas!C$23 -> 0 | D67: =[11]Motoristas!D$23 -> 0 | E67: =[11]Motoristas!E$23 -> 0 | F67: =[11]Motoristas!F$23 -> 0 | G67: =[11]Motoristas!G$23 -> 0 | H67: =[11]Motoristas!H$23 -> 0 | I67: =[11]Motoristas!I$23 -> 0 | J67: =[11]Motoristas!J$23 -> 0
A68: 11.10 | B68: =[12]Motoristas!B$23 -> 0 | C68: =[12]Motoristas!C$23 -> 0 | D68: =[12]Motoristas!D$23 -> 0 | E68: =[12]Motoristas!E$23 -> 0 | F68: =[12]Motoristas!F$23 -> 0 | G68: =[12]Motoristas!G$23 -> 0 | H68: =[12]Motoristas!H$23 -> 0 | I68: =[12]Motoristas!I$23 -> 0 | J68: =[12]Motoristas!J$23 -> 0
A69: 12.10 | B69: =[13]Motoristas!B$23 -> 0 | C69: =[13]Motoristas!C$23 -> 0 | D69: =[13]Motoristas!D$23 -> 0 | E69: =[13]Motoristas!E$23 -> 0 | F69: =[13]Motoristas!F$23 -> 0 | G69: =[13]Motoristas!G$23 -> 0 | H69: =[13]Motoristas!H$23 -> 0 | I69: =[13]Motoristas!I$23 -> 0 | J69: =[13]Motoristas!J$23 -> 0
A70: Total | B70: =SUM(B57:B69) -> 37164 | C70: =SUM(C57:C69) -> 0 | D70: =SUM(D57:D69) -> 0 | E70: =SUM(E57:E69) -> 0 | F70: =SUM(F57:F69) -> 0 | G70: =SUM(G57:G69) -> 0 | H70: =SUM(H57:H69) -> 1 | I70: =SUM(I57:I69) -> 0 | J70: =SUM(J57:J69) -> 0

Sheet Paulo
A6: Paulo
B56: Peso Entregue | C56: Mercadoria que se consegue vender pelo caminho | D56: Mercadoria devolvida por condições do produto | E56: Mercadoria que volta por carregamento errado | F56: Acertos que não fecham | G56: Cobranças que voltam | H56: Cheques errados | I56: Nr de vezes passado o limite de velocidade | J56: Mercadoria que é entregue errada | M56: Gerencia bem as atividades – cumpre seu prazo de entrega, é sempre preciso no que faz e planeja metas. | N56: Assume as consequencias de seus atos erros ou acertos, aceitando e reconhecendo suas falhas. | O56: É claro na transmissão de informações. | P56: Disponibilidade de ouvir e, possivelmente, aceitar opiniões diversas. | Q56: Compreende a forma como o seu trabalho impata o trabalho dos outros. | R56: Encoraja as pessoas a fazerem o seu melhor, incentiva e transmite segurança. | S56: Compreende e se sensibiliza com os sentimentos e necessidades dos outros. | T56: Trata as pessoas com respeito. | U56: É pessoalmente comprometido com a Difrisul.
A57: 12.09 | B57: =[1]Motoristas!B$24 -> 0 | C57: =[1]Motoristas!C$24 -> 0 | D57: =[1]Motoristas!D$24 -> 0 | E57: =[1]Motoristas!E$24 -> 0 | F57: =[1]Motoristas!F$24 -> 0 | G57: =[1]Motoristas!G$24 -> 0 | H57: =[1]Motoristas!H$24 -> 0 | I57: =[1]Motoristas!I$24 -> 0 | J57: =[1]Motoristas!J$24 -> 0 | L57: Jan | M57: =[14]Janeiro!T$34 -> 0 | N57: =[14]Janeiro!U$34 -> 0 | O57: =[14]Janeiro!V$34 -> 0 | P57: =[14]Janeiro!W$34 -> 0 | Q57: =[14]Janeiro!X$34 -> 0 | R57: =[14]Janeiro!Y$34 -> 0 | S57: =[14]Janeiro!Z$34 -> 0 | T57: =[14]Janeiro!AA$34 -> 0 | U57: =[14]Janeiro!AB$34 -> 0
A58: 01.10 | B58: =[2]Motoristas!B$24 -> 63059 | C58: =[2]Motoristas!C$24 -> 0 | D58: =[2]Motoristas!D$24 -> 0 | E58: =[2]Motoristas!E$24 -> 1 | F58: =[2]Motoristas!F$24 -> 0 | G58: =[2]Motoristas!G$24 -> 0 | H58: =[2]Motoristas!H$24 -> 0 | I58: =[2]Motoristas!I$24 -> 0 | J58: =[2]Motoristas!J$24 -> 0 | L58: Julho | M58: =[14]Julho!T$34 -> 0 | N58: =[14]Julho!U$34 -> 0 | O58: =[14]Julho!V$34 -> 0 | P58: =[14]Julho!W$34 -> 0 | Q58: =[14]Julho!X$34 -> 0 | R58: =[14]Julho!Y$34 -> 0 | S58: =[14]Julho!Z$34 -> 0 | T58: =[14]Julho!AA$34 -> 0 | U58: =[14]Julho!AB$34 -> 0
A59: 02.10 | B59: =[3]Motoristas!B$24 -> 0 | C59: =[3]Motoristas!C$24 -> 0 | D59: =[3]Motoristas!D$24 -> 0 | E59: =[3]Motoristas!E$24 -> 0 | F59: =[3]Motoristas!F$24 -> 0 | G59: =[3]Motoristas!G$24 -> 0 | H59: =[3]Motoristas!H$24 -> 0 | I59: =[3]Motoristas!I$24 -> 0 | J59: =[3]Motoristas!J$24 -> 0 | L59: Nov | M59: =[14]Novembro!T$34 -> 0 | N59: =[14]Novembro!U$34 -> 0 | O59: =[14]Novembro!V$34 -> 0 | P59: =[14]Novembro!W$34 -> 0 | Q59: =[14]Novembro!X$34 -> 0 | R59: =[14]Novembro!Y$34 -> 0 | S59: =[14]Novembro!Z$34 -> 0 | T59: =[14]Novembro!AA$34 -> 0 | U59: =[14]Novembro!AB$34 -> 0
A60: 03.10 | B60: =[4]Motoristas!B$24 -> 0 | C60: =[4]Motoristas!C$24 -> 0 | D60: =[4]Motoristas!D$24 -> 0 | E60: =[4]Motoristas!E$24 -> 0 | F60: =[4]Motoristas!F$24 -> 0 | G60: =[4]Motoristas!G$24 -> 0 | H60: =[4]Motoristas!H$24 -> 0 | I60: =[4]Motoristas!I$24 -> 0 | J60: =[4]Motoristas!J$24 -> 0
A61: 04.10 | B61: =[5]Motoristas!B$24 -> 0 | C61: =[5]Motoristas!C$24 -> 0 | D61: =[5]Motoristas!D$24 -> 0 | E61: =[5]Motoristas!E$24 -> 0 | F61: =[5]Motoristas!F$24 -> 0 | G61: =[5]Motoristas!G$24 -> 0 | H61: =[5]Motoristas!H$24 -> 0 | I61: =[5]Motoristas!I$24 -> 0 | J61: =[5]Motoristas!J$24 -> 0
A62: 05.10 | B62: =[6]Motoristas!B$24 -> 0 | C62: =[6]Motoristas!C$24 -> 0 | D62: =[6]Motoristas!D$24 -> 0 | E62: =[6]Motoristas!E$24 -> 0 | F62: =[6]Motoristas!F$24 -> 0 | G62: =[6]Motoristas!G$24 -> 0 | H62: =[6]Motoristas!H$24 -> 0 | I62: =[6]Motoristas!I$24 -> 0 | J62: =[6]Motoristas!J$24 -> 0
A63: 06.10 | B63: =[7]Motoristas!B$24 -> 0 | C63: =[7]Motoristas!C$24 -> 0 | D63: =[7]Motoristas!D$24 -> 0 | E63: =[7]Motoristas!E$24 -> 0 | F63: =[7]Motoristas!F$24 -> 0 | G63: =[7]Motoristas!G$24 -> 0 | H63: =[7]Motoristas!H$24 -> 0 | I63: =[7]Motoristas!I$24 -> 0 | J63: =[7]Motoristas!J$24 -> 0
A64: 07.10 | B64: =[8]Motoristas!B$24 -> 0 | C64: =[8]Motoristas!C$24 -> 0 | D64: =[8]Motoristas!D$24 -> 0 | E64: =[8]Motoristas!E$24 -> 0 | F64: =[8]Motoristas!F$24 -> 0 | G64: =[8]Motoristas!G$24 -> 0 | H64: =[8]Motoristas!H$24 -> 0 | I64: =[8]Motoristas!I$24 -> 0 | J64: =[8]Motoristas!J$24 -> 0
A65: 08.10 | B65: =[9]Motoristas!B$24 -> 0 | C65: =[9]Motoristas!C$24 -> 0 | D65: =[9]Motoristas!D$24 -> 0 | E65: =[9]Motoristas!E$24 -> 0 | F65: =[9]Motoristas!F$24 -> 0 | G65: =[9]Motoristas!G$24 -> 0 | H65: =[9]Motoristas!H$24 -> 0 | I65: =[9]Motoristas!I$24 -> 0 | J65: =[9]Motoristas!J$24 -> 0
A66: 09.10 | B66: =[10]Motoristas!B$24 -> 0 | C66: =[10]Motoristas!C$24 -> 0 | D66: =[10]Motoristas!D$24 -> 0 | E66: =[10]Motoristas!E$24 -> 0 | F66: =[10]Motoristas!F$24 -> 0 | G66: =[10]Motoristas!G$24 -> 0 | H66: =[10]Motoristas!H$24 -> 0 | I66: =[10]Motoristas!I$24 -> 0 | J66: =[10]Motoristas!J$24 -> 0
A67: 10.10 | B67: =[11]Motoristas!B$24 -> 0 | C67: =[11]Motoristas!C$24 -> 0 | D67: =[11]Motoristas!D$24 -> 0 | E67: =[11]Motoristas!E$24 -> 0 | F67: =[11]Motoristas!F$24 -> 0 | G67: =[11]Motoristas!G$24 -> 0 | H67: =[11]Motoristas!H$24 -> 0 | I67: =[11]Motoristas!I$24 -> 0 | J67: =[11]Motoristas!J$24 -> 0
A68: 11.10 | B68: =[12]Motoristas!B$24 -> 0 | C68: =[12]Motoristas!C$24 -> 0 | D68: =[12]Motoristas!D$24 -> 0 | E68: =[12]Motoristas!E$24 -> 0 | F68: =[12]Motoristas!F$24 -> 0 | G68: =[12]Motoristas!G$24 -> 0 | H68: =[12]Motoristas!H$24 -> 0 | I68: =[12]Motoristas!I$24 -> 0 | J68: =[12]Motoristas!J$24 -> 0
A69: 12.10 | B69: =[13]Motoristas!B$24 -> 0 | C69: =[13]Motoristas!C$24 -> 0 | D69: =[13]Motoristas!D$24 -> 0 | E69: =[13]Motoristas!E$24 -> 0 | F69: =[13]Motoristas!F$24 -> 0 | G69: =[13]Motoristas!G$24 -> 0 | H69: =[13]Motoristas!H$24 -> 0 | I69: =[13]Motoristas!I$24 -> 0 | J69: =[13]Motoristas!J$24 -> 0
A70: Total | B70: =SUM(B57:B69) -> 63059 | C70: =SUM(C57:C69) -> 0 | D70: =SUM(D57:D69) -> 0 | E70: =SUM(E57:E69) -> 1 | F70: =SUM(F57:F69) -> 0 | G70: =SUM(G57:G69) -> 0 | H70: =SUM(H57:H69) -> 0 | I70: =SUM(I57:I69) -> 0 | J70: =SUM(J57:J69) -> 0

Sheet Renato
A6: Renato
B56: Peso Entregue | C56: Mercadoria que se consegue vender pelo caminho | D56: Mercadoria devolvida por condições do produto | E56: Mercadoria que volta por carregamento errado | F56: Acertos que não fecham | G56: Cobranças que voltam | H56: Cheques errados | I56: Nr de vezes passado o limite de velocidade | J56: Mercadoria que é entregue errada | M56: Gerencia bem as atividades – cumpre seu prazo de entrega, é sempre preciso no que faz e planeja metas. | N56: Assume as consequencias de seus atos erros ou acertos, aceitando e reconhecendo suas falhas. | O56: É claro na transmissão de informações. | P56: Disponibilidade de ouvir e, possivelmente, aceitar opiniões diversas. | Q56: Compreende a forma como o seu trabalho impata o trabalho dos outros. | R56: Encoraja as pessoas a fazerem o seu melhor, incentiva e transmite segurança. | S56: Compreende e se sensibiliza com os sentimentos e necessidades dos outros. | T56: Trata as pessoas com respeito. | U56: É pessoalmente comprometido com a Difrisul.
A57: 12.09 | B57: =[1]Motoristas!B$25 -> 0 | C57: =[1]Motoristas!C$25 -> 0 | D57: =[1]Motoristas!D$25 -> 0 | E57: =[1]Motoristas!E$25 -> 0 | F57: =[1]Motoristas!F$25 -> 0 | G57: =[1]Motoristas!G$25 -> 0 | H57: =[1]Motoristas!H$25 -> 0 | I57: =[1]Motoristas!I$25 -> 0 | J57: =[1]Motoristas!J$25 -> 0 | L57: Jan | M57: =[14]Janeiro!T$36 -> 0 | N57: =[14]Janeiro!U$36 -> 0 | O57: =[14]Janeiro!V$36 -> 0 | P57: =[14]Janeiro!W$36 -> 0 | Q57: =[14]Janeiro!X$36 -> 0 | R57: =[14]Janeiro!Y$36 -> 0 | S57: =[14]Janeiro!Z$36 -> 0 | T57: =[14]Janeiro!AA$36 -> 0 | U57: =[14]Janeiro!AB$36 -> 0
A58: 01.10 | B58: =[2]Motoristas!B$25 -> 47914 | C58: =[2]Motoristas!C$25 -> 0 | D58: =[2]Motoristas!D$25 -> 0 | E58: =[2]Motoristas!E$25 -> 1 | F58: =[2]Motoristas!F$25 -> 0 | G58: =[2]Motoristas!G$25 -> 0 | H58: =[2]Motoristas!H$25 -> 0 | I58: =[2]Motoristas!I$25 -> 0 | J58: =[2]Motoristas!J$25 -> 0 | L58: Julho | M58: =[14]Julho!T$36 -> 0 | N58: =[14]Julho!U$36 -> 0 | O58: =[14]Julho!V$36 -> 0 | P58: =[14]Julho!W$36 -> 0 | Q58: =[14]Julho!X$36 -> 0 | R58: =[14]Julho!Y$36 -> 0 | S58: =[14]Julho!Z$36 -> 0 | T58: =[14]Julho!AA$36 -> 0 | U58: =[14]Julho!AB$36 -> 0
A59: 02.10 | B59: =[3]Motoristas!B$25 -> 0 | C59: =[3]Motoristas!C$25 -> 0 | D59: =[3]Motoristas!D$25 -> 0 | E59: =[3]Motoristas!E$25 -> 0 | F59: =[3]Motoristas!F$25 -> 0 | G59: =[3]Motoristas!G$25 -> 0 | H59: =[3]Motoristas!H$25 -> 0 | I59: =[3]Motoristas!I$25 -> 0 | J59: =[3]Motoristas!J$25 -> 0 | L59: Nov | M59: =[14]Novembro!T$36 -> 0 | N59: =[14]Novembro!U$36 -> 0 | O59: =[14]Novembro!V$36 -> 0 | P59: =[14]Novembro!W$36 -> 0 | Q59: =[14]Novembro!X$36 -> 0 | R59: =[14]Novembro!Y$36 -> 0 | S59: =[14]Novembro!Z$36 -> 0 | T59: =[14]Novembro!AA$36 -> 0 | U59: =[14]Novembro!AB$36 -> 0
A60: 03.10 | B60: =[4]Motoristas!B$25 -> 0 | C60: =[4]Motoristas!C$25 -> 0 | D60: =[4]Motoristas!D$25 -> 0 | E60: =[4]Motoristas!E$25 -> 0 | F60: =[4]Motoristas!F$25 -> 0 | G60: =[4]Motoristas!G$25 -> 0 | H60: =[4]Motoristas!H$25 -> 0 | I60: =[4]Motoristas!I$25 -> 0 | J60: =[4]Motoristas!J$25 -> 0
A61: 04.10 | B61: =[5]Motoristas!B$25 -> 0 | C61: =[5]Motoristas!C$25 -> 0 | D61: =[5]Motoristas!D$25 -> 0 | E61: =[5]Motoristas!E$25 -> 0 | F61: =[5]Motoristas!F$25 -> 0 | G61: =[5]Motoristas!G$25 -> 0 | H61: =[5]Motoristas!H$25 -> 0 | I61: =[5]Motoristas!I$25 -> 0 | J61: =[5]Motoristas!J$25 -> 0
A62: 05.10 | B62: =[6]Motoristas!B$25 -> 0 | C62: =[6]Motoristas!C$25 -> 0 | D62: =[6]Motoristas!D$25 -> 0 | E62: =[6]Motoristas!E$25 -> 0 | F62: =[6]Motoristas!F$25 -> 0 | G62: =[6]Motoristas!G$25 -> 0 | H62: =[6]Motoristas!H$25 -> 0 | I62: =[6]Motoristas!I$25 -> 0 | J62: =[6]Motoristas!J$25 -> 0
A63: 06.10 | B63: =[7]Motoristas!B$25 -> 0 | C63: =[7]Motoristas!C$25 -> 0 | D63: =[7]Motoristas!D$25 -> 0 | E63: =[7]Motoristas!E$25 -> 0 | F63: =[7]Motoristas!F$25 -> 0 | G63: =[7]Motoristas!G$25 -> 0 | H63: =[7]Motoristas!H$25 -> 0 | I63: =[7]Motoristas!I$25 -> 0 | J63: =[7]Motoristas!J$25 -> 0
A64: 07.10 | B64: =[8]Motoristas!B$25 -> 0 | C64: =[8]Motoristas!C$25 -> 0 | D64: =[8]Motoristas!D$25 -> 0 | E64: =[8]Motoristas!E$25 -> 0 | F64: =[8]Motoristas!F$25 -> 0 | G64: =[8]Motoristas!G$25 -> 0 | H64: =[8]Motoristas!H$25 -> 0 | I64: =[8]Motoristas!I$25 -> 0 | J64: =[8]Motoristas!J$25 -> 0
A65: 08.10 | B65: =[9]Motoristas!B$25 -> 0 | C65: =[9]Motoristas!C$25 -> 0 | D65: =[9]Motoristas!D$25 -> 0 | E65: =[9]Motoristas!E$25 -> 0 | F65: =[9]Motoristas!F$25 -> 0 | G65: =[9]Motoristas!G$25 -> 0 | H65: =[9]Motoristas!H$25 -> 0 | I65: =[9]Motoristas!I$25 -> 0 | J65: =[9]Motoristas!J$25 -> 0
A66: 09.10 | B66: =[10]Motoristas!B$25 -> 0 | C66: =[10]Motoristas!C$25 -> 0 | D66: =[10]Motoristas!D$25 -> 0 | E66: =[10]Motoristas!E$25 -> 0 | F66: =[10]Motoristas!F$25 -> 0 | G66: =[10]Motoristas!G$25 -> 0 | H66: =[10]Motoristas!H$25 -> 0 | I66: =[10]Motoristas!I$25 -> 0 | J66: =[10]Motoristas!J$25 -> 0
A67: 10.10 | B67: =[11]Motoristas!B$25 -> 0 | C67: =[11]Motoristas!C$25 -> 0 | D67: =[11]Motoristas!D$25 -> 0 | E67: =[11]Motoristas!E$25 -> 0 | F67: =[11]Motoristas!F$25 -> 0 | G67: =[11]Motoristas!G$25 -> 0 | H67: =[11]Motoristas!H$25 -> 0 | I67: =[11]Motoristas!I$25 -> 0 | J67: =[11]Motoristas!J$25 -> 0
A68: 11.10 | B68: =[12]Motoristas!B$25 -> 0 | C68: =[12]Motoristas!C$25 -> 0 | D68: =[12]Motoristas!D$25 -> 0 | E68: =[12]Motoristas!E$25 -> 0 | F68: =[12]Motoristas!F$25 -> 0 | G68: =[12]Motoristas!G$25 -> 0 | H68: =[12]Motoristas!H$25 -> 0 | I68: =[12]Motoristas!I$25 -> 0 | J68: =[12]Motoristas!J$25 -> 0
A69: 12.10 | B69: =[13]Motoristas!B$25 -> 0 | C69: =[13]Motoristas!C$25 -> 0 | D69: =[13]Motoristas!D$25 -> 0 | E69: =[13]Motoristas!E$25 -> 0 | F69: =[13]Motoristas!F$25 -> 0 | G69: =[13]Motoristas!G$25 -> 0 | H69: =[13]Motoristas!H$25 -> 0 | I69: =[13]Motoristas!I$25 -> 0 | J69: =[13]Motoristas!J$25 -> 0
A70: Total | B70: =SUM(B57:B69) -> 47914 | C70: =SUM(C57:C69) -> 0 | D70: =SUM(D57:D69) -> 0 | E70: =SUM(E57:E69) -> 1 | F70: =SUM(F57:F69) -> 0 | G70: =SUM(G57:G69) -> 0 | H70: =SUM(H57:H69) -> 0 | I70: =SUM(I57:I69) -> 0 | J70: =SUM(J57:J69) -> 0

Sheet Sandro
A6: Sandro
B56: Peso Entregue | C56: Mercadoria que se consegue vender pelo caminho | D56: Mercadoria devolvida por condições do produto | E56: Mercadoria que volta por carregamento errado | F56: Acertos que não fecham | G56: Cobranças que voltam | H56: Cheques errados | I56: Nr de vezes passado o limite de velocidade | J56: Mercadoria que é entregue errada | M56: Gerencia bem as atividades – cumpre seu prazo de entrega, é sempre preciso no que faz e planeja metas. | N56: Assume as consequencias de seus atos erros ou acertos, aceitando e reconhecendo suas falhas. | O56: É claro na transmissão de informações. | P56: Disponibilidade de ouvir e, possivelmente, aceitar opiniões diversas. | Q56: Compreende a forma como o seu trabalho impata o trabalho dos outros. | R56: Encoraja as pessoas a fazerem o seu melhor, incentiva e transmite segurança. | S56: Compreende e se sensibiliza com os sentimentos e necessidades dos outros. | T56: Trata as pessoas com respeito. | U56: É pessoalmente comprometido com a Difrisul.
A57: 12.09 | B57: =[1]Motoristas!B$26 -> 0 | C57: =[1]Motoristas!C$26 -> 0 | D57: =[1]Motoristas!D$26 -> 0 | E57: =[1]Motoristas!E$26 -> 0 | F57: =[1]Motoristas!F$26 -> 0 | G57: =[1]Motoristas!G$26 -> 0 | H57: =[1]Motoristas!H$26 -> 0 | I57: =[1]Motoristas!I$26 -> 0 | J57: =[1]Motoristas!J$26 -> 0 | L57: Jan | M57: =[14]Janeiro!T$38 -> 0 | N57: =[14]Janeiro!U$38 -> 0 | O57: =[14]Janeiro!V$38 -> 0 | P57: =[14]Janeiro!W$38 -> 0 | Q57: =[14]Janeiro!X$38 -> 0 | R57: =[14]Janeiro!Y$38 -> 0 | S57: =[14]Janeiro!Z$38 -> 0 | T57: =[14]Janeiro!AA$38 -> 0 | U57: =[14]Janeiro!AB$38 -> 0
A58: 01.10 | B58: =[2]Motoristas!B$26 -> 31421 | C58: =[2]Motoristas!C$26 -> 0 | D58: =[2]Motoristas!D$26 -> 0 | E58: =[2]Motoristas!E$26 -> 0 | F58: =[2]Motoristas!F$26 -> 0 | G58: =[2]Motoristas!G$26 -> 0 | H58: =[2]Motoristas!H$26 -> 0 | I58: =[2]Motoristas!I$26 -> 0 | J58: =[2]Motoristas!J$26 -> 0 | L58: Julho | M58: =[14]Julho!T$38 -> 0 | N58: =[14]Julho!U$38 -> 0 | O58: =[14]Julho!V$38 -> 0 | P58: =[14]Julho!W$38 -> 0 | Q58: =[14]Julho!X$38 -> 0 | R58: =[14]Julho!Y$38 -> 0 | S58: =[14]Julho!Z$38 -> 0 | T58: =[14]Julho!AA$38 -> 0 | U58: =[14]Julho!AB$38 -> 0
A59: 02.10 | B59: =[3]Motoristas!B$26 -> 0 | C59: =[3]Motoristas!C$26 -> 0 | D59: =[3]Motoristas!D$26 -> 0 | E59: =[3]Motoristas!E$26 -> 0 | F59: =[3]Motoristas!F$26 -> 0 | G59: =[3]Motoristas!G$26 -> 0 | H59: =[3]Motoristas!H$26 -> 0 | I59: =[3]Motoristas!I$26 -> 0 | J59: =[3]Motoristas!J$26 -> 0 | L59: Nov | M59: =[14]Novembro!T$38 -> 0 | N59: =[14]Novembro!U$38 -> 0 | O59: =[14]Novembro!V$38 -> 0 | P59: =[14]Novembro!W$38 -> 0 | Q59: =[14]Novembro!X$38 -> 0 | R59: =[14]Novembro!Y$38 -> 0 | S59: =[14]Novembro!Z$38 -> 0 | T59: =[14]Novembro!AA$38 -> 0 | U59: =[14]Novembro!AB$38 -> 0
A60: 03.10 | B60: =[4]Motoristas!B$26 -> 0 | C60: =[4]Motoristas!C$26 -> 0 | D60: =[4]Motoristas!D$26 -> 0 | E60: =[4]Motoristas!E$26 -> 0 | F60: =[4]Motoristas!F$26 -> 0 | G60: =[4]Motoristas!G$26 -> 0 | H60: =[4]Motoristas!H$26 -> 0 | I60: =[4]Motoristas!I$26 -> 0 | J60: =[4]Motoristas!J$26 -> 0
A61: 04.10 | B61: =[5]Motoristas!B$26 -> 0 | C61: =[5]Motoristas!C$26 -> 0 | D61: =[5]Motoristas!D$26 -> 0 | E61: =[5]Motoristas!E$26 -> 0 | F61: =[5]Motoristas!F$26 -> 0 | G61: =[5]Motoristas!G$26 -> 0 | H61: =[5]Motoristas!H$26 -> 0 | I61: =[5]Motoristas!I$26 -> 0 | J61: =[5]Motoristas!J$26 -> 0
A62: 05.10 | B62: =[6]Motoristas!B$26 -> 0 | C62: =[6]Motoristas!C$26 -> 0 | D62: =[6]Motoristas!D$26 -> 0 | E62: =[6]Motoristas!E$26 -> 0 | F62: =[6]Motoristas!F$26 -> 0 | G62: =[6]Motoristas!G$26 -> 0 | H62: =[6]Motoristas!H$26 -> 0 | I62: =[6]Motoristas!I$26 -> 0 | J62: =[6]Motoristas!J$26 -> 0
A63: 06.10 | B63: =[7]Motoristas!B$26 -> 0 | C63: =[7]Motoristas!C$26 -> 0 | D63: =[7]Motoristas!D$26 -> 0 | E63: =[7]Motoristas!E$26 -> 0 | F63: =[7]Motoristas!F$26 -> 0 | G63: =[7]Motoristas!G$26 -> 0 | H63: =[7]Motoristas!H$26 -> 0 | I63: =[7]Motoristas!I$26 -> 0 | J63: =[7]Motoristas!J$26 -> 0
A64: 07.10 | B64: =[8]Motoristas!B$26 -> 0 | C64: =[8]Motoristas!C$26 -> 0 | D64: =[8]Motoristas!D$26 -> 0 | E64: =[8]Motoristas!E$26 -> 0 | F64: =[8]Motoristas!F$26 -> 0 | G64: =[8]Motoristas!G$26 -> 0 | H64: =[8]Motoristas!H$26 -> 0 | I64: =[8]Motoristas!I$26 -> 0 | J64: =[8]Motoristas!J$26 -> 0
A65: 08.10 | B65: =[9]Motoristas!B$26 -> 0 | C65: =[9]Motoristas!C$26 -> 0 | D65: =[9]Motoristas!D$26 -> 0 | E65: =[9]Motoristas!E$26 -> 0 | F65: =[9]Motoristas!F$26 -> 0 | G65: =[9]Motoristas!G$26 -> 0 | H65: =[9]Motoristas!H$26 -> 0 | I65: =[9]Motoristas!I$26 -> 0 | J65: =[9]Motoristas!J$26 -> 0
A66: 09.10 | B66: =[10]Motoristas!B$26 -> 0 | C66: =[10]Motoristas!C$26 -> 0 | D66: =[10]Motoristas!D$26 -> 0 | E66: =[10]Motoristas!E$26 -> 0 | F66: =[10]Motoristas!F$26 -> 0 | G66: =[10]Motoristas!G$26 -> 0 | H66: =[10]Motoristas!H$26 -> 0 | I66: =[10]Motoristas!I$26 -> 0 | J66: =[10]Motoristas!J$26 -> 0
A67: 10.10 | B67: =[11]Motoristas!B$26 -> 0 | C67: =[11]Motoristas!C$26 -> 0 | D67: =[11]Motoristas!D$26 -> 0 | E67: =[11]Motoristas!E$26 -> 0 | F67: =[11]Motoristas!F$26 -> 0 | G67: =[11]Motoristas!G$26 -> 0 | H67: =[11]Motoristas!H$26 -> 0 | I67: =[11]Motoristas!I$26 -> 0 | J67: =[11]Motoristas!J$26 -> 0
A68: 11.10 | B68: =[12]Motoristas!B$26 -> 0 | C68: =[12]Motoristas!C$26 -> 0 | D68: =[12]Motoristas!D$26 -> 0 | E68: =[12]Motoristas!E$26 -> 0 | F68: =[12]Motoristas!F$26 -> 0 | G68: =[12]Motoristas!G$26 -> 0 | H68: =[12]Motoristas!H$26 -> 0 | I68: =[12]Motoristas!I$26 -> 0 | J68: =[12]Motoristas!J$26 -> 0
A69: 12.10 | B69: =[13]Motoristas!B$26 -> 0 | C69: =[13]Motoristas!C$26 -> 0 | D69: =[13]Motoristas!D$26 -> 0 | E69: =[13]Motoristas!E$26 -> 0 | F69: =[13]Motoristas!F$26 -> 0 | G69: =[13]Motoristas!G$26 -> 0 | H69: =[13]Motoristas!H$26 -> 0 | I69: =[13]Motoristas!I$26 -> 0 | J69: =[13]Motoristas!J$26 -> 0
A70: Total | B70: =SUM(B57:B69) -> 31421 | C70: =SUM(C57:C69) -> 0 | D70: =SUM(D57:D69) -> 0 | E70: =SUM(E57:E69) -> 0 | F70: =SUM(F57:F69) -> 0 | G70: =SUM(G57:G69) -> 0 | H70: =SUM(H57:H69) -> 0 | I70: =SUM(I57:I69) -> 0 | J70: =SUM(J57:J69) -> 0

Sheet Sidney
A6: Sidney
B56: Peso Entregue | C56: Mercadoria que se consegue vender pelo caminho | D56: Mercadoria devolvida por condições do produto | E56: Mercadoria que volta por carregamento errado | F56: Acertos que não fecham | G56: Cobranças que voltam | H56: Cheques errados | I56: Nr de vezes passado o limite de velocidade | J56: Mercadoria que é entregue errada | M56: Gerencia bem as atividades – cumpre seu prazo de entrega, é sempre preciso no que faz e planeja metas. | N56: Assume as consequencias de seus atos erros ou acertos, aceitando e reconhecendo suas falhas. | O56: É claro na transmissão de informações. | P56: Disponibilidade de ouvir e, possivelmente, aceitar opiniões diversas. | Q56: Compreende a forma como o seu trabalho impata o trabalho dos outros. | R56: Encoraja as pessoas a fazerem o seu melhor, incentiva e transmite segurança. | S56: Compreende e se sensibiliza com os sentimentos e necessidades dos outros. | T56: Trata as pessoas com respeito. | U56: É pessoalmente comprometido com a Difrisul.
A57: 12.09 | B57: =[1]Motoristas!B$27 -> 0 | C57: =[1]Motoristas!C$27 -> 0 | D57: =[1]Motoristas!D$27 -> 0 | E57: =[1]Motoristas!E$27 -> 0 | F57: =[1]Motoristas!F$27 -> 0 | G57: =[1]Motoristas!G$27 -> 0 | H57: =[1]Motoristas!H$27 -> 1 | I57: =[1]Motoristas!I$27 -> 0 | J57: =[1]Motoristas!J$27 -> 0 | L57: Jan | M57: =[14]Janeiro!T$39 -> 0 | N57: =[14]Janeiro!U$39 -> 0 | O57: =[14]Janeiro!V$39 -> 0 | P57: =[14]Janeiro!W$39 -> 0 | Q57: =[14]Janeiro!X$39 -> 0 | R57: =[14]Janeiro!Y$39 -> 0 | S57: =[14]Janeiro!Z$39 -> 0 | T57: =[14]Janeiro!AA$39 -> 0 | U57: =[14]Janeiro!AB$39 -> 0
A58: 01.10 | B58: =[2]Motoristas!B$27 -> 13395 | C58: =[2]Motoristas!C$27 -> 0 | D58: =[2]Motoristas!D$27 -> 0 | E58: =[2]Motoristas!E$27 -> 1 | F58: =[2]Motoristas!F$27 -> 0 | G58: =[2]Motoristas!G$27 -> 0 | H58: =[2]Motoristas!H$27 -> 0 | I58: =[2]Motoristas!I$27 -> 0 | J58: =[2]Motoristas!J$27 -> 0 | L58: Julho | M58: =[14]Julho!T$39 -> 0 | N58: =[14]Julho!U$39 -> 0 | O58: =[14]Julho!V$39 -> 0 | P58: =[14]Julho!W$39 -> 0 | Q58: =[14]Julho!X$39 -> 0 | R58: =[14]Julho!Y$39 -> 0 | S58: =[14]Julho!Z$39 -> 0 | T58: =[14]Julho!AA$39 -> 0 | U58: =[14]Julho!AB$39 -> 0
A59: 02.10 | B59: =[3]Motoristas!B$27 -> 0 | C59: =[3]Motoristas!C$27 -> 0 | D59: =[3]Motoristas!D$27 -> 0 | E59: =[3]Motoristas!E$27 -> 0 | F59: =[3]Motoristas!F$27 -> 0 | G59: =[3]Motoristas!G$27 -> 0 | H59: =[3]Motoristas!H$27 -> 0 | I59: =[3]Motoristas!I$27 -> 0 | J59: =[3]Motoristas!J$27 -> 0 | L59: Nov | M59: =[14]Novembro!T$39 -> 0 | N59: =[14]Novembro!U$39 -> 0 | O59: =[14]Novembro!V$39 -> 0 | P59: =[14]Novembro!W$39 -> 0 | Q59: =[14]Novembro!X$39 -> 0 | R59: =[14]Novembro!Y$39 -> 0 | S59: =[14]Novembro!Z$39 -> 0 | T59: =[14]Novembro!AA$39 -> 0 | U59: =[14]Novembro!AB$39 -> 0
A60: 03.10 | B60: =[4]Motoristas!B$27 -> 0 | C60: =[4]Motoristas!C$27 -> 0 | D60: =[4]Motoristas!D$27 -> 0 | E60: =[4]Motoristas!E$27 -> 0 | F60: =[4]Motoristas!F$27 -> 0 | G60: =[4]Motoristas!G$27 -> 0 | H60: =[4]Motoristas!H$27 -> 0 | I60: =[4]Motoristas!I$27 -> 0 | J60: =[4]Motoristas!J$27 -> 0
A61: 04.10 | B61: =[5]Motoristas!B$27 -> 0 | C61: =[5]Motoristas!C$27 -> 0 | D61: =[5]Motoristas!D$27 -> 0 | E61: =[5]Motoristas!E$27 -> 0 | F61: =[5]Motoristas!F$27 -> 0 | G61: =[5]Motoristas!G$27 -> 0 | H61: =[5]Motoristas!H$27 -> 0 | I61: =[5]Motoristas!I$27 -> 0 | J61: =[5]Motoristas!J$27 -> 0
A62: 05.10 | B62: =[6]Motoristas!B$27 -> 0 | C62: =[6]Motoristas!C$27 -> 0 | D62: =[6]Motoristas!D$27 -> 0 | E62: =[6]Motoristas!E$27 -> 0 | F62: =[6]Motoristas!F$27 -> 0 | G62: =[6]Motoristas!G$27 -> 0 | H62: =[6]Motoristas!H$27 -> 0 | I62: =[6]Motoristas!I$27 -> 0 | J62: =[6]Motoristas!J$27 -> 0
A63: 06.10 | B63: =[7]Motoristas!B$27 -> 0 | C63: =[7]Motoristas!C$27 -> 0 | D63: =[7]Motoristas!D$27 -> 0 | E63: =[7]Motoristas!E$27 -> 0 | F63: =[7]Motoristas!F$27 -> 0 | G63: =[7]Motoristas!G$27 -> 0 | H63: =[7]Motoristas!H$27 -> 0 | I63: =[7]Motoristas!I$27 -> 0 | J63: =[7]Motoristas!J$27 -> 0
A64: 07.10 | B64: =[8]Motoristas!B$27 -> 0 | C64: =[8]Motoristas!C$27 -> 0 | D64: =[8]Motoristas!D$27 -> 0 | E64: =[8]Motoristas!E$27 -> 0 | F64: =[8]Motoristas!F$27 -> 0 | G64: =[8]Motoristas!G$27 -> 0 | H64: =[8]Motoristas!H$27 -> 0 | I64: =[8]Motoristas!I$27 -> 0 | J64: =[8]Motoristas!J$27 -> 0
A65: 08.10 | B65: =[9]Motoristas!B$27 -> 0 | C65: =[9]Motoristas!C$27 -> 0 | D65: =[9]Motoristas!D$27 -> 0 | E65: =[9]Motoristas!E$27 -> 0 | F65: =[9]Motoristas!F$27 -> 0 | G65: =[9]Motoristas!G$27 -> 0 | H65: =[9]Motoristas!H$27 -> 0 | I65: =[9]Motoristas!I$27 -> 0 | J65: =[9]Motoristas!J$27 -> 0
A66: 09.10 | B66: =[10]Motoristas!B$27 -> 0 | C66: =[10]Motoristas!C$27 -> 0 | D66: =[10]Motoristas!D$27 -> 0 | E66: =[10]Motoristas!E$27 -> 0 | F66: =[10]Motoristas!F$27 -> 0 | G66: =[10]Motoristas!G$27 -> 0 | H66: =[10]Motoristas!H$27 -> 0 | I66: =[10]Motoristas!I$27 -> 0 | J66: =[10]Motoristas!J$27 -> 0
A67: 10.10 | B67: =[11]Motoristas!B$27 -> 0 | C67: =[11]Motoristas!C$27 -> 0 | D67: =[11]Motoristas!D$27 -> 0 | E67: =[11]Motoristas!E$27 -> 0 | F67: =[11]Motoristas!F$27 -> 0 | G67: =[11]Motoristas!G$27 -> 0 | H67: =[11]Motoristas!H$27 -> 0 | I67: =[11]Motoristas!I$27 -> 0 | J67: =[11]Motoristas!J$27 -> 0
A68: 11.10 | B68: =[12]Motoristas!B$27 -> 0 | C68: =[12]Motoristas!C$27 -> 0 | D68: =[12]Motoristas!D$27 -> 0 | E68: =[12]Motoristas!E$27 -> 0 | F68: =[12]Motoristas!F$27 -> 0 | G68: =[12]Motoristas!G$27 -> 0 | H68: =[12]Motoristas!H$27 -> 0 | I68: =[12]Motoristas!I$27 -> 0 | J68: =[12]Motoristas!J$27 -> 0
A69: 12.10 | B69: =[13]Motoristas!B$27 -> 0 | C69: =[13]Motoristas!C$27 -> 0 | D69: =[13]Motoristas!D$27 -> 0 | E69: =[13]Motoristas!E$27 -> 0 | F69: =[13]Motoristas!F$27 -> 0 | G69: =[13]Motoristas!G$27 -> 0 | H69: =[13]Motoristas!H$27 -> 0 | I69: =[13]Motoristas!I$27 -> 0 | J69: =[13]Motoristas!J$27 -> 0
A70: Total | B70: =SUM(B57:B69) -> 13395 | C70: =SUM(C57:C69) -> 0 | D70: =SUM(D57:D69) -> 0 | E70: =SUM(E57:E69) -> 1 | F70: =SUM(F57:F69) -> 0 | G70: =SUM(G57:G69) -> 0 | H70: =SUM(H57:H69) -> 1 | I70: =SUM(I57:I69) -> 0 | J70: =SUM(J57:J69) -> 0
