Workbook

Sheet Finacial Data
C2: Arcelor (31-12-2005) | D2: Mittal (31-12-2005) | E2: Nippon Steel (31-03-2006) | F2: JFE Holdings (31-03-2006) | G2: POSCO (31-12-2005) | H2: US Steel (31-12-2005) | I2: Corus (31-12-2005) | J2: Severstal (31-12-2005)
A3: Millions of USD | B3: Revenues | C3: =32611/G45 -> 38438.237 | D3: 28132 | E3: =3906901/G42 -> 33258.713 | F3: =3098374/G42 -> 26375.875 | G3: =26301788/G44 -> 26041.374 | H3: 14039 | I3: =10140/G46 -> 17443.661 | J3: 9774.88
A4: Millions of USD | B4: EBITDA | C4: =(5670-29)/G45 -> 6648.9863 | D4: 5575 | E4: =759684/G42 -> 6467.0469 | F4: =F5+175057/G42 -> 5892.8067 | G4: =G5+1612556/G44 -> 7619.6356 | H4: 1740 | I4: =1030/G46 -> 1771.8906 | J4: =J5+137.89 -> 2457.99
A5: Millions of USD | B5: EBIT | C5: =4376/G45 -> 5157.9444 | D5: 4746 | E5: =576319/G42 -> 4906.0952 | F5: =517171/G42 -> 4402.5794 | G5: =6083276/G44 -> 6023.0455 | H5: 1439 | I5: =680/G46 -> 1169.7918 | J5: 2320.1
A6: Millions of USD | B6: Net Profit | C6: =3846/G45 -> 4533.239 | D6: 3365 | E6: =343903/G42 -> 2927.5815 | F6: =325996/G42 -> 2775.1426 | G6: =4011546/G44 -> 3971.8277 | H6: 910 | I6: =451/G46 -> 775.84724 | J6: 1695.8
A7: Millions of USD | B7: Net Profit (Before Minority Interests) | C7: =C6+432/G45 -> 5042.4328 | D7: =D6+520 -> 3885 | E7: =E6+15510/G42 -> 3059.6152 | F7: =F6+3901/G42 -> 2808.3511 | G7: =G6-5796/G44 -> 3966.0891 | H7: =H6+37 -> 947 | I7: =I6+1/G46 -> 777.56752 | J7: =J6+63.977 -> 1759.777
A8: Millions of USD | B8: Total Debt | C8: =18283/G45 -> 21549.976 | D8: 19058 | E8: =2760760/G42 -> 23501.83 | F8: =2282330/G42 -> 19429.046 | G8: =7640394/G44 -> 7564.7465 | H8: 6466 | I8: =4564/G46 -> 7851.3676 | J8: 6936.7
A9: Millions of USD | B9: Net Debt | C9: =C8-4645/G45 -> 16074.965 | D9: =D8-2035-114 -> 16909 | E9: =E8-160175/G42 -> 22138.291 | F9: =F8-32567/G42 -> 19151.809 | G9: =G8-653364/G44 -> 6917.8515 | H9: =H8-1474 -> 4992 | I9: =I8-871/G46 -> 6353.0019 | J9: =J8-1327.43-674.512-267.851 -> 4666.907
A10: Millions of USD | B10: Equity | C10: =17633/G45 -> 20783.828 | D10: 11984 | E10: =(1677889+104117)/G42 -> 15169.882 | F10: =1347990/G42 -> 11475.185 | G10: =19866916/G44 -> 19670.214 | H10: 3356 | I10: =3378/G46 -> 5811.113 | J10: 8397
A11: Millions of USD | B11: Total Assets | C11: =C10+C8 -> 42333.805 | D11: =D10+D8 -> 31042 | E11: =E10+E8 -> 38671.712 | F11: =F10+F8 -> 30904.231 | G11: =G10+G8 -> 27234.96 | H11: =H10+H8 -> 9822 | I11: =I10+I8 -> 13662.481 | J11: =J10+J8 -> 15333.7
A12: Millions of USD | B12: Fixed Assets (Long Term Assets) | C12: =18196/G45 -> 21447.43 | D12: 19330 | E12: =3038158/G42 -> 25863.267 | F12: =2465475/G42 -> 20988.125 | G12: =15866974/G44 -> 15709.875 | H12: 4991 | I12: =4099/0.5813 -> 7051.4364 | J12: 9342
A13: Millions of USD | B13: Market capitalization | C13: =C27*C23 -> 15798.285 | D13: =D27*D23 -> 18770.443 | E13: =E27*E23 -> 24066.518 | F13: =F27*F23 -> 19796.123 | G13: =G27*G23 -> 15839.627 | H13: =H27*H23 -> 5450.1766 | I13: NA | J13: =J27*J23 -> 9214.92
A14: Millions of USD | B14: NWC Needs (*) | C14: =((17720-4645)-(10000-1623))/G45 -> 5537.4823 | D14: =(11712-2035-114)-(5615-334) -> 4282 | E14: =((1504608-160175)-(1621372-398996))/G42 -> 1039.0483 | F14: =((1164847-32567)-(1119979-14328))/G42 -> 226.68766 | G14: =((11640336-653364)-(5881563-859774))/G44 -> 5906.1218 | H14: =(4831-1479)-(2749-249) -> 852 | I14: =((4446-871)-(2467-384))/G46 -> 2566.6609 | J14: =(5991.753-1327.43-674.512-267.851)-(3161.518-992.612) -> 1553.054 | R14: 129
A15: Millions of USD | B15: Pre tax Income | C15: =4439/G45 -> 5232.2018 | D15: =4703 -> 4703 | E15: =565607/G42 -> 4814.9059 | F15: =509261/G42 -> 4335.243 | G15: =5488189/G44 -> 5433.8505 | H15: 1312 | I15: =580/G46 -> 997.76363 | J15: 2316.236
B16: Medium Tax Rate = (Tax/Pre Tax Income)(**) | C16: =(C15-C6+235/G45-432/G45)/C15 -> 0.089209281 | D16: =(D15-D6-155-520)/D15 -> 0.14097385 | E16: =(E15-E6-15510/G42+17061/G42)/E15 -> 0.39471753 | F16: =(F15-F6+428/G42-3901/G42)/F15 -> 0.3530449 | G16: =(G15-G6+5796/G44+127839/G44)/G15 -> 0.2934079 | H16: =(H15-H6-37)/H15 -> 0.27820122 | I16: =(I15-I6+52/G46-1/G46)/I15 -> 0.31034483 | J16: =(J15-J6+(50.505-7.756)-63.977-10.784)/J15 -> 0.2540432
B17: EBITDA margin | C17: =C4/C3 -> 0.17297844 | D17: =D4/D3 -> 0.1981729 | E17: =E4/E3 -> 0.1944467 | F17: =F4/F3 -> 0.22341654 | G17: =G4/G3 -> 0.29259729 | H17: =H4/H3 -> 0.12394045 | I17: =I4/I3 -> 0.10157791 | J17: =J4/J3 -> 0.25145986
B18: Operating Margin | C18: =C5/C3 -> 0.13418785 | D18: =D5/D3 -> 0.16870468 | E18: =E5/E3 -> 0.14751308 | F18: =F5/F3 -> 0.16691691 | G18: =G5/G3 -> 0.23128755 | H18: =H5/H3 -> 0.10250018 | I18: =I5/I3 -> 0.067061144 | J18: =J5/J3 -> 0.2373533
B19: Total Debt/EBITDA | C19: =C8/C4 -> 3.241092 | D19: =D8/D4 -> 3.4184753 | E19: =E8/E4 -> 3.63409 | F19: =F8/F4 -> 3.2970784 | G19: =G8/G4 -> 0.99279636 | H19: =H8/H4 -> 3.716092 | I19: =I8/I4 -> 4.431068 | J19: =J8/J4 -> 2.8221026
B20: Net Debt/EBITDA | C20: =C9/C4 -> 2.4176564 | D20: =D9/D4 -> 3.0330045 | E20: =E9/E4 -> 3.4232457 | F20: =F9/F4 -> 3.2500318 | G20: =G9/G4 -> 0.90789794 | H20: =H9/H4 -> 2.8689655 | I20: =I9/I4 -> 3.5854369 | J20: =J9/J4 -> 1.898668
B21: Debt to equity | C21: =C8/C10 -> 1.0368627 | D21: =D8/D10 -> 1.590287 | E21: =E8/E10 -> 1.5492428 | F21: =F8/F10 -> 1.6931357 | G21: =G8/G10 -> 0.38457876 | H21: =H8/H10 -> 1.9266985 | I21: =I8/I10 -> 1.3510953 | J21: =J8/J10 -> 0.82609265
B22: Gearing(***) | C22: =C8/(C10+C8) -> 0.50904889 | D22: =D8/(D10+D8) -> 0.6139424 | E22: =E8/(E10+E8) -> 0.60772666 | F22: =F8/(F10+F8) -> 0.62868563 | G22: =G8/(G10+G8) -> 0.27775868 | H22: =H8/(H10+H8) -> 0.65831806 | I22: =I8/(I10+I8) -> 0.57466633 | J22: =J8/(J10+J8) -> 0.45238266
A23: Millions | B23: Number of shares - Shares outstanding | C23: 639.774 | D23: 712.89188 | E23: 6731.176 | F23: 587.235 | G23: 79.198135 | H23: 113.38 | I23: NA | J23: 930.8
A24: USD | B24: Earning (net profit) per share | C24: =C6/C23 -> 7.0856881 | D24: =D6/D23 -> 4.7202108 | E24: =E6/E23 -> 0.43492868 | F24: =F6/F23 -> 4.7257786 | G24: =G6/G23 -> 50.150521 | H24: =H6/H23 -> 8.0261069 | I24: NA | J24: =J6/J23 -> 1.8218737
A25: USD | B25: Dividends per share | C25: =1.2/G45 -> 1.4144272 | D25: 0.4 | E25: 0.08 | F25: 0.88 | G25: =2000/G44 -> 1.980198 | H25: 0.4 | I25: =0.05/G46 -> 0.086014106 | J25: 0.368
A26: USD | B26: Earnings (EBITDA) per share | C26: =C4/C23 -> 10.392711 | D26: =D4/D23 -> 7.8202602 | E26: =E4/E23 -> 0.96076033 | F26: =F4/F23 -> 10.034836 | G26: =G4/G23 -> 96.209786 | H26: =H4/H23 -> 15.346622 | I26: Group | J26: =J4/J23 -> 2.6407284
B27: Shares price (dec 31th, 2005) | C27: =20.95/G45 -> 24.693541 | D27: 26.33 | E27: =420/G42 -> 3.5753809 | F27: =3960/G42 -> 33.710735 | G27: =202000/G44 -> 200 | H27: 48.07 | I27: 5.07 | J27: 9.9
B28: P/E multiple | C28: =C27/C24 -> 3.4849884 | D28: =D27/D24 -> 5.5781406 | E28: =E27/E24 -> 8.2206143 | F28: =F27/F24 -> 7.1333716 | G28: =G27/G24 -> 3.9879945 | H28: =H27/H24 -> 5.9892051 | I28: NA | J28: =J27/J24 -> 5.4339663
B29: P/E Multiple(EBITDA) | C29: =C27/C26 -> 2.3760442 | D29: =D27/D26 -> 3.3668957 | E29: =E27/E26 -> 3.7214077 | F29: =F27/F26 -> 3.3593709 | G29: =G27/G26 -> 2.0787906 | H29: =H27/H26 -> 3.1322854 | I29: NA | J29: =J27/J26 -> 3.7489656
B30: ROIC | C30: =C5*(1-C16)/(C12+C14) -> 0.17409016 | D30: =D5*(1-D16)/(D12+D14) -> 0.17266382 | E30: =E5*(1-E16)/(E12+E14) -> 0.11038356 | F30: =F5*(1-F16)/(F12+F14) -> 0.13425861 | G30: =G5*(1-G16)/(G12+G14) -> 0.19688365 | H30: =H5*(1-H16)/(H12+H14) -> 0.17776287 | I30: =I5*(1-I16)/(I12+I14) -> 0.083878647 | J30: =J5*(1-J16)/(J12+J14) -> 0.15885138
B31: ROA | C31: =C5/(C8+C10) -> 0.12183985 | D31: =D5/(D8+D10) -> 0.15288963 | E31: =E5/(E8+E10) -> 0.12686522 | F31: =F5/(F8+F10) -> 0.14245879 | G31: =G5/(G8+G10) -> 0.22115125 | H31: =H5/(H8+H10) -> 0.14650784 | I31: =I5/(I8+I10) -> 0.08562075 | J31: =J5/(J8+J10) -> 0.15130725
B32: EV/EBITDA | C32: =(C23*C27+C9)/C4 -> 4.7937006 | D32: =(D23*D27+D9)/D4 -> 6.3999001 | E32: =(E23*E27+E9)/E4 -> 7.1446535 | F32: =(F23*F27+F9)/F4 -> 6.6094027 | G32: =(G23*G27+G9)/G4 -> 2.9866885 | H32: =(H23*H27+H9)/H4 -> 6.0012509 | I32: NA | J32: =(J23*J27+J9)/J4 -> 5.6476336
B34: NA - Not Available
B36: (*) NWC needs = (Current Assets - Cash and Cash Equivalents) - (Current Liabilities -Short Term Debt)
B37: (**) Defered Taxes and Minority Interests considered
B38: (***) Gearing = Total Debt/(Equity+Total Debt)
B41: Sources:
B42: Annual Report of all the companies in 2005 and 2006 | F42: 1USD - JPY | G42: 117.47 | H42: 38807
B43: www.bloomberg.com | F43: 1USD - JPY | G43: 117.87 | H43: 38717
B44: http://investing.businessweek.com | F44: 1USD - KRW | G44: 1010 | H44: 38717
B45: www.google.com/finance | F45: 1USD - EUR | G45: 0.8484 | H45: 38717
...

Sheet Arcelor and Mittal in detail
C2: Arcelor (31-12-2003) | D2: Arcelor (31-12-2004) | E2: Arcelor (31-12-2005)
A3: Millions of USD | B3: Revenues | C3: =25923/C65 -> 30555.163 | D3: =30176/C65 -> 35568.128 | E3: ='Finacial Data'!C3 -> 38438.237
A4: Millions of USD | B4: EBITDA | C4: =(2339-111)/C65 -> 2626.1198 | D4: =(4539-78)/C65 -> 5258.133 | E4: ='Finacial Data'!C4 -> 6648.9863
A5: Millions of USD | B5: EBIT | C5: =738/C65 -> 869.8727 | D5: =3314/C65 -> 3906.1763 | E5: ='Finacial Data'!C5 -> 5157.9444
A6: Millions of USD | B6: Net Profit | C6: =257/C65 -> 302.92315 | D6: =2290/C65 -> 2699.1985 | E6: ='Finacial Data'!C6 -> 4533.239
A7: Millions of USD | B7: Net Profit (Before Minority Interests) | C7: =C6+159/C65 -> 490.33475 | D7: =D6+403/C65 -> 3174.2103 | E7: =E6+432/C65 -> 5042.4328
A8: Millions of USD | B8: Total Debt | C8: =17875/C65 -> 21069.071 | D8: =18283/C65 -> 21549.976 | E8: ='Finacial Data'!C8 -> 21549.976
A9: Millions of USD | B9: Net Debt | C9: =C8-1890/C65 -> 18841.348 | D9: =D8-4043/C65 -> 16784.536 | E9: ='Finacial Data'!C9 -> 16074.965
A10: Millions of USD | B10: Equity | C10: =6733/C65 -> 7936.115 | D10: =12227/C65 -> 14411.834 | E10: ='Finacial Data'!C10 -> 20783.828
A11: Millions of USD | B11: Total Assets | C11: =C8+C10 -> 29005.186 | D11: =D8+D10 -> 35961.81 | E11: =E8+E10 -> 42333.805
A12: Millions of USD | B12: Fixed Assets (Long Term Assets) | C12: =12590/C65 -> 14839.698 | D12: =15265/C65 -> 17992.692 | E12: ='Finacial Data'!C12 -> 21447.43
A13: Millions of USD | B13: Market capitalization | C13: =C20*C21 -> 9141.6532 | D13: =D20*D21 -> 14650.825 | E13: =E20*E21 -> 15642.474
A14: Millions of USD | B14: NWC Needs (*) | C14: =((12018-1024)-(8388-4348))/C65 -> 8196.6054 | D14: =((15973-2298)-(10387-2293))/C65 -> 6578.265 | E14: ='Finacial Data'!C14 -> 5537.4823
A15: Millions of USD | B15: Invested Capital (Fixed Assets + NWC) | C15: =C12+C14 -> 23036.304 | D15: =D12+D14 -> 24570.957 | E15: =E12+E14 -> 26984.913
B16: WACC | C16: ='WACC calculation'!C14 -> 0.075223258 | D16: ='WACC calculation'!D14 -> 0.081793169 | E16: ='WACC calculation'!E14 -> 0.091687096
B17: Pre tax Income | C17: =557/C65 -> 656.52994 | D17: =3206/C65 -> 3778.8779 | E17: ='Finacial Data'!C15 -> 5232.2018
B18: Defered Taxes | C18: =-95/C65 -> -111.97548 | D18: =-153/C65 -> -180.33946 | E18: =235/C65 -> 276.99198
B19: Medium Tax Rate = (Tax/Pre Tax Income) (**) | C19: =(C17-C7+C18)/C17 -> 0.082585278 | D19: =(D17-D7+D18)/D17 -> 0.11228946 | E19: =(E17-E7+E18)/E17 -> 0.089209281
A20: Millions of USD | B20: Number of Shares outstanding | C20: 533.041 | D20: 639.774 | E20: 639.774
A21: USD | B21: Shares price (dec 31th, 2005) | C21: 17.15 | D21: 22.9 | E21: 24.45
B22: ROIC | C22: =C5*(1-C19)/(C14+C12) -> 0.034642451 | D22: =D5*(1-D19)/(D14+D12) -> 0.14112409 | E22: =E5*(1-E19)/(E14+E12) -> 0.17409016
B23: ROA | C23: =C5/C11 -> 0.029990247 | D23: =D5/D11 -> 0.10862012 | E23: =E5/E11 -> 0.12183985
C26: Mittal (31-12-2003) | D26: Mittal (31-12-2004) | E26: Mittal (31-12-2005)
A27: Millions of USD | B27: Revenues | C27: 9567 | D27: 22197 | E27: ='Finacial Data'!D3 -> 28132
A28: Millions of USD | B28: EBITDA | C28: 1630 | D28: 6969 | E28: ='Finacial Data'!D4 -> 5575
A29: Millions of USD | B29: EBIT | C29: 1299 | D29: 6416 | E29: ='Finacial Data'!D5 -> 4746
A30: Millions of USD | B30: Net Profit | C30: 1182 | D30: =4701 -> 4701 | E30: =3365 -> 3365
A31: Millions of USD | B31: Net Profit (Before Minority Interests) | C31: =C30+35 -> 1217 | D31: =D30+615 -> 5316 | E31: =E30+520 -> 3885
A32: Millions of USD | B32: Total Debt | C32: 7315 | D32: 11564 | E32: ='Finacial Data'!D8 -> 19058
A33: Millions of USD | B33: Net Debt | C33: =C32-760-140 -> 6415 | D33: =D32-2495-139 -> 8930 | E33: ='Finacial Data'!D9 -> 16909
A34: Millions of USD | B34: Equity | C34: 2822 | D34: 7589 | E34: ='Finacial Data'!D10 -> 11984
A35: Millions of USD | B35: Total Assets | C35: =C32+C34 -> 10137 | D35: =D32+D34 -> 19153 | E35: =E32+E34 -> 31042
A36: Millions of USD | B36: Fixed Assets (Long Term Assets) | C36: 6454 | D36: 9528 | E36: ='Finacial Data'!D12 -> 19330
A37: Millions of USD | B37: Market capitalization | C37: =C44*C45 -> 5736.5615 | D37: =D44*D45 -> 24843.248 | E37: =E44*E45 -> 18772.79
A38: Millions of USD | B38: NWC Needs (*) | C38: =(3683-760-140)-(2619-780) -> 944 | D38: =(9625-2495-139)-(6230-341) -> 1102 | E38: ='Finacial Data'!D14 -> 4282
A39: Millions of USD | B39: Invested Capital (Fixed Assets + NWC) | C39: =C38+C36 -> 7398 | D39: =D38+D36 -> 10630 | E39: =E38+E36 -> 23612
B40: WACC | C40: ='WACC calculation'!C29 -> 0.076601232 | D40: ='WACC calculation'!D29 -> 0.081617323 | E40: ='WACC calculation'!E29 -> 0.090606403
B41: Pre tax Income | C41: 1400 | D41: 6133 | E41: 4703
B42: Defered Taxes | C42: -141 | D42: -86 | E42: -155
B43: Medium Tax Rate = (Tax/Pre Tax Income) (**) | C43: =(C41-C31+C42)/C41 -> 0.03 | D43: =(D41-D31+D42)/D41 -> 0.11919126 | E43: =(E41-E31+E42)/E41 -> 0.14097385
...

Sheet Summed Company request data
C2: Arcelor + Mittal (31-12-2003) | D2: Arcelor + Mittal (31-12-2004) | E2: Arcelor + Mittal (31-12-2005)
A3: Millions of USD | B3: Revenues | C3: ='Arcelor and Mittal in detail'!C3+'Arcelor and Mittal in detail'!C27 -> 40122.163 | D3: ='Arcelor and Mittal in detail'!D3+'Arcelor and Mittal in detail'!D27 -> 57765.128 | E3: ='Arcelor and Mittal in detail'!E3+'Arcelor and Mittal in detail'!E27 -> 66570.237
A4: Millions of USD | B4: EBITDA | C4: ='Arcelor and Mittal in detail'!C4+'Arcelor and Mittal in detail'!C28 -> 4256.1198 | D4: ='Arcelor and Mittal in detail'!D4+'Arcelor and Mittal in detail'!D28 -> 12227.133 | E4: ='Arcelor and Mittal in detail'!E4+'Arcelor and Mittal in detail'!E28 -> 12223.986
A5: Millions of USD | B5: EBIT | C5: ='Arcelor and Mittal in detail'!C5+'Arcelor and Mittal in detail'!C29 -> 2168.8727 | D5: ='Arcelor and Mittal in detail'!D5+'Arcelor and Mittal in detail'!D29 -> 10322.176 | E5: ='Arcelor and Mittal in detail'!E5+'Arcelor and Mittal in detail'!E29 -> 9903.9444
A6: Millions of USD | B6: Net Profit | C6: ='Arcelor and Mittal in detail'!C6+'Arcelor and Mittal in detail'!C30 -> 1484.9231 | D6: ='Arcelor and Mittal in detail'!D6+'Arcelor and Mittal in detail'!D30 -> 7400.1985 | E6: ='Arcelor and Mittal in detail'!E6+'Arcelor and Mittal in detail'!E30 -> 7898.239
A7: Millions of USD | B7: Net Profit (Before Minority Interests) | C7: ='Arcelor and Mittal in detail'!C7+'Arcelor and Mittal in detail'!C31 -> 1707.3347 | D7: ='Arcelor and Mittal in detail'!D7+'Arcelor and Mittal in detail'!D31 -> 8490.2103 | E7: ='Arcelor and Mittal in detail'!E7+'Arcelor and Mittal in detail'!E31 -> 8927.4328
A8: Millions of USD | B8: Total Debt | C8: ='Arcelor and Mittal in detail'!C8+'Arcelor and Mittal in detail'!C32 -> 28384.071 | D8: ='Arcelor and Mittal in detail'!D8+'Arcelor and Mittal in detail'!D32 -> 33113.976 | E8: ='Arcelor and Mittal in detail'!E8+'Arcelor and Mittal in detail'!E32 -> 40607.976
A9: Millions of USD | B9: Net Debt | C9: ='Arcelor and Mittal in detail'!C9+'Arcelor and Mittal in detail'!C33 -> 25256.348 | D9: ='Arcelor and Mittal in detail'!D9+'Arcelor and Mittal in detail'!D33 -> 25714.536 | E9: ='Arcelor and Mittal in detail'!E9+'Arcelor and Mittal in detail'!E33 -> 32983.965
A10: Millions of USD | B10: Equity | C10: ='Arcelor and Mittal in detail'!C10+'Arcelor and Mittal in detail'!C34 -> 10758.115 | D10: ='Arcelor and Mittal in detail'!D10+'Arcelor and Mittal in detail'!D34 -> 22000.834 | E10: ='Arcelor and Mittal in detail'!E10+'Arcelor and Mittal in detail'!E34 -> 32767.828
A11: Millions of USD | B11: Total Assets | C11: ='Arcelor and Mittal in detail'!C11+'Arcelor and Mittal in detail'!C35 -> 39142.186 | D11: ='Arcelor and Mittal in detail'!D11+'Arcelor and Mittal in detail'!D35 -> 55114.81 | E11: ='Arcelor and Mittal in detail'!E11+'Arcelor and Mittal in detail'!E35 -> 73375.805
A12: Millions of USD | B12: Fixed Assets (Long Term Assets) | C12: ='Arcelor and Mittal in detail'!C12+'Arcelor and Mittal in detail'!C36 -> 21293.698 | D12: ='Arcelor and Mittal in detail'!D12+'Arcelor and Mittal in detail'!D36 -> 27520.692 | E12: ='Arcelor and Mittal in detail'!E12+'Arcelor and Mittal in detail'!E36 -> 40777.43
A13: Millions of USD | B13: Market capitalization | C13: ='Arcelor and Mittal in detail'!C13+'Arcelor and Mittal in detail'!C37 -> 14878.215 | D13: ='Arcelor and Mittal in detail'!D13+'Arcelor and Mittal in detail'!D37 -> 39494.073 | E13: ='Arcelor and Mittal in detail'!E13+'Arcelor and Mittal in detail'!E37 -> 34415.264
A14: Millions of USD | B14: NWC Needs (*) | C14: ='Arcelor and Mittal in detail'!C14+'Arcelor and Mittal in detail'!C38 -> 9140.6054 | D14: ='Arcelor and Mittal in detail'!D14+'Arcelor and Mittal in detail'!D38 -> 7680.265 | E14: ='Arcelor and Mittal in detail'!E14+'Arcelor and Mittal in detail'!E38 -> 9819.4823
A15: Millions of USD | B15: Invested Capital (Fixed Assets + NWC) | C15: ='Arcelor and Mittal in detail'!C15+'Arcelor and Mittal in detail'!C39 -> 30434.304 | D15: ='Arcelor and Mittal in detail'!D15+'Arcelor and Mittal in detail'!D39 -> 35200.957 | E15: ='Arcelor and Mittal in detail'!E15+'Arcelor and Mittal in detail'!E39 -> 50596.913
B16: WACC | C16: ='WACC calculation'!C37 -> 0.075640468 | D16: ='WACC calculation'!D37 -> 0.081702094 | E16: ='WACC calculation'!E37 -> 0.091114967
B17: Pre tax Income | C17: ='Arcelor and Mittal in detail'!C17+'Arcelor and Mittal in detail'!C41 -> 2056.5299 | D17: ='Arcelor and Mittal in detail'!D17+'Arcelor and Mittal in detail'!D41 -> 9911.8779 | E17: ='Arcelor and Mittal in detail'!E17+'Arcelor and Mittal in detail'!E41 -> 9935.2018
B18: Defered Taxes | C18: ='Arcelor and Mittal in detail'!C18+'Arcelor and Mittal in detail'!C42 -> -252.97548 | D18: ='Arcelor and Mittal in detail'!D18+'Arcelor and Mittal in detail'!D42 -> -266.33946 | E18: ='Arcelor and Mittal in detail'!E18+'Arcelor and Mittal in detail'!E42 -> 121.99198
B19: Medium Tax Rate = (Tax/Pre Tax Income) (**) | C19: =(C17-C7-C18)/C17 -> 0.2928091 | D19: =(D17-D7-D18)/D17 -> 0.17030144 | E19: =(E17-E7-E18)/E17 -> 0.08915541
A20: Millions of USD | B20: Number of Shares outstanding (***) | C20: ='New company requested data'!C20 -> 1385.2689 | D20: ='New company requested data'!C20 -> 1385.2689 | E20: ='New company requested data'!C20 -> 1385.2689
A21: USD | B21: Shares price (dec 31th, 2005) | C21: =C13/C20 -> 10.740308 | D21: =D13/D20 -> 28.510041 | E21: =E13/E20 -> 24.843743
B22: ROIC | C22: =C5*(1-C19)/C15 -> 0.05039731 | D22: =D5*(1-D19)/D15 -> 0.24329722 | E22: =E5*(1-E19)/E15 -> 0.1782906
B23: ROA | C23: =C5/C11 -> 0.055410106 | D23: =D5/D11 -> 0.18728498 | E23: =E5/E11 -> 0.13497561
B26: (*) NWC Needs = (Current Assets - Cash and Cash Equivalents) - (Current Liabilities -Short Term Debt)
B27: (**) Defered Taxes and Minority Interests considered
B28: (***) Number of Shares After the Merger (2006)
B30: Sources:
B31: Annual Report of Arcelor SA and Mittal Steel in 2003, 2004 and 2005
B32: www.bloomberg.com
B33: www.google.com/finance
B34: www.yahoofinance.com
B35: www.arcelormittal.com
B38: 1USD - JPY | C38: 117.47 | D38: 38807
B39: 1USD - JPY | C39: 117.87 | D39: 38717
B40: 1USD - KRW | C40: 1020.73 | D40: 38717
B41: 1USD - EUR | C41: 0.8484 | D41: 38717
B42: 1USD - GBP | C42: 0.5813 | D42: 38717

Sheet New company requested data
C2: ArcelorMittal (31-12-2006)(*) | D2: ArcelorMittal (31-12-2007) | E2: ArcelorMittal (31-12-2008)
A3: Millions of USD | B3: Revenues | C3: 58870 | D3: 105216 | E3: 124936
A4: Millions of USD | B4: EBITDA | C4: 9856 | D4: 19400 | E4: 18336
A5: Millions of USD | B5: EBIT | C5: =C4-2324 -> 7532 | D5: =D4-4570 -> 14830 | E5: =E4-6100 -> 12236
A6: Millions of USD | B6: Net Profit | C6: 5247 | D6: 10368 | E6: 9399
A7: Millions of USD | B7: Net Profit (Before Minority Interests) | C7: =C6+859 -> 6106 | D7: =D6+1482 -> 11850 | E7: 10439
A8: Millions of USD | B8: Total Debt | C8: 62453 | D8: 72090 | E8: 73858
A9: Millions of USD | B9: Net Debt | C9: =C8-6020-126 -> 56307 | D9: =D8-7860-245 -> 63985 | E9: =E8-7578 -> 66280
A10: Millions of USD | B10: Equity | C10: 50228 | D10: 61535 | E10: 59230
A11: Millions of USD | B11: Total Assets | C11: =C10+C8 -> 112681 | D11: =D10+D8 -> 133625 | E11: =E10+E8 -> 133088
A12: Millions of USD | B12: Fixed Assets (Long Term Assets) | C12: 73268 | D12: 88297 | E12: 88674
A13: Millions of USD | B13: Market capitalization | C13: =C20*C21 -> 58430.642 | D13: =D20*D21 -> 109958.49 | E13: =E20*E21 -> 33589.996
A14: Millions of USD | B14: NWC Needs (**) | C14: =(39413-6020-126)-(24560-4922) -> 13629 | D14: =(45328-7860-245)-(32209-8542) -> 13556 | E14: =(44414-7576-11)-(30760-8409) -> 14476
A15: Millions of USD | B15: Invested Capital (Fixed Assets + NWC) | C15: =C12+C14 -> 86897 | D15: =D12+D14 -> 101853 | E15: =E12+E14 -> 103150
B16: WACC | C16: ='WACC calculation'!C52 -> 0.10380367 | D16: ='WACC calculation'!D52 -> 0.12215319 | E16: ='WACC calculation'!E52 -> 0.1018706
B17: Pre tax Income | C17: 7228 | D17: 14888 | E17: 11537
B18: Defered Taxes | C18: -145 | D18: 494 | E18: -1396
B19: Medium Tax Rate = (Tax/Pre Tax Income) (***) | C19: =(C17-C7-C18)/C17 -> 0.17529054 | D19: =(D17-D7-D18)/D17 -> 0.17087587 | E19: =(E17-E7-E18)/E17 -> 0.21617405
A20: Millions of USD | B20: Number of Shares outstanding | C20: 1385.2689 | D20: 1421.5706 | E20: 1366.0023
A21: USD | B21: Shares price (dec 31th, 2005) | C21: 42.18 | D21: 77.35 | E21: 24.59
B22: ROIC | C22: =C5*(1-C19)/C15 -> 0.071483615 | D22: =D5*(1-D19)/D15 -> 0.12072213 | E22: =E5*(1-E19)/E15 -> 0.092980071
B23: ROA | C23: =C5/C11 -> 0.066843567 | D23: =D5/D11 -> 0.11098223 | E23: =E5/E11 -> 0.091939168
B26: (*) Half year (Values After the Merger)
B27: (**) NWC needs = (Current Assets - Cash and Cash Equivalents) - (Current Liabilities -Short Term Debt)
B28: (***) Defered Taxes and Minority Interests considered
B31: Sources:
B32: Annual Report of ArcelorMittal in 2006,2007 and 2008
B33: www.bloomberg.com
B34: www.google.com/finance
B35: www.yahoofinance.com
B36: www.arcelormittal.com

Sheet WACC calculation
C2: Arcelor (31-12-2003) | D2: Arcelor (31-12-2004) | E2: Arcelor (31-12-2005)
A3: Millions of USD | B3: Interest expense | C3: =(321+192)/C78 -> 604.66761 | D3: =(521+196)/C78 -> 845.12023 | E3: =(254+229)/C78 -> 569.30693
A4: Millions of USD | B4: Net Debt | C4: ='Arcelor and Mittal in detail'!C9 -> 18841.348 | D4: ='Arcelor and Mittal in detail'!D9 -> 16784.536 | E4: ='Arcelor and Mittal in detail'!E9 -> 16074.965
B5: Medium Tax Rate = (Tax/Pre Tax Income) | C5: ='Arcelor and Mittal in detail'!C19 -> 0.082585278 | D5: ='Arcelor and Mittal in detail'!D19 -> 0.11228946 | E5: ='Arcelor and Mittal in detail'!E19 -> 0.089209281
B6: RD | C6: =IF((C3/C4)*(1-C5)>C9,(C3/C4)*(1-C5),C9) -> 0.0425 | D6: =IF((D3/D4)*(1-D5)>D9,(D3/D4)*(1-D5),D9) -> 0.044697223 | E6: =IF((E3/E4)*(1-E5)>E9,(E3/E4)*(1-E5),E9) -> 0.0439
A7: Millions of USD | B7: Net Debt (Debt) | C7: =C4 -> 18841.348 | D7: =D4 -> 16784.536 | E7: =E4 -> 16074.965
A8: Millions of USD | B8: Market Capitalization (Equity) | C8: ='Arcelor and Mittal in detail'!C13 -> 9141.6532 | D8: ='Arcelor and Mittal in detail'!D13 -> 14650.825 | E8: ='Arcelor and Mittal in detail'!E13 -> 15642.474
B9: Rf (Risk Free) (*) | C9: 0.0425 | D9: 0.0422 | E9: 0.0439
B10: Rm-Rf (**) | C10: 0.055 | D10: 0.055 | E10: 0.055
B11: βu (***) | C11: 0.63 | D11: 0.74 | E11: 0.91
B12: βL | C12: =C11*(1+C7/C8*(1-C5)) -> 1.8212242 | D12: =D11*(1+D7/D8*(1-D5)) -> 1.492576 | E12: =E11*(1+E7/E8*(1-E5)) -> 1.7617351
B13: Re | C13: =C9+C12*C10 -> 0.14266733 | D13: =D9+D12*D10 -> 0.12429168 | E13: =E9+E12*E10 -> 0.14079543
B14: WACC | C14: =C13*C8/(C7+C8)+C6*(C7/(C7+C8)) -> 0.075223258 | D14: =D13*D8/(D7+D8)+D6*(D7/(D7+D8)) -> 0.081793169 | E14: =E13*E8/(E7+E8)+E6*(E7/(E7+E8)) -> 0.091687096
C17: Mittal (31-12-2003) | D17: Mittal (31-12-2004) | E17: Mittal (31-12-2005)
A18: Millions of USD | B18: Interest expense | C18: =131+25 -> 156 | D18: =207+78 -> 285 | E18: =189+110 -> 299
A19: Millions of USD | B19: Net Debt | C19: ='Arcelor and Mittal in detail'!C33 -> 6415 | D19: ='Arcelor and Mittal in detail'!D33 -> 8930 | E19: ='Arcelor and Mittal in detail'!E33 -> 16909
B20: Medium Tax Rate = (Tax/Pre Tax Income) | C20: ='Arcelor and Mittal in detail'!C43 -> 0.03 | D20: ='Arcelor and Mittal in detail'!D43 -> 0.11919126 | E20: ='Arcelor and Mittal in detail'!E43 -> 0.14097385
B21: RD | C21: =IF((C18/C19)*(1-C20)>C24,(C18/C19)*(1-C20),C24) -> 0.0425 | D21: =IF((D18/D19)*(1-D20)>D24,(D18/D19)*(1-D20),D24) -> 0.0422 | E21: =IF((E18/E19)*(1-E20)>E24,(E18/E19)*(1-E20),E24) -> 0.0439
A22: Millions of USD | B22: Net Debt (Debt) | C22: =C19 -> 6415 | D22: =D19 -> 8930 | E22: =E19 -> 16909
A23: Millions of USD | B23: Market Capitalization (Equity) | C23: ='Arcelor and Mittal in detail'!C37 -> 5736.5615 | D23: ='Arcelor and Mittal in detail'!D37 -> 24843.248 | E23: ='Arcelor and Mittal in detail'!E37 -> 18772.79
B24: Rf (Risk Free) (*) | C24: 0.0425 | D24: 0.0422 | E24: 0.0439
B25: Rm-Rf (**) | C25: 0.055 | D25: 0.055 | E25: 0.055
B26: βu (***) | C26: 0.63 | D26: 0.74 | E26: 0.91
B27: βL | C27: =C26*(1+C22/C23*(1-C20)) -> 1.3133722 | D27: =D26*(1+D22/D23*(1-D20)) -> 0.97429144 | E27: =E26*(1+E22/E23*(1-E20)) -> 1.6141041
B28: Re | C28: =C24+C27*C25 -> 0.11473547 | D28: =D24+D27*D25 -> 0.095786029 | E28: =E24+E27*E25 -> 0.13267573
B29: WACC | C29: =C28*C23/(C22+C23)+C21*(C22/(C22+C23)) -> 0.076601232 | D29: =D28*D23/(D22+D23)+D21*(D22/(D22+D23)) -> 0.081617323 | E29: =E28*E23/(E22+E23)+E21*(E22/(E22+E23)) -> 0.090606403
C32: Arcelor + Mittal (31-12-2003) | D32: Arcelor + Mittal (31-12-2004) | E32: Arcelor + Mittal (31-12-2005)
B33: Arcelor WACC | C33: =C14 -> 0.075223258 | D33: =D14 -> 0.081793169 | E33: =E14 -> 0.091687096
A34: Millions of USD | B34: Arcelor Entreprise Value | C34: =C7+C8 -> 27983.002 | D34: =D7+D8 -> 31435.36 | E34: =E7+E8 -> 31717.439
B35: Mittal WACC | C35: =C29 -> 0.076601232 | D35: =D29 -> 0.081617323 | E35: =E29 -> 0.090606403
A36: Millions of USD | B36: Mittal Entreprise Value | C36: =C22+C23 -> 12151.562 | D36: =D22+D23 -> 33773.248 | E36: =E22+E23 -> 35681.79
B37: Arcelor + Mittal WACC | C37: =C33*C34/(C34+C36)+C35*C36/(C34+C36) -> 0.075640468 | D37: =D33*D34/(D34+D36)+D35*D36/(D34+D36) -> 0.081702094 | E37: =E33*E34/(E34+E36)+E35*E36/(E34+E36) -> 0.091114967
C40: ArcelorMittal (31-12-2006) | D40: ArcelorMittal (31-12-2007) | E40: ArcelorMittal (31-12-2008)
A41: Millions of USD | B41: Interest expense | C41: =654+251 -> 905 | D41: =927+577 -> 1504 | E41: =2352+497 -> 2849
A42: Millions of USD | B42: Net Debt | C42: ='New company requested data'!C9 -> 56307 | D42: ='New company requested data'!D9 -> 63985 | E42: ='New company requested data'!E9 -> 66280
B43: Medium Tax Rate = (Tax/Pre Tax Income) | C43: ='New company requested data'!C19 -> 0.17529054 | D43: ='New company requested data'!D19 -> 0.17087587 | E43: ='New company requested data'!E19 -> 0.21617405
B44: RD | C44: =IF((C41/C42)*(1-C43)>C47,(C41/C42)*(1-C43),C47) -> 0.047 | D44: =IF((D41/D42)*(1-D43)>D47,(D41/D42)*(1-D43),D47) -> 0.0402 | E44: =IF((E41/E42)*(1-E43)>E47,(E41/E42)*(1-E43),E47) -> 0.033692217
A45: Millions of USD | B45: Net Debt (Debt) | C45: =C42 -> 56307 | D45: =D42 -> 63985 | E45: =E42 -> 66280
A46: Millions of USD | B46: Market Capitalization (Equity) | C46: ='New company requested data'!C13 -> 58430.642 | D46: ='New company requested data'!D13 -> 109958.49 | E46: ='New company requested data'!E13 -> 33589.996
B47: Rf (Risk Free) (*) | C47: 0.047 | D47: 0.0402 | E47: 0.0221
...

Sheet WACC projection
C2: Index: | D2: Annual
C3: 1982-84=100 | D3: growth rate
B4: 2000 (actual) | C4: 172.2 | D4: =3.37185452003603/100 -> 0.033718545
B5: 2001 (actual) | C5: 177.1 | D5: =+C5/C4-1 -> 0.028455285 | F5: Arcelor +Mittal | I5: ArcelorMittal
B6: 2002 (actual) | C6: 179.9 | D6: =+C6/C5-1 -> 0.015810277
B7: 2003 (actual) | C7: 184 | D7: =+C7/C6-1 -> 0.022790439 | F7: Nominal Wacc | G7: Real Wacc
B8: 2004 (actual) | C8: 188.9 | D8: =+C8/C7-1 -> 0.026630435 | F8: =C28 -> 0.081702094 | G8: =(1+F8)/(1+D8)-1 -> 0.053643119
B9: 2005 (actual) | C9: 195.3 | D9: =+C9/C8-1 -> 0.03388036 | F9: =D28 -> 0.091114967 | G9: =(1+F9)/(1+D9)-1 -> 0.055359024
B10: 2006 (actual) | C10: 201.6 | D10: =+C10/C9-1 -> 0.032258065 | F10: =(1+G10)*(1+D10)-1 -> 0.088517235 | G10: =(G8+G9)/2 -> 0.054501071 | I10: Nominal Wacc | J10: Real Wacc
B11: 2007 (actual) | C11: 207.342 | D11: =+C11/C10-1 -> 0.028482143 | F11: =(1+G11)*(1+D11)-1 -> 0.084535521 | G11: =G10 -> 0.054501071 | I11: ='WACC calculation'!D56 -> 0.079372595 | J11: =(1+I11)/(1+D11)-1 -> 0.049481124
B12: 2008 (actual) | C12: 215.303 | D12: =+C12/C11-1 -> 0.038395501 | F12: =(1+G12)*(1+D12)-1 -> 0.094989168 | G12: =G11 -> 0.054501071 | I12: ='WACC calculation'!E56 -> 0.065596416 | J12: =(1+I12)/(1+D12)-1 -> 0.026195139
B13: 2009 | C13: 214.05 | D13: =+C13/C12-1 -> -0.0058197053 | F13: =(1+G13)*(1+D13)-1 -> 0.048364186 | G13: =G12 -> 0.054501071 | I13: =(1+J13)*(1+D13)-1 -> 0.03179822 | J13: =(J11+J12)/2 -> 0.037838132
B14: 2010 | C14: 218.05 | D14: =+C14/C13-1 -> 0.018687223 | F14: =(1+G14)*(1+D14)-1 -> 0.074206768 | G14: =G13 -> 0.054501071 | I14: =(1+J14)*(1+D14)-1 -> 0.057232444 | J14: =J13 -> 0.037838132
B15: 2011 | C15: 222.62905 | D15: =+C15/C14-1 -> 0.021 | F15: =(1+G15)*(1+D15)-1 -> 0.076645594 | G15: =G14 -> 0.054501071 | I15: =(1+J15)*(1+D15)-1 -> 0.059632732 | J15: =J14 -> 0.037838132
B16: 2012 | C16: 227.74952 | D16: =+C16/C15-1 -> 0.023 | F16: =(1+G16)*(1+D16)-1 -> 0.078754596 | G16: =G15 -> 0.054501071 | I16: =(1+J16)*(1+D16)-1 -> 0.061708409 | J16: =J15 -> 0.037838132
B17: 2013 | C17: 233.21551 | D17: =+C17/C16-1 -> 0.024 | F17: =(1+G17)*(1+D17)-1 -> 0.079809097 | G17: =G16 -> 0.054501071 | I17: =(1+J17)*(1+D17)-1 -> 0.062746247 | J17: =J16 -> 0.037838132
B18: 2014 | C18: 239.04589 | D18: =+C18/C17-1 -> 0.025 | F18: =(1+G18)*(1+D18)-1 -> 0.080863598 | G18: =G17 -> 0.054501071 | I18: =(1+J18)*(1+D18)-1 -> 0.063784085 | J18: =J17 -> 0.037838132
B19: 2015 | C19: 245.02204 | D19: =+C19/C18-1 -> 0.025 | F19: =(1+G19)*(1+D19)-1 -> 0.080863598 | G19: =G18 -> 0.054501071 | I19: =(1+J19)*(1+D19)-1 -> 0.063784085 | J19: =J18 -> 0.037838132
B20: 2016 | C20: 251.14759 | D20: =+C20/C19-1 -> 0.025 | F20: =(1+G20)*(1+D20)-1 -> 0.080863598 | G20: =G19 -> 0.054501071 | I20: =(1+J20)*(1+D20)-1 -> 0.063784085 | J20: =J19 -> 0.037838132
B21: 2017 | C21: 257.42628 | D21: =+C21/C20-1 -> 0.025 | F21: =(1+G21)*(1+D21)-1 -> 0.080863598 | G21: =G20 -> 0.054501071 | I21: =(1+J21)*(1+D21)-1 -> 0.063784085 | J21: =J20 -> 0.037838132
B22: 2018 | C22: 263.86194 | D22: =+C22/C21-1 -> 0.025 | F22: =(1+G22)*(1+D22)-1 -> 0.080863598 | G22: =G21 -> 0.054501071 | I22: =(1+J22)*(1+D22)-1 -> 0.063784085 | J22: =J21 -> 0.037838132
B23: Source: U.S. Bureau of Labor Statistics; The Puget Sound Economic Forecaster, prepared by Conway Pedersen Economics, Inc (assumed a constant growth after 2015)
B25: ARCELOR + MITTAL WACC
C27: Arcelor +Mittal (2004) | D27: Arcelor +Mittal (2005) | E27: Arcelor +Mittal (2006) | F27: Arcelor +Mittal (2007) | G27: Arcelor +Mittal (2008) | H27: Arcelor +Mittal (2009)
B28: Arcelor + Mittal WACC | C28: ='WACC calculation'!D37 -> 0.081702094 | D28: ='WACC calculation'!E37 -> 0.091114967 | E28: =F10 -> 0.088517235 | F28: =F11 -> 0.084535521 | G28: =F12 -> 0.094989168 | H28: =F13 -> 0.048364186
C30: Arcelor +Mittal (2010) | D30: Arcelor +Mittal (2011) | E30: Arcelor +Mittal (2012) | F30: Arcelor +Mittal (2013) | G30: Arcelor +Mittal (2014) | H30: Arcelor +Mittal (2015)
B31: Arcelor + Mittal WACC | C31: =F14 -> 0.074206768 | D31: =F15 -> 0.076645594 | E31: =F16 -> 0.078754596 | F31: =F17 -> 0.079809097 | G31: =F18 -> 0.080863598 | H31: =F19 -> 0.080863598
C33: Arcelor +Mittal (2016) | D33: Arcelor +Mittal (2017) | E33: Arcelor +Mittal (2018)
B34: Arcelor + Mittal WACC | C34: =F20 -> 0.080863598 | D34: =F21 -> 0.080863598 | E34: =F22 -> 0.080863598
B37: ARCELORMITTAL WACC
C39: ArcelorMittal (2007) | D39: ArcelorMittal (2008) | E39: ArcelorMittal (2009) | F39: ArcelorMittal (2010) | G39: ArcelorMittal (2011) | H39: ArcelorMittal (2012)
B40: ArcelorMittal WACC | C40: =I11 -> 0.079372595 | D40: =I12 -> 0.065596416 | E40: =I13 -> 0.03179822 | F40: =I14 -> 0.057232444 | G40: =I15 -> 0.059632732 | H40: =I16 -> 0.061708409
C42: ArcelorMittal (2013) | D42: ArcelorMittal (2014) | E42: ArcelorMittal (2015) | F42: ArcelorMittal (2016) | G42: ArcelorMittal (2017) | H42: ArcelorMittal (2018)
B43: ArcelorMittal WACC | C43: =I17 -> 0.062746247 | D43: =I18 -> 0.063784085 | E43: =I19 -> 0.063784085 | F43: =I20 -> 0.063784085 | G43: =I21 -> 0.063784085 | H43: =I22 -> 0.063784085
B46: Sources:
B47: Annual Report of Arcelor SA and Mittal Steel in 2003, 2004 and 2005
B48: Annual Report of ArcelorMittal in 2006,2007 and 2008
B49: U.S. Bureau of Labor Statistics
B50: www.bloomberg.com
B51: www.google.com/finance
...

Sheet Projection-Future CF SUMCOMPANY
B2: ARCELOR + MITTAL FUTURES CASH FLOWS (PROJECTION):
C4: 2004 | D4: =C4+1 -> 2005 | E4: 2006(*) | F4: =D4+2 -> 2007 | G4: =F4+1 -> 2008 | H4: =G4+1 -> 2009 | I4: =H4+1 -> 2010 | J4: =I4+1 -> 2011 | K4: =J4+1 -> 2012 | L4: =K4+1 -> 2013 | M4: =L4+1 -> 2014 | N4: =M4+1 -> 2015 | ... Q4: =P4+1 -> 2018
B5: Sales | C5: ='Summed Company request data'!D3 -> 57765.128 | D5: ='Summed Company request data'!E3 -> 66570.237 | E5: =C5*1.12 -> 64696.944 | F5: =E5*1.03 -> 66637.852 | G5: =F5*1.03 -> 68636.987 | H5: =G5*1.03 -> 70696.097 | I5: =H5*1.03 -> 72816.98 | J5: =I5*1.03 -> 75001.489 | K5: =J5*1.03 -> 77251.534 | L5: =K5*1.03 -> 79569.08 | M5: =L5*1.03 -> 81956.153 | ... Q5: =P5*1.03 -> 92242.372
B6: Cost of Sales | C6: 43764 | D6: 52838 | E6: =C6*1.12 -> 49015.68 | F6: =E6*1.03 -> 50486.15 | G6: =F6*1.03 -> 52000.735 | H6: =G6*1.03 -> 53560.757 | I6: =H6*1.03 -> 55167.58 | J6: =I6*1.03 -> 56822.607 | K6: =J6*1.03 -> 58527.285 | L6: =K6*1.03 -> 60283.104 | M6: =L6*1.03 -> 62091.597 | ... Q6: =P6*1.03 -> 69884.639
B7: Gross Margin | C7: =C5-C6 -> 14001.128 | D7: =D5-D6 -> 13732.237 | E7: =E5-E6 -> 15681.264 | F7: =F5-F6 -> 16151.702 | G7: =G5-G6 -> 16636.253 | H7: =H5-H6 -> 17135.34 | I7: =I5-I6 -> 17649.4 | J7: =J5-J6 -> 18178.882 | ... Q7: =Q5-Q6 -> 22357.732
B8: Other Operational Costs | C8: =804+823/D38 -> 1774.0613 | D8: =1062+378.4/D38 -> 1508.016 | E8: =C8*1.12 -> 1986.9486 | F8: =E8*1.03 -> 2046.5571 | G8: =F8*1.03 -> 2107.9538 | H8: =G8*1.03 -> 2171.1924 | I8: =H8*1.03 -> 2236.3282 | J8: =I8*1.03 -> 2303.4181 | K8: =J8*1.03 -> 2372.5206 | L8: =K8*1.03 -> 2443.6962 | M8: =L8*1.03 -> 2517.0071 | ... Q8: =P8*1.03 -> 2832.9137
B9: EBITDA | C9: =C7-C8 -> 12227.067 | D9: =D7-D8 -> 12224.221 | E9: =E7-E8 -> 13694.315 | F9: =F7-F8 -> 14105.144 | G9: =G7-G8 -> 14528.299 | H9: =H7-H8 -> 14964.148 | I9: =I7-I8 -> 15413.072 | J9: =J7-J8 -> 15875.464 | ... Q9: =Q7-Q8 -> 19524.819
B10: Amortizations and deperciations | C10: 1905 | D10: 2320 | E10: =C10*1.12 -> 2133.6 | F10: =E10*1.03 -> 2197.608 | G10: =F10*1.03 -> 2263.5362 | H10: =G10*1.03 -> 2331.4423 | I10: =H10*1.03 -> 2401.3856 | J10: =I10*1.03 -> 2473.4272 | K10: =J10*1.03 -> 2547.63 | L10: =K10*1.03 -> 2624.0589 | M10: =L10*1.03 -> 2702.7806 | ... Q10: =P10*1.03 -> 3042.0034
B11: EBIT | C11: =C9-C10 -> 10322.067 | D11: =D9-D10 -> 9904.2207 | E11: =E9-E10 -> 11560.715 | F11: =F9-F10 -> 11907.536 | G11: =G9-G10 -> 12264.763 | H11: =H9-H10 -> 12632.705 | I11: =I9-I10 -> 13011.687 | J11: =J9-J10 -> 13402.037 | ... Q11: =Q9-Q10 -> 16482.815
B12: EBIT (1-t) | C12: =C11*(1-$F$31) -> 8090.4361 | D12: =D11*(1-$F$31) -> 7762.9281 | E12: =E11*(1-$F$31) -> 9061.2884 | F12: =F11*(1-$F$31) -> 9333.1271 | G12: =G11*(1-$F$31) -> 9613.1209 | H12: =H11*(1-$F$31) -> 9901.5145 | I12: =I11*(1-$F$31) -> 10198.56 | J12: =J11*(1-$F$31) -> 10504.517 | ... Q12: =Q11*(1-$F$31) -> 12919.231
B13: Amortizations and depreciations | C13: =C10 -> 1905 | D13: =D10 -> 2320 | E13: =E10 -> 2133.6 | F13: =F10 -> 2197.608 | G13: =G10 -> 2263.5362 | H13: =H10 -> 2331.4423 | I13: =I10 -> 2401.3856 | J13: =J10 -> 2473.4272 | ... Q13: =Q10 -> 3042.0034
B14: Invested Capital (**) | C14: ='Summed Company request data'!D15 -> 35200.957 | D14: ='Summed Company request data'!E15 -> 50596.913 | E14: =D14*1.03 -> 52114.82 | F14: =E14*1.03 -> 53678.265 | G14: =F14*1.03 -> 55288.613 | H14: =G14*1.03 -> 56947.271 | I14: =H14*1.03 -> 58655.689 | J14: =I14*1.03 -> 60415.36 | K14: =J14*1.03 -> 62227.821 | L14: =K14*1.03 -> 64094.655 | ... Q14: =P14*1.03 -> 74303.272
B15: Change in Invested Capital | C15: ='Summed Company request data'!D15-'Summed Company request data'!C15 -> 4766.6535 | D15: =D14-C14 -> 15395.956 | E15: =E14-D14 -> 1517.9074 | F15: =F14-E14 -> 1563.4446 | G15: =G14-F14 -> 1610.3479 | H15: =H14-G14 -> 1658.6584 | I15: =I14-H14 -> 1708.4181 | J15: =J14-I14 -> 1759.6707 | K15: =K14-J14 -> 1812.4608 | ... Q15: =Q14-P14 -> 2164.173
B16: FCFF | C16: =C12-C15 -> 3323.7826 | D16: =D12-D15 -> -7633.0275 | E16: =E12-E15 -> 7543.381 | F16: =F12-F15 -> 7769.6825 | G16: =G12-G15 -> 8002.7729 | H16: =H12-H15 -> 8242.8561 | I16: =I12-I15 -> 8490.1418 | J16: =J12-J15 -> 8744.846 | ... Q16: =Q12-Q15 -> 10755.058
B17: Continuing Value | Q17: =Q16/('WACC projection'!E34-3%) -> 211449.01
B18: WACC Summed company | C18: ='WACC projection'!C28 -> 0.081702094 | D18: ='WACC projection'!D28 -> 0.091114967 | E18: ='WACC projection'!E28 -> 0.088517235 | F18: ='WACC projection'!F28 -> 0.084535521 | G18: ='WACC projection'!G28 -> 0.094989168 | H18: ='WACC projection'!H28 -> 0.048364186 | I18: ='WACC projection'!C31 -> 0.074206768 | J18: ='WACC projection'!D31 -> 0.076645594 | K18: ='WACC projection'!E31 -> 0.078754596 | L18: ='WACC projection'!F31 -> 0.079809097 | M18: ='WACC projection'!G31 -> 0.080863598 | N18: ='WACC projection'!H31 -> 0.080863598 | O18: ='WACC projection'!C34 -> 0.080863598 | P18: ='WACC projection'!D34 -> 0.080863598 | Q18: ='WACC projection'!E34 -> 0.080863598
B19: Discount factor (***) | F19: 1 | G19: =F19*(1/(1+G18)) -> 0.91325104 | H19: =G19*(1/(1+H18)) -> 0.87112003 | I19: =H19*(1/(1+I18)) -> 0.8109426 | J19: =I19*(1/(1+J18)) -> 0.75321221 | K19: =J19*(1/(1+K18)) -> 0.69822387 | L19: =K19*(1/(1+L18)) -> 0.64661788 | M19: =L19*(1/(1+M18)) -> 0.59824189 | N19: =M19*(1/(1+N18)) -> 0.55348509 | ... Q19: =P19*(1/(1+Q18)) -> 0.43832199
B20: Discounted FCFF | F20: =F16*F19 -> 7769.6825 | G20: =G16*G19 -> 7308.5407 | H20: =H16*H19 -> 7180.5171 | I20: =I16*I19 -> 6885.0177 | J20: =J16*J19 -> 6586.7248 | K20: =K16*K19 -> 6289.036 | L20: =L16*L19 -> 5998.9373 | M20: =M16*M19 -> 5716.6376 | ... Q20: =Q16*Q19 -> 4714.1782
B21: PV of Continuing Value | Q21: =Q17*Q19 -> 92682.751
B22: Enterprise Value | F22: =SUM(F20:Q21) -> 166717.89
B24: (*) Projections assumed a growth of 12% due to high investements in the previous years
B25: (**) Constant growth at 3% rate
B26: (***) Assuming a constante D/E ratio since 2005
B28: GROWTH BETWEEN YEAR 2004 AND 2005:
B29: Revenue g | C29: =D5/C5-1 -> 0.15242948
B30: COS g | C30: =D6/C6-1 -> 0.20733937 | E30: CONSTANT TAX RATE:
B31: EBIT g | C31: =D11/C11-1 -> -0.040480875 | E31: Tax rate | F31: 0.2162
B32: Amort g | C32: =D10/C10-1 -> 0.21784777
C35: 1USD - JPY | D35: 117.47 | E35: 38807
C36: 1USD - JPY | D36: 117.87 | E36: 38717
C37: 1USD - KRW | D37: 1020.73 | E37: 38717
C38: 1USD - EUR | D38: 0.8484 | E38: 38717
C39: 1USD - GBP | D39: 0.5813 | E39: 38717

Sheet Projection-Future CF- AM 
B2: ARCELORMITTAL FUTURES CASH FLOWS (PROJECTION):
C4: 2007 | D4: =C4+1 -> 2008 | E4: =D4+1 -> 2009 | F4: =E4+1 -> 2010 | G4: =F4+1 -> 2011 | H4: =G4+1 -> 2012 | I4: =H4+1 -> 2013 | J4: =I4+1 -> 2014 | K4: =J4+1 -> 2015 | ... N4: =M4+1 -> 2018
B5: Sales | C5: 105216 | D5: 124936 | E5: =D5*1.2 -> 149923.2 | F5: =E5*1.15 -> 172411.68 | G5: =F5*1.075 -> 185342.56 | H5: =G5*1.05 -> 194609.68 | I5: =H5*1.03 -> 200447.97 | J5: =I5*1.03 -> 206461.41 | K5: =J5*1.03 -> 212655.26 | L5: =K5*1.03 -> 219034.91 | M5: =L5*1.03 -> 225605.96 | N5: =M5*1.03 -> 232374.14
B6: Cost of Sales (*) | C6: =84953-C10 -> 80383 | D6: =106110-D10 -> 100010 | E6: =D6*1.15 -> 115011.5 | F6: =E6*1.1 -> 126512.65 | G6: =F6*1.05 -> 132838.28 | H6: =G6*1.03 -> 136823.43 | I6: =H6*1.03 -> 140928.13 | J6: =I6*1.03 -> 145155.98 | K6: =J6*1.03 -> 149510.66 | L6: =K6*1.03 -> 153995.98 | M6: =L6*1.03 -> 158615.86 | N6: =M6*1.03 -> 163374.33
B7: Gross Margin | C7: =C5-C6 -> 24833 | D7: =D5-D6 -> 24926 | E7: =E5-E6 -> 34911.7 | F7: =F5-F6 -> 45899.03 | G7: =G5-G6 -> 52504.273 | H7: =H5-H6 -> 57786.253 | I7: =I5-I6 -> 59519.84 | J7: =J5-J6 -> 61305.436 | ... N7: =N5-N6 -> 68999.808
B8: Other Operational Costs | C8: 5433 | D8: 6590 | E8: =D8*1.2 -> 7908 | F8: =E8*1.15 -> 9094.2 | G8: =F8*1.075 -> 9776.265 | H8: =G8*1.05 -> 10265.078 | I8: =H8*1.03 -> 10573.031 | J8: =I8*1.03 -> 10890.222 | K8: =J8*1.03 -> 11216.928 | L8: =K8*1.03 -> 11553.436 | M8: =L8*1.03 -> 11900.039 | N8: =M8*1.03 -> 12257.04
B9: EBITDA | C9: =C7-C8 -> 19400 | D9: =D7-D8 -> 18336 | E9: =E7-E8 -> 27003.7 | F9: =F7-F8 -> 36804.83 | G9: =G7-G8 -> 42728.008 | H9: =H7-H8 -> 47521.175 | I9: =I7-I8 -> 48946.81 | J9: =J7-J8 -> 50415.214 | ... N9: =N7-N8 -> 56742.768
B10: Amortizations and deperciations | C10: 4570 | D10: 6100 | E10: =D10*1.2 -> 7320 | F10: =E10*1.15 -> 8418 | G10: =F10*1.075 -> 9049.35 | H10: =G10*1.05 -> 9501.8175 | I10: =H10*1.03 -> 9786.872 | J10: =I10*1.03 -> 10080.478 | K10: =J10*1.03 -> 10382.893 | L10: =K10*1.03 -> 10694.379 | M10: =L10*1.03 -> 11015.211 | N10: =M10*1.03 -> 11345.667
B11: EBIT | C11: =C9-C10 -> 14830 | D11: =D9-D10 -> 12236 | E11: =E9-E10 -> 19683.7 | F11: =F9-F10 -> 28386.83 | G11: =G9-G10 -> 33678.658 | H11: =H9-H10 -> 38019.357 | I11: =I9-I10 -> 39159.938 | J11: =J9-J10 -> 40334.736 | ... N11: =N9-N10 -> 45397.101
B12: EBIT (1-t) | C12: =C11*(1-$F$36) -> 11623.754 | D12: =D11*(1-$F$36) -> 9590.5768 | E12: =E11*(1-$F$36) -> 15428.084 | F12: =F11*(1-$F$36) -> 22249.597 | G12: =G11*(1-$F$36) -> 26397.333 | H12: =H11*(1-$F$36) -> 29799.572 | I12: =I11*(1-$F$36) -> 30693.559 | J12: =J11*(1-$F$36) -> 31614.366 | ... N12: =N11*(1-$F$36) -> 35582.247
B13: Amortizations and depreciations | C13: ='New company requested data'!D4-'New company requested data'!D5 -> 4570 | D13: ='New company requested data'!E4-'New company requested data'!E5 -> 6100 | E13: =D13*1.2 -> 7320 | F13: =E13*1.15 -> 8418 | G13: =F13*1.075 -> 9049.35 | H13: =G13*1.05 -> 9501.8175 | I13: =H13*1.03 -> 9786.872 | J13: =I13*1.03 -> 10080.478 | K13: =J13*1.03 -> 10382.893 | L13: =K13*1.03 -> 10694.379 | M13: =L13*1.03 -> 11015.211 | N13: =M13*1.03 -> 11345.667
B14: Invested Capital (**) | C14: ='New company requested data'!D15 -> 101853 | D14: ='New company requested data'!E15 -> 103150 | E14: =D14*1.03 -> 106244.5 | F14: =E14*1.03 -> 109431.84 | G14: =F14*1.03 -> 112714.79 | H14: =G14*1.03 -> 116096.23 | I14: =H14*1.03 -> 119579.12 | J14: =I14*1.03 -> 123166.49 | K14: =J14*1.03 -> 126861.49 | L14: =K14*1.03 -> 130667.33 | ... N14: =M14*1.03 -> 138624.97
B15: Change in Invested Capital | C15: ='New company requested data'!D15-'New company requested data'!C15 -> 14956 | D15: ='New company requested data'!E15-'New company requested data'!D15 -> 1297 | E15: =E14-D14 -> 3094.5 | F15: =F14-E14 -> 3187.335 | G15: =G14-F14 -> 3282.9551 | H15: =H14-G14 -> 3381.4437 | I15: =I14-H14 -> 3482.887 | J15: =J14-I14 -> 3587.3736 | K15: =K14-J14 -> 3694.9948 | L15: =L14-K14 -> 3805.8447 | ... N15: =N14-M14 -> 4037.6206
B16: FCFF | C16: =C12-C15 -> -3332.246 | D16: =D12-D15 -> 8293.5768 | E16: =E12-E15 -> 12333.584 | F16: =F12-F15 -> 19062.262 | G16: =G12-G15 -> 23114.377 | H16: =H12-H15 -> 26418.128 | I16: =I12-I15 -> 27210.672 | J16: =J12-J15 -> 28026.992 | ... N16: =N12-N15 -> 31544.627
B17: Continuing Value | N17: =N16/('WACC projection'!H43-3%) -> 933712.63
B18: WACC | C18: ='WACC projection'!C40 -> 0.079372595 | D18: ='WACC projection'!D40 -> 0.065596416 | E18: ='WACC projection'!E40 -> 0.03179822 | F18: ='WACC projection'!F40 -> 0.057232444 | G18: ='WACC projection'!G40 -> 0.059632732 | H18: ='WACC projection'!H40 -> 0.061708409 | I18: ='WACC projection'!C43 -> 0.062746247 | J18: ='WACC projection'!D43 -> 0.063784085 | K18: ='WACC projection'!E43 -> 0.063784085 | L18: ='WACC projection'!F43 -> 0.063784085 | M18: ='WACC projection'!G43 -> 0.063784085 | N18: ='WACC projection'!H43 -> 0.063784085
B19: Discount Factor (***) | C19: =1/(1+'WACC projection'!C40)^0 -> 1 | D19: =C19*(1/(1+D18)) -> 0.93844159 | E19: =D19*(1/(1+E18)) -> 0.90952046 | F19: =E19*(1/(1+F18)) -> 0.86028429 | G19: =F19*(1/(1+G18)) -> 0.81187025 | H19: =G19*(1/(1+H18)) -> 0.76468289 | I19: =H19*(1/(1+I18)) -> 0.71953478 | J19: =I19*(1/(1+J18)) -> 0.67639175 | K19: =J19*(1/(1+K18)) -> 0.63583556 | ... N19: =M19*(1/(1+N18)) -> 0.52818291
B20: Discounted FCFF | C20: =C16*C19 -> -3332.246 | D20: =D16*D19 -> 7783.0374 | E20: =E16*E19 -> 11217.647 | F20: =F16*F19 -> 16398.965 | G20: =G16*G19 -> 18765.875 | H20: =H16*H19 -> 20201.491 | I20: =I16*I19 -> 19579.025 | J20: =J16*J19 -> 18957.226 | ... N20: =N16*N19 -> 16661.333
B21: PV of Continuing Value | N21: =N17*N19 -> 493171.06
B22: Enterprise Value | C22: =SUM(C20:N21) -> 672738.66
B23: Market Value of Cash and equivalents | C23: 8105
B24: Firm Value | C24: =C22+C23 -> 680843.66
B25: Debt (Market value) | C25: 63985
B26: Equity value | C26: =C24-C25 -> 616858.66
B29: (*) COGS growth at a low level than Sales - due to decrease in market dependency
B30: (**) Constant growth at 3% rate
B31: (***) Assuming a constante ratio D/E since 2005
B33: GROWTH BETWEEN YEAR 2007 AND 2008:
B34: Revenue g | C34: =D5/C5-1 -> 0.18742397
B35: COS g | C35: =D8/C8-1 -> 0.21295785 | E35: CONSTANT TAX RATE:
B36: EBIT g | C36: =C12/D12-1 -> 0.21199738 | E36: Tax rate | F36: 0.2162
B37: Amort g | C37: =D13/C13-1 -> 0.33479212

Sheet Incremental CF
B2: ARCELORMITTAL INCREMENTAL CASH FLOWS (PROJECTION):
C4: 2007 | D4: =C4+1 -> 2008 | E4: =D4+1 -> 2009 | F4: =E4+1 -> 2010 | G4: =F4+1 -> 2011 | H4: =G4+1 -> 2012 | I4: =H4+1 -> 2013 | J4: =I4+1 -> 2014 | K4: =J4+1 -> 2015 | ... N4: =M4+1 -> 2018
B5: Sales | C5: ='Projection-Future CF- AM '!C5-'Projection-Future CF SUMCOMPANY'!F5 -> 38578.148 | D5: ='Projection-Future CF- AM '!D5-'Projection-Future CF SUMCOMPANY'!G5 -> 56299.013 | E5: ='Projection-Future CF- AM '!E5-'Projection-Future CF SUMCOMPANY'!H5 -> 79227.103 | F5: ='Projection-Future CF- AM '!F5-'Projection-Future CF SUMCOMPANY'!I5 -> 99594.7 | G5: ='Projection-Future CF- AM '!G5-'Projection-Future CF SUMCOMPANY'!J5 -> 110341.07 | H5: ='Projection-Future CF- AM '!H5-'Projection-Future CF SUMCOMPANY'!K5 -> 117358.15 | I5: ='Projection-Future CF- AM '!I5-'Projection-Future CF SUMCOMPANY'!L5 -> 120878.89 | J5: ='Projection-Future CF- AM '!J5-'Projection-Future CF SUMCOMPANY'!M5 -> 124505.26 | ... N5: ='Projection-Future CF- AM '!N5-'Projection-Future CF SUMCOMPANY'!Q5 -> 140131.77
B6: Cost of Sales (*) | C6: ='Projection-Future CF- AM '!C6-'Projection-Future CF SUMCOMPANY'!F6 -> 29896.85 | D6: ='Projection-Future CF- AM '!D6-'Projection-Future CF SUMCOMPANY'!G6 -> 48009.265 | E6: ='Projection-Future CF- AM '!E6-'Projection-Future CF SUMCOMPANY'!H6 -> 61450.743 | F6: ='Projection-Future CF- AM '!F6-'Projection-Future CF SUMCOMPANY'!I6 -> 71345.07 | G6: ='Projection-Future CF- AM '!G6-'Projection-Future CF SUMCOMPANY'!J6 -> 76015.675 | H6: ='Projection-Future CF- AM '!H6-'Projection-Future CF SUMCOMPANY'!K6 -> 78296.146 | I6: ='Projection-Future CF- AM '!I6-'Projection-Future CF SUMCOMPANY'!L6 -> 80645.03 | J6: ='Projection-Future CF- AM '!J6-'Projection-Future CF SUMCOMPANY'!M6 -> 83064.381 | ... N6: ='Projection-Future CF- AM '!N6-'Projection-Future CF SUMCOMPANY'!Q6 -> 93489.693
B7: Gross Margin | C7: ='Projection-Future CF- AM '!C7-'Projection-Future CF SUMCOMPANY'!F7 -> 8681.2985 | D7: ='Projection-Future CF- AM '!D7-'Projection-Future CF SUMCOMPANY'!G7 -> 8289.7474 | E7: ='Projection-Future CF- AM '!E7-'Projection-Future CF SUMCOMPANY'!H7 -> 17776.36 | F7: ='Projection-Future CF- AM '!F7-'Projection-Future CF SUMCOMPANY'!I7 -> 28249.63 | G7: ='Projection-Future CF- AM '!G7-'Projection-Future CF SUMCOMPANY'!J7 -> 34325.391 | H7: ='Projection-Future CF- AM '!H7-'Projection-Future CF SUMCOMPANY'!K7 -> 39062.004 | I7: ='Projection-Future CF- AM '!I7-'Projection-Future CF SUMCOMPANY'!L7 -> 40233.864 | J7: ='Projection-Future CF- AM '!J7-'Projection-Future CF SUMCOMPANY'!M7 -> 41440.88 | ... N7: ='Projection-Future CF- AM '!N7-'Projection-Future CF SUMCOMPANY'!Q7 -> 46642.076
B8: Other Operational Costs | C8: ='Projection-Future CF- AM '!C8-'Projection-Future CF SUMCOMPANY'!F8 -> 3386.4429 | D8: ='Projection-Future CF- AM '!D8-'Projection-Future CF SUMCOMPANY'!G8 -> 4482.0462 | E8: ='Projection-Future CF- AM '!E8-'Projection-Future CF SUMCOMPANY'!H8 -> 5736.8076 | F8: ='Projection-Future CF- AM '!F8-'Projection-Future CF SUMCOMPANY'!I8 -> 6857.8718 | G8: ='Projection-Future CF- AM '!G8-'Projection-Future CF SUMCOMPANY'!J8 -> 7472.8469 | H8: ='Projection-Future CF- AM '!H8-'Projection-Future CF SUMCOMPANY'!K8 -> 7892.5577 | I8: ='Projection-Future CF- AM '!I8-'Projection-Future CF SUMCOMPANY'!L8 -> 8129.3344 | J8: ='Projection-Future CF- AM '!J8-'Projection-Future CF SUMCOMPANY'!M8 -> 8373.2144 | ... N8: ='Projection-Future CF- AM '!N8-'Projection-Future CF SUMCOMPANY'!Q8 -> 9424.1266
B9: EBITDA | C9: ='Projection-Future CF- AM '!C9-'Projection-Future CF SUMCOMPANY'!F9 -> 5294.8556 | D9: ='Projection-Future CF- AM '!D9-'Projection-Future CF SUMCOMPANY'!G9 -> 3807.7012 | E9: ='Projection-Future CF- AM '!E9-'Projection-Future CF SUMCOMPANY'!H9 -> 12039.552 | F9: ='Projection-Future CF- AM '!F9-'Projection-Future CF SUMCOMPANY'!I9 -> 21391.758 | G9: ='Projection-Future CF- AM '!G9-'Projection-Future CF SUMCOMPANY'!J9 -> 26852.544 | H9: ='Projection-Future CF- AM '!H9-'Projection-Future CF SUMCOMPANY'!K9 -> 31169.446 | I9: ='Projection-Future CF- AM '!I9-'Projection-Future CF SUMCOMPANY'!L9 -> 32104.53 | J9: ='Projection-Future CF- AM '!J9-'Projection-Future CF SUMCOMPANY'!M9 -> 33067.666 | ... N9: ='Projection-Future CF- AM '!N9-'Projection-Future CF SUMCOMPANY'!Q9 -> 37217.949
B10: Amortizations and deperciations | C10: ='Projection-Future CF- AM '!C10-'Projection-Future CF SUMCOMPANY'!F10 -> 2372.392 | D10: ='Projection-Future CF- AM '!D10-'Projection-Future CF SUMCOMPANY'!G10 -> 3836.4638 | E10: ='Projection-Future CF- AM '!E10-'Projection-Future CF SUMCOMPANY'!H10 -> 4988.5577 | F10: ='Projection-Future CF- AM '!F10-'Projection-Future CF SUMCOMPANY'!I10 -> 6016.6144 | G10: ='Projection-Future CF- AM '!G10-'Projection-Future CF SUMCOMPANY'!J10 -> 6575.9228 | H10: ='Projection-Future CF- AM '!H10-'Projection-Future CF SUMCOMPANY'!K10 -> 6954.1875 | I10: ='Projection-Future CF- AM '!I10-'Projection-Future CF SUMCOMPANY'!L10 -> 7162.8131 | J10: ='Projection-Future CF- AM '!J10-'Projection-Future CF SUMCOMPANY'!M10 -> 7377.6975 | ... N10: ='Projection-Future CF- AM '!N10-'Projection-Future CF SUMCOMPANY'!Q10 -> 8303.6636
B11: EBIT | C11: ='Projection-Future CF- AM '!C11-'Projection-Future CF SUMCOMPANY'!F11 -> 2922.4636 | D11: ='Projection-Future CF- AM '!D11-'Projection-Future CF SUMCOMPANY'!G11 -> -28.762526 | E11: ='Projection-Future CF- AM '!E11-'Projection-Future CF SUMCOMPANY'!H11 -> 7050.9946 | F11: ='Projection-Future CF- AM '!F11-'Projection-Future CF SUMCOMPANY'!I11 -> 15375.143 | G11: ='Projection-Future CF- AM '!G11-'Projection-Future CF SUMCOMPANY'!J11 -> 20276.621 | H11: ='Projection-Future CF- AM '!H11-'Projection-Future CF SUMCOMPANY'!K11 -> 24215.259 | I11: ='Projection-Future CF- AM '!I11-'Projection-Future CF SUMCOMPANY'!L11 -> 24941.717 | J11: ='Projection-Future CF- AM '!J11-'Projection-Future CF SUMCOMPANY'!M11 -> 25689.968 | ... N11: ='Projection-Future CF- AM '!N11-'Projection-Future CF SUMCOMPANY'!Q11 -> 28914.285
B12: EBIT (1-t) | C12: =C11*(1-$F$32) -> 2290.6269 | D12: =D11*(1-$F$32) -> -22.544068 | E12: =E11*(1-$F$32) -> 5526.5696 | F12: =F11*(1-$F$32) -> 12051.037 | G12: =G11*(1-$F$32) -> 15892.816 | H12: =H11*(1-$F$32) -> 18979.92 | I12: =I11*(1-$F$32) -> 19549.317 | J12: =J11*(1-$F$32) -> 20135.797 | ... N12: =N11*(1-$F$32) -> 22663.017
B13: Amortizations and depreciations | C13: =C10 -> 2372.392 | D13: =D10 -> 3836.4638 | E13: =E10 -> 4988.5577 | F13: =F10 -> 6016.6144 | G13: =G10 -> 6575.9228 | H13: =H10 -> 6954.1875 | I13: =I10 -> 7162.8131 | J13: =J10 -> 7377.6975 | ... N13: =N10 -> 8303.6636
B14: Invested Capital (**) | C14: ='Projection-Future CF- AM '!C14-'Projection-Future CF SUMCOMPANY'!F14 -> 48174.735 | D14: ='Projection-Future CF- AM '!D14-'Projection-Future CF SUMCOMPANY'!G14 -> 47861.387 | E14: ='Projection-Future CF- AM '!E14-'Projection-Future CF SUMCOMPANY'!H14 -> 49297.229 | F14: ='Projection-Future CF- AM '!F14-'Projection-Future CF SUMCOMPANY'!I14 -> 50776.146 | G14: ='Projection-Future CF- AM '!G14-'Projection-Future CF SUMCOMPANY'!J14 -> 52299.43 | H14: ='Projection-Future CF- AM '!H14-'Projection-Future CF SUMCOMPANY'!K14 -> 53868.413 | I14: ='Projection-Future CF- AM '!I14-'Projection-Future CF SUMCOMPANY'!L14 -> 55484.465 | J14: ='Projection-Future CF- AM '!J14-'Projection-Future CF SUMCOMPANY'!M14 -> 57148.999 | ... N14: ='Projection-Future CF- AM '!N14-'Projection-Future CF SUMCOMPANY'!Q14 -> 64321.702
B15: Change in Invested Capital | C15: ='Projection-Future CF- AM '!C15-'Projection-Future CF SUMCOMPANY'!F15 -> 13392.555 | D15: ='Projection-Future CF- AM '!D15-'Projection-Future CF SUMCOMPANY'!G15 -> -313.34794 | E15: ='Projection-Future CF- AM '!E15-'Projection-Future CF SUMCOMPANY'!H15 -> 1435.8416 | F15: ='Projection-Future CF- AM '!F15-'Projection-Future CF SUMCOMPANY'!I15 -> 1478.9169 | G15: ='Projection-Future CF- AM '!G15-'Projection-Future CF SUMCOMPANY'!J15 -> 1523.2844 | H15: ='Projection-Future CF- AM '!H15-'Projection-Future CF SUMCOMPANY'!K15 -> 1568.9829 | I15: ='Projection-Future CF- AM '!I15-'Projection-Future CF SUMCOMPANY'!L15 -> 1616.0524 | J15: ='Projection-Future CF- AM '!J15-'Projection-Future CF SUMCOMPANY'!M15 -> 1664.534 | ... N15: ='Projection-Future CF- AM '!N15-'Projection-Future CF SUMCOMPANY'!Q15 -> 1873.4476
B16: FCFF | C16: =C12-C15 -> -11101.928 | D16: =D12-D15 -> 290.80388 | E16: =E12-E15 -> 4090.7279 | F16: =F12-F15 -> 10572.121 | G16: =G12-G15 -> 14369.531 | H16: =H12-H15 -> 17410.937 | I16: =I12-I15 -> 17933.265 | J16: =J12-J15 -> 18471.263 | ... N16: =N12-N15 -> 20789.569
B17: Continuing Value | N17: =N16/('WACC projection'!H43-3%) -> 615365.76
B18: WACC ArcelorMittal | D18: ='Projection-Future CF- AM '!D18 -> 0.065596416 | E18: ='Projection-Future CF- AM '!E18 -> 0.03179822 | F18: ='Projection-Future CF- AM '!F18 -> 0.057232444 | G18: ='Projection-Future CF- AM '!G18 -> 0.059632732 | H18: ='Projection-Future CF- AM '!H18 -> 0.061708409 | I18: ='Projection-Future CF- AM '!I18 -> 0.062746247 | J18: ='Projection-Future CF- AM '!J18 -> 0.063784085 | K18: ='Projection-Future CF- AM '!K18 -> 0.063784085 | ... N18: ='Projection-Future CF- AM '!N18 -> 0.063784085
B19: Discount Factor (***) | C19: =1/(1+'WACC projection'!C40)^0 -> 1 | D19: =C19*(1/(1+D18)) -> 0.93844159 | E19: =D19*(1/(1+E18)) -> 0.90952046 | F19: =E19*(1/(1+F18)) -> 0.86028429 | G19: =F19*(1/(1+G18)) -> 0.81187025 | H19: =G19*(1/(1+H18)) -> 0.76468289 | I19: =H19*(1/(1+I18)) -> 0.71953478 | J19: =I19*(1/(1+J18)) -> 0.67639175 | K19: =J19*(1/(1+K18)) -> 0.63583556 | ... N19: =M19*(1/(1+N18)) -> 0.52818291
B20: Discounted FCFF | C20: =C16*C19 -> -11101.928 | D20: =D16*D19 -> 272.90245 | E20: =E16*E19 -> 3720.6008 | F20: =F16*F19 -> 9095.0292 | G20: =G16*G19 -> 11666.195 | H20: =H16*H19 -> 13313.846 | I20: =I16*I19 -> 12903.608 | J20: =J16*J19 -> 12493.81 | ... N20: =N16*N19 -> 10980.695
B21: PV of Continuing Value | N21: =N17*N19 -> 325025.68
B22: Enterprise Value | C22: =SUM(C20:N21) -> 423521.17
B25: (*) COGS growth at a low level than Sales - due to decrease in market dependency
B26: (**) Constant growth at 3% rate
B27: (***) Assuming a constante ratio D/E since 2005
B29: GROWTH BETWEEN YEAR 2007 AND 2008:
B30: Revenue g | C30: =D5/C5-1 -> 0.4593498
B31: COS g | C31: =D6/C6-1 -> 0.60583024 | E31: CONSTANT TAX RATE:
B32: EBIT g | C32: =D11/C11-1 -> -1.0098419 | E32: Tax rate | F32: 0.2162
B33: Amort g | C33: =D10/C10-1 -> 0.61712894
C36: 1USD - JPY | D36: 117.47 | E36: 38807
C37: 1USD - JPY | D37: 117.87 | E37: 38717
C38: 1USD - KRW | D38: 1020.73 | E38: 38717
C39: 1USD - EUR | D39: 0.8484 | E39: 38717
C40: 1USD - GBP | D40: 0.5813 | E40: 38717

Sheet Synergies
B2: ARCELORMITTAL INCREMENTAL CASH FLOWS (PROJECTION):
C4: 2007 | D4: =C4+1 -> 2008 | E4: =D4+1 -> 2009 | F4: =E4+1 -> 2010 | G4: =F4+1 -> 2011 | H4: =G4+1 -> 2012 | I4: =H4+1 -> 2013 | J4: =I4+1 -> 2014 | K4: =J4+1 -> 2015 | ... N4: =M4+1 -> 2018
B5: ∆ Sales | C5: ='Projection-Future CF- AM '!C5-'Projection-Future CF SUMCOMPANY'!F5 -> 38578.148 | D5: ='Projection-Future CF- AM '!D5-'Projection-Future CF SUMCOMPANY'!G5 -> 56299.013 | E5: ='Projection-Future CF- AM '!E5-'Projection-Future CF SUMCOMPANY'!H5 -> 79227.103 | F5: ='Projection-Future CF- AM '!F5-'Projection-Future CF SUMCOMPANY'!I5 -> 99594.7 | G5: ='Projection-Future CF- AM '!G5-'Projection-Future CF SUMCOMPANY'!J5 -> 110341.07 | H5: ='Projection-Future CF- AM '!H5-'Projection-Future CF SUMCOMPANY'!K5 -> 117358.15 | I5: ='Projection-Future CF- AM '!I5-'Projection-Future CF SUMCOMPANY'!L5 -> 120878.89 | J5: ='Projection-Future CF- AM '!J5-'Projection-Future CF SUMCOMPANY'!M5 -> 124505.26 | ... N5: ='Projection-Future CF- AM '!N5-'Projection-Future CF SUMCOMPANY'!Q5 -> 140131.77
B6: Operating margin of Summed company | C6: ='Projection-Future CF SUMCOMPANY'!F11/'Projection-Future CF SUMCOMPANY'!F5 -> 0.17869028 | D6: ='Projection-Future CF SUMCOMPANY'!G11/'Projection-Future CF SUMCOMPANY'!G5 -> 0.17869028 | E6: ='Projection-Future CF SUMCOMPANY'!H11/'Projection-Future CF SUMCOMPANY'!H5 -> 0.17869028 | F6: ='Projection-Future CF SUMCOMPANY'!I11/'Projection-Future CF SUMCOMPANY'!I5 -> 0.17869028 | G6: ='Projection-Future CF SUMCOMPANY'!J11/'Projection-Future CF SUMCOMPANY'!J5 -> 0.17869028 | H6: ='Projection-Future CF SUMCOMPANY'!K11/'Projection-Future CF SUMCOMPANY'!K5 -> 0.17869028 | I6: ='Projection-Future CF SUMCOMPANY'!L11/'Projection-Future CF SUMCOMPANY'!L5 -> 0.17869028 | J6: ='Projection-Future CF SUMCOMPANY'!M11/'Projection-Future CF SUMCOMPANY'!M5 -> 0.17869028 | ... N6: ='Projection-Future CF SUMCOMPANY'!Q11/'Projection-Future CF SUMCOMPANY'!Q5 -> 0.17869028
B7: Tax rate | C7: 0.2162 | D7: =C7 -> 0.2162 | E7: =D7 -> 0.2162 | F7: =E7 -> 0.2162 | G7: =F7 -> 0.2162 | H7: =G7 -> 0.2162 | I7: =H7 -> 0.2162 | J7: =I7 -> 0.2162 | K7: =J7 -> 0.2162 | ... N7: =M7 -> 0.2162
B8: EBIT (1-t) (Summed company) | C8: =C6*(1-C7) -> 0.14005744 | D8: =D6*(1-D7) -> 0.14005744 | E8: =E6*(1-E7) -> 0.14005744 | F8: =F6*(1-F7) -> 0.14005744 | G8: =G6*(1-G7) -> 0.14005744 | H8: =H6*(1-H7) -> 0.14005744 | I8: =I6*(1-I7) -> 0.14005744 | J8: =J6*(1-J7) -> 0.14005744 | ... N8: =N6*(1-N7) -> 0.14005744
B9: Sales synergy = ∆ Sales * [(EBIT(1-t)/Sales)] | C9: =C5*C8 -> 5403.1567 | D9: =D5*D8 -> 7885.0957 | E9: =E5*E8 -> 11096.345 | F9: =F5*F8 -> 13948.979 | G9: =G5*G8 -> 15454.087 | H9: =H5*H8 -> 16436.882 | I9: =I5*I8 -> 16929.989 | J9: =J5*J8 -> 17437.888 | ... N9: =N5*N8 -> 19626.497
B10: Sales synergies terminal value | N10: =N9/(N36-3%) -> 385865.29
