Workbook

Sheet Tabulação
B1: Q1 | C1: Q2 | D1: Q3 | E1: Q4 | F1: Q5 | G1: Q6 | H1: Q7 | I1: Q8 | J1: Q9 | K1: Q10 | L1: Q11 | M1: Q12 | N1: Q13 | O1: Q14 | P1: Q15 | Q1: Q16 | R1: Q17 | S1: Q18 | T1: Q19 | U1: Q20 | V1: Q21 | W1: Q22 | X1: Q23 | Y1: Q24 | Z1: Q25 | AA1: Q26 | AB1: Q27 | AC1: Q28 | AD1: Q29 | AE1: Q30 | AF1: Q31 | AG1: Q32 | AH1: Q33 | AI1: Q34 | AJ1: Q35 | AK1: Q36 | AL1: Q37 | AM1: Q38 | AN1: Q39 | AO1: Q40 | AP1: Q41 | AQ1: Q42 | AR1: Q43 | AS1: Q44 | AT1: Q45 | AU1: Q46 | AV1: Q47 | AW1: Q48 | AX1: Q49 | AY1: Q50 | AZ1: Q51 | BA1: Q52 | BB1: Q53 | BC1: Q54 | BD1: Q55 | BE1: Q56 | BF1: Q57 | BG1: Q58 | BH1: Q59 | BI1: Q60 | BJ1: Q61 | BK1: Q62 | BL1: Q63 | BM1: Q64 | BN1: Q65 | BO1: Q66 | BP1: Q67 | BQ1: Q68 | BR1: Q69 | BS1: Q70 | BT1: Q71 | BU1: Q72 | BV1: Q73 | BW1: Q74 | BX1: Q75 | BY1: Q76 | BZ1: Q77 | CA1: Q78 | CB1: Q79 | CC1: Q80 | CD1: Q81 | CE1: Q82 | CF1: Q83 | CG1: Q84 | CH1: Q85 | CI1: Q86 | CJ1: Q87 | CK1: Q88 | CL1: Q89 | CM1: Q90 | CN1: Q91 | CO1: Q92 | CP1: Q93 | CQ1: Q94 | CR1: Q95 | CS1: Q96 | CT1: Q97 | CU1: Q98 | CV1: Q99 | CW1: Q100
A2: 1
A3: 2
A4: 3
A5: 4
A6: 5
A7: 6
A8: 7
A9: 8
A10: 9
A11: 10
A12: 11
A13: 12
... A1001: 1000

Sheet Somas
B1: Q1 | C1: Q2 | D1: Q3 | E1: Q4 | F1: Q5 | G1: Q6 | H1: Q7 | I1: Q8 | J1: Q9 | K1: Q10 | L1: Q11 | M1: Q12 | N1: Q13 | O1: Q14 | P1: Q15 | Q1: Q16 | R1: Q17 | S1: Q18 | T1: Q19 | U1: Q20 | V1: Q21 | W1: Q22 | X1: Q23 | Y1: Q24 | Z1: Q25 | AA1: Q26 | AB1: Q27 | AC1: Q28 | AD1: Q29 | AE1: Q30 | AF1: Q31 | AG1: Q32 | AH1: Q33 | AI1: Q34 | AJ1: Q35 | AK1: Q36 | AL1: Q37 | AM1: Q38 | AN1: Q39 | AO1: Q40 | AP1: Q41 | AQ1: Q42 | AR1: Q43 | AS1: Q44 | AT1: Q45 | AU1: Q46 | AV1: Q47 | AW1: Q48 | AX1: Q49 | AY1: Q50 | AZ1: Q51 | BA1: Q52 | BB1: Q53 | BC1: Q54 | BD1: Q55 | BE1: Q56 | BF1: Q57 | BG1: Q58 | BH1: Q59 | BI1: Q60 | BJ1: Q61 | BK1: Q62 | BL1: Q63 | BM1: Q64 | BN1: Q65 | BO1: Q66 | BP1: Q67 | BQ1: Q68 | BR1: Q69 | BS1: Q70 | BT1: Q71 | BU1: Q72 | BV1: Q73 | BW1: Q74 | BX1: Q75 | BY1: Q76 | BZ1: Q77 | CA1: Q78 | CB1: Q79 | CC1: Q80 | CD1: Q81 | CE1: Q82 | CF1: Q83 | CG1: Q84 | CH1: Q85 | CI1: Q86 | CJ1: Q87 | CK1: Q88 | CL1: Q89 | CM1: Q90 | CN1: Q91 | CO1: Q92 | CP1: Q93 | CQ1: Q94 | CR1: Q95 | CS1: Q96 | CT1: Q97 | CU1: Q98 | CV1: Q99 | CW1: Q100 | CY1: SOMA
A2: 1 | B2: =IF((SUM(Tabulação!B2:CW2))=0,"", SUM(Tabulação!C2:CW2)) | C2: =IF((SUM(Tabulação!B2:CW2))=0,"", SUM(Tabulação!B2,Tabulação!D2:CW2)) | D2: =IF((SUM(Tabulação!B2:CW2))=0,"", SUM(Tabulação!B2:C2,Tabulação!E2:CW2)) | E2: =IF((SUM(Tabulação!B2:CW2))=0,"", SUM(Tabulação!B2:D2,Tabulação!F2:CW2)) | F2: =IF((SUM(Tabulação!B2:CW2))=0,"", SUM(Tabulação!B2:E2,Tabulação!G2:CW2)) | G2: =IF((SUM(Tabulação!B2:CW2))=0,"", SUM(Tabulação!B2:F2,Tabulação!H2:CW2)) | H2: =IF((SUM(Tabulação!B2:CW2))=0,"", SUM(Tabulação!B2:G2,Tabulação!I2:CW2)) | I2: =IF((SUM(Tabulação!B2:CW2))=0,"", SUM(Tabulação!B2:H2,Tabulação!J2:CW2)) | J2: =IF((SUM(Tabulação!B2:CW2))=0,"", SUM(Tabulação!B2:I2,Tabulação!K2:CW2)) | K2: =IF((SUM(Tabulação!B2:CW2))=0,"", SUM(Tabulação!B2:J2,Tabulação!L2:CW2)) | L2: =IF((SUM(Tabulação!B2:CW2))=0,"", SUM(Tabulação!B2:K2,Tabulação!M2:CW2)) | M2: =IF((SUM(Tabulação!B2:CW2))=0,"", SUM(Tabulação!B2:L2,Tabulação!N2:CW2)) | N2: =IF((SUM(Tabulação!B2:CW2))=0,"", SUM(Tabulação!B2:M2,Tabulação!O2:CW2)) | O2: =IF((SUM(Tabulação!B2:CW2))=0,"", SUM(Tabulação!B2:N2,Tabulação!P2:CW2)) | P2: =IF((SUM(Tabulação!B2:CW2))=0,"", SUM(Tabulação!B2:O2,Tabulação!Q2:CW2)) | Q2: =IF((SUM(Tabulação!B2:CW2))=0,"", SUM(Tabulação!B2:P2,Tabulação!R2:CW2)) | R2: =IF((SUM(Tabulação!B2:CW2))=0,"", SUM(Tabulação!B2:Q2,Tabulação!S2:CW2)) | S2: =IF((SUM(Tabulação!B2:CW2))=0,"", SUM(Tabulação!B2:R2,Tabulação!T2:CW2)) | T2: =IF((SUM(Tabulação!B2:CW2))=0,"", SUM(Tabulação!B2:S2,Tabulação!U2:CW2)) | U2: =IF((SUM(Tabulação!B2:CW2))=0,"", SUM(Tabulação!B2:T2,Tabulação!V2:CW2)) | V2: =IF((SUM(Tabulação!B2:CW2))=0,"", SUM(Tabulação!B2:U2,Tabulação!W2:CW2)) | W2: =IF((SUM(Tabulação!B2:CW2))=0,"", SUM(Tabulação!B2:V2,Tabulação!X2:CW2)) | X2: =IF((SUM(Tabulação!B2:CW2))=0,"", SUM(Tabulação!B2:W2,Tabulação!Y2:CW2)) | Y2: =IF((SUM(Tabulação!B2:CW2))=0,"", SUM(Tabulação!B2:X2,Tabulação!Z2:CW2)) | Z2: =IF((SUM(Tabulação!B2:CW2))=0,"", SUM(Tabulação!B2:Y2,Tabulação!AA2:CW2)) | AA2: =IF((SUM(Tabulação!B2:CW2))=0,"", SUM(Tabulação!B2:Z2,Tabulação!AB2:CW2)) | AB2: =IF((SUM(Tabulação!B2:CW2))=0,"", SUM(Tabulação!B2:AA2,Tabulação!AC2:CW2)) | AC2: =IF((SUM(Tabulação!B2:CW2))=0,"", SUM(Tabulação!B2:AB2,Tabulação!AD2:CW2)) | AD2: =IF((SUM(Tabulação!B2:CW2))=0,"", SUM(Tabulação!B2:AC2,Tabulação!AE2:CW2)) | AE2: =IF((SUM(Tabulação!B2:CW2))=0,"", SUM(Tabulação!B2:AD2,Tabulação!AF2:CW2)) | AF2: =IF((SUM(Tabulação!B2:CW2))=0,"", SUM(Tabulação!B2:AE2,Tabulação!AG2:CW2)) | AG2: =IF((SUM(Tabulação!B2:CW2))=0,"", SUM(Tabulação!B2:AF2,Tabulação!AH2:CW2)) | AH2: =IF((SUM(Tabulação!B2:CW2))=0,"", SUM(Tabulação!B2:AG2,Tabulação!AI2:CW2)) | AI2: =IF((SUM(Tabulação!B2:CW2))=0,"", SUM(Tabulação!B2:AH2,Tabulação!AJ2:CW2)) | AJ2: =IF((SUM(Tabulação!B2:CW2))=0,"", SUM(Tabulação!B2:AI2,Tabulação!AK2:CW2)) | AK2: =IF((SUM(Tabulação!B2:CW2))=0,"", SUM(Tabulação!B2:AJ2,Tabulação!AL2:CW2)) | AL2: =IF((SUM(Tabulação!B2:CW2))=0,"", SUM(Tabulação!B2:AK2,Tabulação!AM2:CW2)) | AM2: =IF((SUM(Tabulação!B2:CW2))=0,"", SUM(Tabulação!B2:AL2,Tabulação!AN2:CW2)) | AN2: =IF((SUM(Tabulação!B2:CW2))=0,"", SUM(Tabulação!B2:AM2,Tabulação!AO2:CW2)) | AO2: =IF((SUM(Tabulação!B2:CW2))=0,"", SUM(Tabulação!B2:AN2,Tabulação!AP2:CW2)) | AP2: =IF((SUM(Tabulação!B2:CW2))=0,"", SUM(Tabulação!B2:AO2,Tabulação!AQ2:CW2)) | AQ2: =IF((SUM(Tabulação!B2:CW2))=0,"", SUM(Tabulação!B2:AP2,Tabulação!AR2:CW2)) | AR2: =IF((SUM(Tabulação!B2:CW2))=0,"", SUM(Tabulação!B2:AQ2,Tabulação!AS2:CW2)) | AS2: =IF((SUM(Tabulação!B2:CW2))=0,"", SUM(Tabulação!B2:AR2,Tabulação!AT2:CW2)) | AT2: =IF((SUM(Tabulação!B2:CW2))=0,"", SUM(Tabulação!B2:AS2,Tabulação!AU2:CW2)) | AU2: =IF((SUM(Tabulação!B2:CW2))=0,"", SUM(Tabulação!B2:AT2,Tabulação!AV2:CW2)) | AV2: =IF((SUM(Tabulação!B2:CW2))=0,"", SUM(Tabulação!B2:AU2,Tabulação!AW2:CW2)) | AW2: =IF((SUM(Tabulação!B2:CW2))=0,"", SUM(Tabulação!B2:AV2,Tabulação!AX2:CW2)) | AX2: =IF((SUM(Tabulação!B2:CW2))=0,"", SUM(Tabulação!B2:AW2,Tabulação!AY2:CW2)) | AY2: =IF((SUM(Tabulação!B2:CW2))=0,"", SUM(Tabulação!B2:AX2,Tabulação!AZ2:CW2)) | AZ2: =IF((SUM(Tabulação!B2:CW2))=0,"", SUM(Tabulação!B2:AY2,Tabulação!BA2:CW2)) | BA2: =IF((SUM(Tabulação!B2:CW2))=0,"", SUM(Tabulação!B2:AZ2,Tabulação!BB2:CW2)) | BB2: =IF((SUM(Tabulação!B2:CW2))=0,"", SUM(Tabulação!B2:BA2,Tabulação!BC2:CW2)) | BC2: =IF((SUM(Tabulação!B2:CW2))=0,"", SUM(Tabulação!B2:BB2,Tabulação!BD2:CW2)) | BD2: =IF((SUM(Tabulação!B2:CW2))=0,"", SUM(Tabulação!B2:BC2,Tabulação!BE2:CW2)) | BE2: =IF((SUM(Tabulação!B2:CW2))=0,"", SUM(Tabulação!B2:BD2,Tabulação!BF2:CW2)) | BF2: =IF((SUM(Tabulação!B2:CW2))=0,"", SUM(Tabulação!B2:BE2,Tabulação!BG2:CW2)) | BG2: =IF((SUM(Tabulação!B2:CW2))=0,"", SUM(Tabulação!B2:BF2,Tabulação!BH2:CW2)) | BH2: =IF((SUM(Tabulação!B2:CW2))=0,"", SUM(Tabulação!B2:BG2,Tabulação!BI2:CW2)) | BI2: =IF((SUM(Tabulação!B2:CW2))=0,"", SUM(Tabulação!B2:BH2,Tabulação!BJ2:CW2)) | BJ2: =IF((SUM(Tabulação!B2:CW2))=0,"", SUM(Tabulação!B2:BI2,Tabulação!BK2:CW2)) | BK2: =IF((SUM(Tabulação!B2:CW2))=0,"", SUM(Tabulação!B2:BJ2,Tabulação!BL2:CW2)) | BL2: =IF((SUM(Tabulação!B2:CW2))=0,"", SUM(Tabulação!B2:BK2,Tabulação!BM2:CW2)) | BM2: =IF((SUM(Tabulação!B2:CW2))=0,"", SUM(Tabulação!B2:BL2,Tabulação!BN2:CW2)) | BN2: =IF((SUM(Tabulação!B2:CW2))=0,"", SUM(Tabulação!B2:BM2,Tabulação!BO2:CW2)) | BO2: =IF((SUM(Tabulação!B2:CW2))=0,"", SUM(Tabulação!B2:BN2,Tabulação!BP2:CW2)) | BP2: =IF((SUM(Tabulação!B2:CW2))=0,"", SUM(Tabulação!B2:BO2,Tabulação!BQ2:CW2)) | BQ2: =IF((SUM(Tabulação!B2:CW2))=0,"", SUM(Tabulação!B2:BP2,Tabulação!BR2:CW2)) | BR2: =IF((SUM(Tabulação!B2:CW2))=0,"", SUM(Tabulação!B2:BQ2,Tabulação!BS2:CW2)) | BS2: =IF((SUM(Tabulação!B2:CW2))=0,"", SUM(Tabulação!B2:BR2,Tabulação!BT2:CW2)) | BT2: =IF((SUM(Tabulação!B2:CW2))=0,"", SUM(Tabulação!B2:BS2,Tabulação!BU2:CW2)) | BU2: =IF((SUM(Tabulação!B2:CW2))=0,"", SUM(Tabulação!B2:BT2,Tabulação!BV2:CW2)) | BV2: =IF((SUM(Tabulação!B2:CW2))=0,"", SUM(Tabulação!B2:BU2,Tabulação!BW2:CW2)) | BW2: =IF((SUM(Tabulação!B2:CW2))=0,"", SUM(Tabulação!B2:BV2,Tabulação!BX2:CW2)) | BX2: =IF((SUM(Tabulação!B2:CW2))=0,"", SUM(Tabulação!B2:BW2,Tabulação!BY2:CW2)) | BY2: =IF((SUM(Tabulação!B2:CW2))=0,"", SUM(Tabulação!B2:BX2,Tabulação!BZ2:CW2)) | BZ2: =IF((SUM(Tabulação!B2:CW2))=0,"", SUM(Tabulação!B2:BY2,Tabulação!CA2:CW2)) | CA2: =IF((SUM(Tabulação!B2:CW2))=0,"", SUM(Tabulação!B2:BZ2,Tabulação!CB2:CW2)) | CB2: =IF((SUM(Tabulação!B2:CW2))=0,"", SUM(Tabulação!B2:CA2,Tabulação!CC2:CW2)) | CC2: =IF((SUM(Tabulação!B2:CW2))=0,"", SUM(Tabulação!B2:CB2,Tabulação!CD2:CW2)) | CD2: =IF((SUM(Tabulação!B2:CW2))=0,"", SUM(Tabulação!B2:CC2,Tabulação!CE2:CW2)) | CE2: =IF((SUM(Tabulação!B2:CW2))=0,"", SUM(Tabulação!B2:CD2,Tabulação!CF2:CW2)) | CF2: =IF((SUM(Tabulação!B2:CW2))=0,"", SUM(Tabulação!B2:CE2,Tabulação!CG2:CW2)) | CG2: =IF((SUM(Tabulação!B2:CW2))=0,"", SUM(Tabulação!B2:CF2,Tabulação!CH2:CW2)) | CH2: =IF((SUM(Tabulação!B2:CW2))=0,"", SUM(Tabulação!B2:CG2,Tabulação!CI2:CW2)) | CI2: =IF((SUM(Tabulação!B2:CW2))=0,"", SUM(Tabulação!B2:CH2,Tabulação!CJ2:CW2)) | CJ2: =IF((SUM(Tabulação!B2:CW2))=0,"", SUM(Tabulação!B2:CI2,Tabulação!CK2:CW2)) | CK2: =IF((SUM(Tabulação!B2:CW2))=0,"", SUM(Tabulação!B2:CJ2,Tabulação!CL2:CW2)) | CL2: =IF((SUM(Tabulação!B2:CW2))=0,"", SUM(Tabulação!B2:CK2,Tabulação!CM2:CW2)) | CM2: =IF((SUM(Tabulação!B2:CW2))=0,"", SUM(Tabulação!B2:CL2,Tabulação!CN2:CW2)) | CN2: =IF((SUM(Tabulação!B2:CW2))=0,"", SUM(Tabulação!B2:CM2,Tabulação!CO2:CW2)) | CO2: =IF((SUM(Tabulação!B2:CW2))=0,"", SUM(Tabulação!B2:CN2,Tabulação!CP2:CW2)) | CP2: =IF((SUM(Tabulação!B2:CW2))=0,"", SUM(Tabulação!B2:CO2,Tabulação!CQ2:CW2)) | CQ2: =IF((SUM(Tabulação!B2:CW2))=0,"", SUM(Tabulação!B2:CP2,Tabulação!CR2:CW2)) | CR2: =IF((SUM(Tabulação!B2:CW2))=0,"", SUM(Tabulação!B2:CQ2,Tabulação!CS2:CW2)) | CS2: =IF((SUM(Tabulação!B2:CW2))=0,"", SUM(Tabulação!B2:CR2,Tabulação!CT2:CW2)) | CT2: =IF((SUM(Tabulação!B2:CW2))=0,"", SUM(Tabulação!B2:CS2,Tabulação!CU2:CW2)) | CU2: =IF((SUM(Tabulação!B2:CW2))=0,"", SUM(Tabulação!B2:CT2,Tabulação!CV2:CW2)) | CV2: =IF((SUM(Tabulação!B2:CW2))=0,"", SUM(Tabulação!B2:CU2,Tabulação!CW2:CW2)) | CW2: =IF((SUM(Tabulação!B2:CW2))=0,"", SUM(Tabulação!B2:CV2)) | CY2: =IF((COUNTBLANK(Tabulação!B2:CW2))>=99,"", SUM(Tabulação!B2:CW2))
A3: 2 | B3: =IF((SUM(Tabulação!B3:CW3))=0,"", SUM(Tabulação!C3:CW3)) | C3: =IF((SUM(Tabulação!B3:CW3))=0,"", SUM(Tabulação!B3,Tabulação!D3:CW3)) | D3: =IF((SUM(Tabulação!B3:CW3))=0,"", SUM(Tabulação!B3:C3,Tabulação!E3:CW3)) | E3: =IF((SUM(Tabulação!B3:CW3))=0,"", SUM(Tabulação!B3:D3,Tabulação!F3:CW3)) | F3: =IF((SUM(Tabulação!B3:CW3))=0,"", SUM(Tabulação!B3:E3,Tabulação!G3:CW3)) | G3: =IF((SUM(Tabulação!B3:CW3))=0,"", SUM(Tabulação!B3:F3,Tabulação!H3:CW3)) | H3: =IF((SUM(Tabulação!B3:CW3))=0,"", SUM(Tabulação!B3:G3,Tabulação!I3:CW3)) | I3: =IF((SUM(Tabulação!B3:CW3))=0,"", SUM(Tabulação!B3:H3,Tabulação!J3:CW3)) | J3: =IF((SUM(Tabulação!B3:CW3))=0,"", SUM(Tabulação!B3:I3,Tabulação!K3:CW3)) | K3: =IF((SUM(Tabulação!B3:CW3))=0,"", SUM(Tabulação!B3:J3,Tabulação!L3:CW3)) | L3: =IF((SUM(Tabulação!B3:CW3))=0,"", SUM(Tabulação!B3:K3,Tabulação!M3:CW3)) | M3: =IF((SUM(Tabulação!B3:CW3))=0,"", SUM(Tabulação!B3:L3,Tabulação!N3:CW3)) | N3: =IF((SUM(Tabulação!B3:CW3))=0,"", SUM(Tabulação!B3:M3,Tabulação!O3:CW3)) | O3: =IF((SUM(Tabulação!B3:CW3))=0,"", SUM(Tabulação!B3:N3,Tabulação!P3:CW3)) | P3: =IF((SUM(Tabulação!B3:CW3))=0,"", SUM(Tabulação!B3:O3,Tabulação!Q3:CW3)) | Q3: =IF((SUM(Tabulação!B3:CW3))=0,"", SUM(Tabulação!B3:P3,Tabulação!R3:CW3)) | R3: =IF((SUM(Tabulação!B3:CW3))=0,"", SUM(Tabulação!B3:Q3,Tabulação!S3:CW3)) | S3: =IF((SUM(Tabulação!B3:CW3))=0,"", SUM(Tabulação!B3:R3,Tabulação!T3:CW3)) | T3: =IF((SUM(Tabulação!B3:CW3))=0,"", SUM(Tabulação!B3:S3,Tabulação!U3:CW3)) | U3: =IF((SUM(Tabulação!B3:CW3))=0,"", SUM(Tabulação!B3:T3,Tabulação!V3:CW3)) | V3: =IF((SUM(Tabulação!B3:CW3))=0,"", SUM(Tabulação!B3:U3,Tabulação!W3:CW3)) | W3: =IF((SUM(Tabulação!B3:CW3))=0,"", SUM(Tabulação!B3:V3,Tabulação!X3:CW3)) | X3: =IF((SUM(Tabulação!B3:CW3))=0,"", SUM(Tabulação!B3:W3,Tabulação!Y3:CW3)) | Y3: =IF((SUM(Tabulação!B3:CW3))=0,"", SUM(Tabulação!B3:X3,Tabulação!Z3:CW3)) | Z3: =IF((SUM(Tabulação!B3:CW3))=0,"", SUM(Tabulação!B3:Y3,Tabulação!AA3:CW3)) | AA3: =IF((SUM(Tabulação!B3:CW3))=0,"", SUM(Tabulação!B3:Z3,Tabulação!AB3:CW3)) | AB3: =IF((SUM(Tabulação!B3:CW3))=0,"", SUM(Tabulação!B3:AA3,Tabulação!AC3:CW3)) | AC3: =IF((SUM(Tabulação!B3:CW3))=0,"", SUM(Tabulação!B3:AB3,Tabulação!AD3:CW3)) | AD3: =IF((SUM(Tabulação!B3:CW3))=0,"", SUM(Tabulação!B3:AC3,Tabulação!AE3:CW3)) | AE3: =IF((SUM(Tabulação!B3:CW3))=0,"", SUM(Tabulação!B3:AD3,Tabulação!AF3:CW3)) | AF3: =IF((SUM(Tabulação!B3:CW3))=0,"", SUM(Tabulação!B3:AE3,Tabulação!AG3:CW3)) | AG3: =IF((SUM(Tabulação!B3:CW3))=0,"", SUM(Tabulação!B3:AF3,Tabulação!AH3:CW3)) | AH3: =IF((SUM(Tabulação!B3:CW3))=0,"", SUM(Tabulação!B3:AG3,Tabulação!AI3:CW3)) | AI3: =IF((SUM(Tabulação!B3:CW3))=0,"", SUM(Tabulação!B3:AH3,Tabulação!AJ3:CW3)) | AJ3: =IF((SUM(Tabulação!B3:CW3))=0,"", SUM(Tabulação!B3:AI3,Tabulação!AK3:CW3)) | AK3: =IF((SUM(Tabulação!B3:CW3))=0,"", SUM(Tabulação!B3:AJ3,Tabulação!AL3:CW3)) | AL3: =IF((SUM(Tabulação!B3:CW3))=0,"", SUM(Tabulação!B3:AK3,Tabulação!AM3:CW3)) | AM3: =IF((SUM(Tabulação!B3:CW3))=0,"", SUM(Tabulação!B3:AL3,Tabulação!AN3:CW3)) | AN3: =IF((SUM(Tabulação!B3:CW3))=0,"", SUM(Tabulação!B3:AM3,Tabulação!AO3:CW3)) | AO3: =IF((SUM(Tabulação!B3:CW3))=0,"", SUM(Tabulação!B3:AN3,Tabulação!AP3:CW3)) | AP3: =IF((SUM(Tabulação!B3:CW3))=0,"", SUM(Tabulação!B3:AO3,Tabulação!AQ3:CW3)) | AQ3: =IF((SUM(Tabulação!B3:CW3))=0,"", SUM(Tabulação!B3:AP3,Tabulação!AR3:CW3)) | AR3: =IF((SUM(Tabulação!B3:CW3))=0,"", SUM(Tabulação!B3:AQ3,Tabulação!AS3:CW3)) | AS3: =IF((SUM(Tabulação!B3:CW3))=0,"", SUM(Tabulação!B3:AR3,Tabulação!AT3:CW3)) | AT3: =IF((SUM(Tabulação!B3:CW3))=0,"", SUM(Tabulação!B3:AS3,Tabulação!AU3:CW3)) | AU3: =IF((SUM(Tabulação!B3:CW3))=0,"", SUM(Tabulação!B3:AT3,Tabulação!AV3:CW3)) | AV3: =IF((SUM(Tabulação!B3:CW3))=0,"", SUM(Tabulação!B3:AU3,Tabulação!AW3:CW3)) | AW3: =IF((SUM(Tabulação!B3:CW3))=0,"", SUM(Tabulação!B3:AV3,Tabulação!AX3:CW3)) | AX3: =IF((SUM(Tabulação!B3:CW3))=0,"", SUM(Tabulação!B3:AW3,Tabulação!AY3:CW3)) | AY3: =IF((SUM(Tabulação!B3:CW3))=0,"", SUM(Tabulação!B3:AX3,Tabulação!AZ3:CW3)) | AZ3: =IF((SUM(Tabulação!B3:CW3))=0,"", SUM(Tabulação!B3:AY3,Tabulação!BA3:CW3)) | BA3: =IF((SUM(Tabulação!B3:CW3))=0,"", SUM(Tabulação!B3:AZ3,Tabulação!BB3:CW3)) | BB3: =IF((SUM(Tabulação!B3:CW3))=0,"", SUM(Tabulação!B3:BA3,Tabulação!BC3:CW3)) | BC3: =IF((SUM(Tabulação!B3:CW3))=0,"", SUM(Tabulação!B3:BB3,Tabulação!BD3:CW3)) | BD3: =IF((SUM(Tabulação!B3:CW3))=0,"", SUM(Tabulação!B3:BC3,Tabulação!BE3:CW3)) | BE3: =IF((SUM(Tabulação!B3:CW3))=0,"", SUM(Tabulação!B3:BD3,Tabulação!BF3:CW3)) | BF3: =IF((SUM(Tabulação!B3:CW3))=0,"", SUM(Tabulação!B3:BE3,Tabulação!BG3:CW3)) | BG3: =IF((SUM(Tabulação!B3:CW3))=0,"", SUM(Tabulação!B3:BF3,Tabulação!BH3:CW3)) | BH3: =IF((SUM(Tabulação!B3:CW3))=0,"", SUM(Tabulação!B3:BG3,Tabulação!BI3:CW3)) | BI3: =IF((SUM(Tabulação!B3:CW3))=0,"", SUM(Tabulação!B3:BH3,Tabulação!BJ3:CW3)) | BJ3: =IF((SUM(Tabulação!B3:CW3))=0,"", SUM(Tabulação!B3:BI3,Tabulação!BK3:CW3)) | BK3: =IF((SUM(Tabulação!B3:CW3))=0,"", SUM(Tabulação!B3:BJ3,Tabulação!BL3:CW3)) | BL3: =IF((SUM(Tabulação!B3:CW3))=0,"", SUM(Tabulação!B3:BK3,Tabulação!BM3:CW3)) | BM3: =IF((SUM(Tabulação!B3:CW3))=0,"", SUM(Tabulação!B3:BL3,Tabulação!BN3:CW3)) | BN3: =IF((SUM(Tabulação!B3:CW3))=0,"", SUM(Tabulação!B3:BM3,Tabulação!BO3:CW3)) | BO3: =IF((SUM(Tabulação!B3:CW3))=0,"", SUM(Tabulação!B3:BN3,Tabulação!BP3:CW3)) | BP3: =IF((SUM(Tabulação!B3:CW3))=0,"", SUM(Tabulação!B3:BO3,Tabulação!BQ3:CW3)) | BQ3: =IF((SUM(Tabulação!B3:CW3))=0,"", SUM(Tabulação!B3:BP3,Tabulação!BR3:CW3)) | BR3: =IF((SUM(Tabulação!B3:CW3))=0,"", SUM(Tabulação!B3:BQ3,Tabulação!BS3:CW3)) | BS3: =IF((SUM(Tabulação!B3:CW3))=0,"", SUM(Tabulação!B3:BR3,Tabulação!BT3:CW3)) | BT3: =IF((SUM(Tabulação!B3:CW3))=0,"", SUM(Tabulação!B3:BS3,Tabulação!BU3:CW3)) | BU3: =IF((SUM(Tabulação!B3:CW3))=0,"", SUM(Tabulação!B3:BT3,Tabulação!BV3:CW3)) | BV3: =IF((SUM(Tabulação!B3:CW3))=0,"", SUM(Tabulação!B3:BU3,Tabulação!BW3:CW3)) | BW3: =IF((SUM(Tabulação!B3:CW3))=0,"", SUM(Tabulação!B3:BV3,Tabulação!BX3:CW3)) | BX3: =IF((SUM(Tabulação!B3:CW3))=0,"", SUM(Tabulação!B3:BW3,Tabulação!BY3:CW3)) | BY3: =IF((SUM(Tabulação!B3:CW3))=0,"", SUM(Tabulação!B3:BX3,Tabulação!BZ3:CW3)) | BZ3: =IF((SUM(Tabulação!B3:CW3))=0,"", SUM(Tabulação!B3:BY3,Tabulação!CA3:CW3)) | CA3: =IF((SUM(Tabulação!B3:CW3))=0,"", SUM(Tabulação!B3:BZ3,Tabulação!CB3:CW3)) | CB3: =IF((SUM(Tabulação!B3:CW3))=0,"", SUM(Tabulação!B3:CA3,Tabulação!CC3:CW3)) | CC3: =IF((SUM(Tabulação!B3:CW3))=0,"", SUM(Tabulação!B3:CB3,Tabulação!CD3:CW3)) | CD3: =IF((SUM(Tabulação!B3:CW3))=0,"", SUM(Tabulação!B3:CC3,Tabulação!CE3:CW3)) | CE3: =IF((SUM(Tabulação!B3:CW3))=0,"", SUM(Tabulação!B3:CD3,Tabulação!CF3:CW3)) | CF3: =IF((SUM(Tabulação!B3:CW3))=0,"", SUM(Tabulação!B3:CE3,Tabulação!CG3:CW3)) | CG3: =IF((SUM(Tabulação!B3:CW3))=0,"", SUM(Tabulação!B3:CF3,Tabulação!CH3:CW3)) | CH3: =IF((SUM(Tabulação!B3:CW3))=0,"", SUM(Tabulação!B3:CG3,Tabulação!CI3:CW3)) | CI3: =IF((SUM(Tabulação!B3:CW3))=0,"", SUM(Tabulação!B3:CH3,Tabulação!CJ3:CW3)) | CJ3: =IF((SUM(Tabulação!B3:CW3))=0,"", SUM(Tabulação!B3:CI3,Tabulação!CK3:CW3)) | CK3: =IF((SUM(Tabulação!B3:CW3))=0,"", SUM(Tabulação!B3:CJ3,Tabulação!CL3:CW3)) | CL3: =IF((SUM(Tabulação!B3:CW3))=0,"", SUM(Tabulação!B3:CK3,Tabulação!CM3:CW3)) | CM3: =IF((SUM(Tabulação!B3:CW3))=0,"", SUM(Tabulação!B3:CL3,Tabulação!CN3:CW3)) | CN3: =IF((SUM(Tabulação!B3:CW3))=0,"", SUM(Tabulação!B3:CM3,Tabulação!CO3:CW3)) | CO3: =IF((SUM(Tabulação!B3:CW3))=0,"", SUM(Tabulação!B3:CN3,Tabulação!CP3:CW3)) | CP3: =IF((SUM(Tabulação!B3:CW3))=0,"", SUM(Tabulação!B3:CO3,Tabulação!CQ3:CW3)) | CQ3: =IF((SUM(Tabulação!B3:CW3))=0,"", SUM(Tabulação!B3:CP3,Tabulação!CR3:CW3)) | CR3: =IF((SUM(Tabulação!B3:CW3))=0,"", SUM(Tabulação!B3:CQ3,Tabulação!CS3:CW3)) | CS3: =IF((SUM(Tabulação!B3:CW3))=0,"", SUM(Tabulação!B3:CR3,Tabulação!CT3:CW3)) | CT3: =IF((SUM(Tabulação!B3:CW3))=0,"", SUM(Tabulação!B3:CS3,Tabulação!CU3:CW3)) | CU3: =IF((SUM(Tabulação!B3:CW3))=0,"", SUM(Tabulação!B3:CT3,Tabulação!CV3:CW3)) | CV3: =IF((SUM(Tabulação!B3:CW3))=0,"", SUM(Tabulação!B3:CU3,Tabulação!CW3:CW3)) | CW3: =IF((SUM(Tabulação!B3:CW3))=0,"", SUM(Tabulação!B3:CV3)) | CY3: =IF((COUNTBLANK(Tabulação!B3:CW3))>=99,"", SUM(Tabulação!B3:CW3))
A4: 3 | B4: =IF((SUM(Tabulação!B4:CW4))=0,"", SUM(Tabulação!C4:CW4)) | C4: =IF((SUM(Tabulação!B4:CW4))=0,"", SUM(Tabulação!B4,Tabulação!D4:CW4)) | D4: =IF((SUM(Tabulação!B4:CW4))=0,"", SUM(Tabulação!B4:C4,Tabulação!E4:CW4)) | E4: =IF((SUM(Tabulação!B4:CW4))=0,"", SUM(Tabulação!B4:D4,Tabulação!F4:CW4)) | F4: =IF((SUM(Tabulação!B4:CW4))=0,"", SUM(Tabulação!B4:E4,Tabulação!G4:CW4)) | G4: =IF((SUM(Tabulação!B4:CW4))=0,"", SUM(Tabulação!B4:F4,Tabulação!H4:CW4)) | H4: =IF((SUM(Tabulação!B4:CW4))=0,"", SUM(Tabulação!B4:G4,Tabulação!I4:CW4)) | I4: =IF((SUM(Tabulação!B4:CW4))=0,"", SUM(Tabulação!B4:H4,Tabulação!J4:CW4)) | J4: =IF((SUM(Tabulação!B4:CW4))=0,"", SUM(Tabulação!B4:I4,Tabulação!K4:CW4)) | K4: =IF((SUM(Tabulação!B4:CW4))=0,"", SUM(Tabulação!B4:J4,Tabulação!L4:CW4)) | L4: =IF((SUM(Tabulação!B4:CW4))=0,"", SUM(Tabulação!B4:K4,Tabulação!M4:CW4)) | M4: =IF((SUM(Tabulação!B4:CW4))=0,"", SUM(Tabulação!B4:L4,Tabulação!N4:CW4)) | N4: =IF((SUM(Tabulação!B4:CW4))=0,"", SUM(Tabulação!B4:M4,Tabulação!O4:CW4)) | O4: =IF((SUM(Tabulação!B4:CW4))=0,"", SUM(Tabulação!B4:N4,Tabulação!P4:CW4)) | P4: =IF((SUM(Tabulação!B4:CW4))=0,"", SUM(Tabulação!B4:O4,Tabulação!Q4:CW4)) | Q4: =IF((SUM(Tabulação!B4:CW4))=0,"", SUM(Tabulação!B4:P4,Tabulação!R4:CW4)) | R4: =IF((SUM(Tabulação!B4:CW4))=0,"", SUM(Tabulação!B4:Q4,Tabulação!S4:CW4)) | S4: =IF((SUM(Tabulação!B4:CW4))=0,"", SUM(Tabulação!B4:R4,Tabulação!T4:CW4)) | T4: =IF((SUM(Tabulação!B4:CW4))=0,"", SUM(Tabulação!B4:S4,Tabulação!U4:CW4)) | U4: =IF((SUM(Tabulação!B4:CW4))=0,"", SUM(Tabulação!B4:T4,Tabulação!V4:CW4)) | V4: =IF((SUM(Tabulação!B4:CW4))=0,"", SUM(Tabulação!B4:U4,Tabulação!W4:CW4)) | W4: =IF((SUM(Tabulação!B4:CW4))=0,"", SUM(Tabulação!B4:V4,Tabulação!X4:CW4)) | X4: =IF((SUM(Tabulação!B4:CW4))=0,"", SUM(Tabulação!B4:W4,Tabulação!Y4:CW4)) | Y4: =IF((SUM(Tabulação!B4:CW4))=0,"", SUM(Tabulação!B4:X4,Tabulação!Z4:CW4)) | Z4: =IF((SUM(Tabulação!B4:CW4))=0,"", SUM(Tabulação!B4:Y4,Tabulação!AA4:CW4)) | AA4: =IF((SUM(Tabulação!B4:CW4))=0,"", SUM(Tabulação!B4:Z4,Tabulação!AB4:CW4)) | AB4: =IF((SUM(Tabulação!B4:CW4))=0,"", SUM(Tabulação!B4:AA4,Tabulação!AC4:CW4)) | AC4: =IF((SUM(Tabulação!B4:CW4))=0,"", SUM(Tabulação!B4:AB4,Tabulação!AD4:CW4)) | AD4: =IF((SUM(Tabulação!B4:CW4))=0,"", SUM(Tabulação!B4:AC4,Tabulação!AE4:CW4)) | AE4: =IF((SUM(Tabulação!B4:CW4))=0,"", SUM(Tabulação!B4:AD4,Tabulação!AF4:CW4)) | AF4: =IF((SUM(Tabulação!B4:CW4))=0,"", SUM(Tabulação!B4:AE4,Tabulação!AG4:CW4)) | AG4: =IF((SUM(Tabulação!B4:CW4))=0,"", SUM(Tabulação!B4:AF4,Tabulação!AH4:CW4)) | AH4: =IF((SUM(Tabulação!B4:CW4))=0,"", SUM(Tabulação!B4:AG4,Tabulação!AI4:CW4)) | AI4: =IF((SUM(Tabulação!B4:CW4))=0,"", SUM(Tabulação!B4:AH4,Tabulação!AJ4:CW4)) | AJ4: =IF((SUM(Tabulação!B4:CW4))=0,"", SUM(Tabulação!B4:AI4,Tabulação!AK4:CW4)) | AK4: =IF((SUM(Tabulação!B4:CW4))=0,"", SUM(Tabulação!B4:AJ4,Tabulação!AL4:CW4)) | AL4: =IF((SUM(Tabulação!B4:CW4))=0,"", SUM(Tabulação!B4:AK4,Tabulação!AM4:CW4)) | AM4: =IF((SUM(Tabulação!B4:CW4))=0,"", SUM(Tabulação!B4:AL4,Tabulação!AN4:CW4)) | AN4: =IF((SUM(Tabulação!B4:CW4))=0,"", SUM(Tabulação!B4:AM4,Tabulação!AO4:CW4)) | AO4: =IF((SUM(Tabulação!B4:CW4))=0,"", SUM(Tabulação!B4:AN4,Tabulação!AP4:CW4)) | AP4: =IF((SUM(Tabulação!B4:CW4))=0,"", SUM(Tabulação!B4:AO4,Tabulação!AQ4:CW4)) | AQ4: =IF((SUM(Tabulação!B4:CW4))=0,"", SUM(Tabulação!B4:AP4,Tabulação!AR4:CW4)) | AR4: =IF((SUM(Tabulação!B4:CW4))=0,"", SUM(Tabulação!B4:AQ4,Tabulação!AS4:CW4)) | AS4: =IF((SUM(Tabulação!B4:CW4))=0,"", SUM(Tabulação!B4:AR4,Tabulação!AT4:CW4)) | AT4: =IF((SUM(Tabulação!B4:CW4))=0,"", SUM(Tabulação!B4:AS4,Tabulação!AU4:CW4)) | AU4: =IF((SUM(Tabulação!B4:CW4))=0,"", SUM(Tabulação!B4:AT4,Tabulação!AV4:CW4)) | AV4: =IF((SUM(Tabulação!B4:CW4))=0,"", SUM(Tabulação!B4:AU4,Tabulação!AW4:CW4)) | AW4: =IF((SUM(Tabulação!B4:CW4))=0,"", SUM(Tabulação!B4:AV4,Tabulação!AX4:CW4)) | AX4: =IF((SUM(Tabulação!B4:CW4))=0,"", SUM(Tabulação!B4:AW4,Tabulação!AY4:CW4)) | AY4: =IF((SUM(Tabulação!B4:CW4))=0,"", SUM(Tabulação!B4:AX4,Tabulação!AZ4:CW4)) | AZ4: =IF((SUM(Tabulação!B4:CW4))=0,"", SUM(Tabulação!B4:AY4,Tabulação!BA4:CW4)) | BA4: =IF((SUM(Tabulação!B4:CW4))=0,"", SUM(Tabulação!B4:AZ4,Tabulação!BB4:CW4)) | BB4: =IF((SUM(Tabulação!B4:CW4))=0,"", SUM(Tabulação!B4:BA4,Tabulação!BC4:CW4)) | BC4: =IF((SUM(Tabulação!B4:CW4))=0,"", SUM(Tabulação!B4:BB4,Tabulação!BD4:CW4)) | BD4: =IF((SUM(Tabulação!B4:CW4))=0,"", SUM(Tabulação!B4:BC4,Tabulação!BE4:CW4)) | BE4: =IF((SUM(Tabulação!B4:CW4))=0,"", SUM(Tabulação!B4:BD4,Tabulação!BF4:CW4)) | BF4: =IF((SUM(Tabulação!B4:CW4))=0,"", SUM(Tabulação!B4:BE4,Tabulação!BG4:CW4)) | BG4: =IF((SUM(Tabulação!B4:CW4))=0,"", SUM(Tabulação!B4:BF4,Tabulação!BH4:CW4)) | BH4: =IF((SUM(Tabulação!B4:CW4))=0,"", SUM(Tabulação!B4:BG4,Tabulação!BI4:CW4)) | BI4: =IF((SUM(Tabulação!B4:CW4))=0,"", SUM(Tabulação!B4:BH4,Tabulação!BJ4:CW4)) | BJ4: =IF((SUM(Tabulação!B4:CW4))=0,"", SUM(Tabulação!B4:BI4,Tabulação!BK4:CW4)) | BK4: =IF((SUM(Tabulação!B4:CW4))=0,"", SUM(Tabulação!B4:BJ4,Tabulação!BL4:CW4)) | BL4: =IF((SUM(Tabulação!B4:CW4))=0,"", SUM(Tabulação!B4:BK4,Tabulação!BM4:CW4)) | BM4: =IF((SUM(Tabulação!B4:CW4))=0,"", SUM(Tabulação!B4:BL4,Tabulação!BN4:CW4)) | BN4: =IF((SUM(Tabulação!B4:CW4))=0,"", SUM(Tabulação!B4:BM4,Tabulação!BO4:CW4)) | BO4: =IF((SUM(Tabulação!B4:CW4))=0,"", SUM(Tabulação!B4:BN4,Tabulação!BP4:CW4)) | BP4: =IF((SUM(Tabulação!B4:CW4))=0,"", SUM(Tabulação!B4:BO4,Tabulação!BQ4:CW4)) | BQ4: =IF((SUM(Tabulação!B4:CW4))=0,"", SUM(Tabulação!B4:BP4,Tabulação!BR4:CW4)) | BR4: =IF((SUM(Tabulação!B4:CW4))=0,"", SUM(Tabulação!B4:BQ4,Tabulação!BS4:CW4)) | BS4: =IF((SUM(Tabulação!B4:CW4))=0,"", SUM(Tabulação!B4:BR4,Tabulação!BT4:CW4)) | BT4: =IF((SUM(Tabulação!B4:CW4))=0,"", SUM(Tabulação!B4:BS4,Tabulação!BU4:CW4)) | BU4: =IF((SUM(Tabulação!B4:CW4))=0,"", SUM(Tabulação!B4:BT4,Tabulação!BV4:CW4)) | BV4: =IF((SUM(Tabulação!B4:CW4))=0,"", SUM(Tabulação!B4:BU4,Tabulação!BW4:CW4)) | BW4: =IF((SUM(Tabulação!B4:CW4))=0,"", SUM(Tabulação!B4:BV4,Tabulação!BX4:CW4)) | BX4: =IF((SUM(Tabulação!B4:CW4))=0,"", SUM(Tabulação!B4:BW4,Tabulação!BY4:CW4)) | BY4: =IF((SUM(Tabulação!B4:CW4))=0,"", SUM(Tabulação!B4:BX4,Tabulação!BZ4:CW4)) | BZ4: =IF((SUM(Tabulação!B4:CW4))=0,"", SUM(Tabulação!B4:BY4,Tabulação!CA4:CW4)) | CA4: =IF((SUM(Tabulação!B4:CW4))=0,"", SUM(Tabulação!B4:BZ4,Tabulação!CB4:CW4)) | CB4: =IF((SUM(Tabulação!B4:CW4))=0,"", SUM(Tabulação!B4:CA4,Tabulação!CC4:CW4)) | CC4: =IF((SUM(Tabulação!B4:CW4))=0,"", SUM(Tabulação!B4:CB4,Tabulação!CD4:CW4)) | CD4: =IF((SUM(Tabulação!B4:CW4))=0,"", SUM(Tabulação!B4:CC4,Tabulação!CE4:CW4)) | CE4: =IF((SUM(Tabulação!B4:CW4))=0,"", SUM(Tabulação!B4:CD4,Tabulação!CF4:CW4)) | CF4: =IF((SUM(Tabulação!B4:CW4))=0,"", SUM(Tabulação!B4:CE4,Tabulação!CG4:CW4)) | CG4: =IF((SUM(Tabulação!B4:CW4))=0,"", SUM(Tabulação!B4:CF4,Tabulação!CH4:CW4)) | CH4: =IF((SUM(Tabulação!B4:CW4))=0,"", SUM(Tabulação!B4:CG4,Tabulação!CI4:CW4)) | CI4: =IF((SUM(Tabulação!B4:CW4))=0,"", SUM(Tabulação!B4:CH4,Tabulação!CJ4:CW4)) | CJ4: =IF((SUM(Tabulação!B4:CW4))=0,"", SUM(Tabulação!B4:CI4,Tabulação!CK4:CW4)) | CK4: =IF((SUM(Tabulação!B4:CW4))=0,"", SUM(Tabulação!B4:CJ4,Tabulação!CL4:CW4)) | CL4: =IF((SUM(Tabulação!B4:CW4))=0,"", SUM(Tabulação!B4:CK4,Tabulação!CM4:CW4)) | CM4: =IF((SUM(Tabulação!B4:CW4))=0,"", SUM(Tabulação!B4:CL4,Tabulação!CN4:CW4)) | CN4: =IF((SUM(Tabulação!B4:CW4))=0,"", SUM(Tabulação!B4:CM4,Tabulação!CO4:CW4)) | CO4: =IF((SUM(Tabulação!B4:CW4))=0,"", SUM(Tabulação!B4:CN4,Tabulação!CP4:CW4)) | CP4: =IF((SUM(Tabulação!B4:CW4))=0,"", SUM(Tabulação!B4:CO4,Tabulação!CQ4:CW4)) | CQ4: =IF((SUM(Tabulação!B4:CW4))=0,"", SUM(Tabulação!B4:CP4,Tabulação!CR4:CW4)) | CR4: =IF((SUM(Tabulação!B4:CW4))=0,"", SUM(Tabulação!B4:CQ4,Tabulação!CS4:CW4)) | CS4: =IF((SUM(Tabulação!B4:CW4))=0,"", SUM(Tabulação!B4:CR4,Tabulação!CT4:CW4)) | CT4: =IF((SUM(Tabulação!B4:CW4))=0,"", SUM(Tabulação!B4:CS4,Tabulação!CU4:CW4)) | CU4: =IF((SUM(Tabulação!B4:CW4))=0,"", SUM(Tabulação!B4:CT4,Tabulação!CV4:CW4)) | CV4: =IF((SUM(Tabulação!B4:CW4))=0,"", SUM(Tabulação!B4:CU4,Tabulação!CW4:CW4)) | CW4: =IF((SUM(Tabulação!B4:CW4))=0,"", SUM(Tabulação!B4:CV4)) | CY4: =IF((COUNTBLANK(Tabulação!B4:CW4))>=99,"", SUM(Tabulação!B4:CW4))
A5: 4 | B5: =IF((SUM(Tabulação!B5:CW5))=0,"", SUM(Tabulação!C5:CW5)) | C5: =IF((SUM(Tabulação!B5:CW5))=0,"", SUM(Tabulação!B5,Tabulação!D5:CW5)) | D5: =IF((SUM(Tabulação!B5:CW5))=0,"", SUM(Tabulação!B5:C5,Tabulação!E5:CW5)) | E5: =IF((SUM(Tabulação!B5:CW5))=0,"", SUM(Tabulação!B5:D5,Tabulação!F5:CW5)) | F5: =IF((SUM(Tabulação!B5:CW5))=0,"", SUM(Tabulação!B5:E5,Tabulação!G5:CW5)) | G5: =IF((SUM(Tabulação!B5:CW5))=0,"", SUM(Tabulação!B5:F5,Tabulação!H5:CW5)) | H5: =IF((SUM(Tabulação!B5:CW5))=0,"", SUM(Tabulação!B5:G5,Tabulação!I5:CW5)) | I5: =IF((SUM(Tabulação!B5:CW5))=0,"", SUM(Tabulação!B5:H5,Tabulação!J5:CW5)) | J5: =IF((SUM(Tabulação!B5:CW5))=0,"", SUM(Tabulação!B5:I5,Tabulação!K5:CW5)) | K5: =IF((SUM(Tabulação!B5:CW5))=0,"", SUM(Tabulação!B5:J5,Tabulação!L5:CW5)) | L5: =IF((SUM(Tabulação!B5:CW5))=0,"", SUM(Tabulação!B5:K5,Tabulação!M5:CW5)) | M5: =IF((SUM(Tabulação!B5:CW5))=0,"", SUM(Tabulação!B5:L5,Tabulação!N5:CW5)) | N5: =IF((SUM(Tabulação!B5:CW5))=0,"", SUM(Tabulação!B5:M5,Tabulação!O5:CW5)) | O5: =IF((SUM(Tabulação!B5:CW5))=0,"", SUM(Tabulação!B5:N5,Tabulação!P5:CW5)) | P5: =IF((SUM(Tabulação!B5:CW5))=0,"", SUM(Tabulação!B5:O5,Tabulação!Q5:CW5)) | Q5: =IF((SUM(Tabulação!B5:CW5))=0,"", SUM(Tabulação!B5:P5,Tabulação!R5:CW5)) | R5: =IF((SUM(Tabulação!B5:CW5))=0,"", SUM(Tabulação!B5:Q5,Tabulação!S5:CW5)) | S5: =IF((SUM(Tabulação!B5:CW5))=0,"", SUM(Tabulação!B5:R5,Tabulação!T5:CW5)) | T5: =IF((SUM(Tabulação!B5:CW5))=0,"", SUM(Tabulação!B5:S5,Tabulação!U5:CW5)) | U5: =IF((SUM(Tabulação!B5:CW5))=0,"", SUM(Tabulação!B5:T5,Tabulação!V5:CW5)) | V5: =IF((SUM(Tabulação!B5:CW5))=0,"", SUM(Tabulação!B5:U5,Tabulação!W5:CW5)) | W5: =IF((SUM(Tabulação!B5:CW5))=0,"", SUM(Tabulação!B5:V5,Tabulação!X5:CW5)) | X5: =IF((SUM(Tabulação!B5:CW5))=0,"", SUM(Tabulação!B5:W5,Tabulação!Y5:CW5)) | Y5: =IF((SUM(Tabulação!B5:CW5))=0,"", SUM(Tabulação!B5:X5,Tabulação!Z5:CW5)) | Z5: =IF((SUM(Tabulação!B5:CW5))=0,"", SUM(Tabulação!B5:Y5,Tabulação!AA5:CW5)) | AA5: =IF((SUM(Tabulação!B5:CW5))=0,"", SUM(Tabulação!B5:Z5,Tabulação!AB5:CW5)) | AB5: =IF((SUM(Tabulação!B5:CW5))=0,"", SUM(Tabulação!B5:AA5,Tabulação!AC5:CW5)) | AC5: =IF((SUM(Tabulação!B5:CW5))=0,"", SUM(Tabulação!B5:AB5,Tabulação!AD5:CW5)) | AD5: =IF((SUM(Tabulação!B5:CW5))=0,"", SUM(Tabulação!B5:AC5,Tabulação!AE5:CW5)) | AE5: =IF((SUM(Tabulação!B5:CW5))=0,"", SUM(Tabulação!B5:AD5,Tabulação!AF5:CW5)) | AF5: =IF((SUM(Tabulação!B5:CW5))=0,"", SUM(Tabulação!B5:AE5,Tabulação!AG5:CW5)) | AG5: =IF((SUM(Tabulação!B5:CW5))=0,"", SUM(Tabulação!B5:AF5,Tabulação!AH5:CW5)) | AH5: =IF((SUM(Tabulação!B5:CW5))=0,"", SUM(Tabulação!B5:AG5,Tabulação!AI5:CW5)) | AI5: =IF((SUM(Tabulação!B5:CW5))=0,"", SUM(Tabulação!B5:AH5,Tabulação!AJ5:CW5)) | AJ5: =IF((SUM(Tabulação!B5:CW5))=0,"", SUM(Tabulação!B5:AI5,Tabulação!AK5:CW5)) | AK5: =IF((SUM(Tabulação!B5:CW5))=0,"", SUM(Tabulação!B5:AJ5,Tabulação!AL5:CW5)) | AL5: =IF((SUM(Tabulação!B5:CW5))=0,"", SUM(Tabulação!B5:AK5,Tabulação!AM5:CW5)) | AM5: =IF((SUM(Tabulação!B5:CW5))=0,"", SUM(Tabulação!B5:AL5,Tabulação!AN5:CW5)) | AN5: =IF((SUM(Tabulação!B5:CW5))=0,"", SUM(Tabulação!B5:AM5,Tabulação!AO5:CW5)) | AO5: =IF((SUM(Tabulação!B5:CW5))=0,"", SUM(Tabulação!B5:AN5,Tabulação!AP5:CW5)) | AP5: =IF((SUM(Tabulação!B5:CW5))=0,"", SUM(Tabulação!B5:AO5,Tabulação!AQ5:CW5)) | AQ5: =IF((SUM(Tabulação!B5:CW5))=0,"", SUM(Tabulação!B5:AP5,Tabulação!AR5:CW5)) | AR5: =IF((SUM(Tabulação!B5:CW5))=0,"", SUM(Tabulação!B5:AQ5,Tabulação!AS5:CW5)) | AS5: =IF((SUM(Tabulação!B5:CW5))=0,"", SUM(Tabulação!B5:AR5,Tabulação!AT5:CW5)) | AT5: =IF((SUM(Tabulação!B5:CW5))=0,"", SUM(Tabulação!B5:AS5,Tabulação!AU5:CW5)) | AU5: =IF((SUM(Tabulação!B5:CW5))=0,"", SUM(Tabulação!B5:AT5,Tabulação!AV5:CW5)) | AV5: =IF((SUM(Tabulação!B5:CW5))=0,"", SUM(Tabulação!B5:AU5,Tabulação!AW5:CW5)) | AW5: =IF((SUM(Tabulação!B5:CW5))=0,"", SUM(Tabulação!B5:AV5,Tabulação!AX5:CW5)) | AX5: =IF((SUM(Tabulação!B5:CW5))=0,"", SUM(Tabulação!B5:AW5,Tabulação!AY5:CW5)) | AY5: =IF((SUM(Tabulação!B5:CW5))=0,"", SUM(Tabulação!B5:AX5,Tabulação!AZ5:CW5)) | AZ5: =IF((SUM(Tabulação!B5:CW5))=0,"", SUM(Tabulação!B5:AY5,Tabulação!BA5:CW5)) | BA5: =IF((SUM(Tabulação!B5:CW5))=0,"", SUM(Tabulação!B5:AZ5,Tabulação!BB5:CW5)) | BB5: =IF((SUM(Tabulação!B5:CW5))=0,"", SUM(Tabulação!B5:BA5,Tabulação!BC5:CW5)) | BC5: =IF((SUM(Tabulação!B5:CW5))=0,"", SUM(Tabulação!B5:BB5,Tabulação!BD5:CW5)) | BD5: =IF((SUM(Tabulação!B5:CW5))=0,"", SUM(Tabulação!B5:BC5,Tabulação!BE5:CW5)) | BE5: =IF((SUM(Tabulação!B5:CW5))=0,"", SUM(Tabulação!B5:BD5,Tabulação!BF5:CW5)) | BF5: =IF((SUM(Tabulação!B5:CW5))=0,"", SUM(Tabulação!B5:BE5,Tabulação!BG5:CW5)) | BG5: =IF((SUM(Tabulação!B5:CW5))=0,"", SUM(Tabulação!B5:BF5,Tabulação!BH5:CW5)) | BH5: =IF((SUM(Tabulação!B5:CW5))=0,"", SUM(Tabulação!B5:BG5,Tabulação!BI5:CW5)) | BI5: =IF((SUM(Tabulação!B5:CW5))=0,"", SUM(Tabulação!B5:BH5,Tabulação!BJ5:CW5)) | BJ5: =IF((SUM(Tabulação!B5:CW5))=0,"", SUM(Tabulação!B5:BI5,Tabulação!BK5:CW5)) | BK5: =IF((SUM(Tabulação!B5:CW5))=0,"", SUM(Tabulação!B5:BJ5,Tabulação!BL5:CW5)) | BL5: =IF((SUM(Tabulação!B5:CW5))=0,"", SUM(Tabulação!B5:BK5,Tabulação!BM5:CW5)) | BM5: =IF((SUM(Tabulação!B5:CW5))=0,"", SUM(Tabulação!B5:BL5,Tabulação!BN5:CW5)) | BN5: =IF((SUM(Tabulação!B5:CW5))=0,"", SUM(Tabulação!B5:BM5,Tabulação!BO5:CW5)) | BO5: =IF((SUM(Tabulação!B5:CW5))=0,"", SUM(Tabulação!B5:BN5,Tabulação!BP5:CW5)) | BP5: =IF((SUM(Tabulação!B5:CW5))=0,"", SUM(Tabulação!B5:BO5,Tabulação!BQ5:CW5)) | BQ5: =IF((SUM(Tabulação!B5:CW5))=0,"", SUM(Tabulação!B5:BP5,Tabulação!BR5:CW5)) | BR5: =IF((SUM(Tabulação!B5:CW5))=0,"", SUM(Tabulação!B5:BQ5,Tabulação!BS5:CW5)) | BS5: =IF((SUM(Tabulação!B5:CW5))=0,"", SUM(Tabulação!B5:BR5,Tabulação!BT5:CW5)) | BT5: =IF((SUM(Tabulação!B5:CW5))=0,"", SUM(Tabulação!B5:BS5,Tabulação!BU5:CW5)) | BU5: =IF((SUM(Tabulação!B5:CW5))=0,"", SUM(Tabulação!B5:BT5,Tabulação!BV5:CW5)) | BV5: =IF((SUM(Tabulação!B5:CW5))=0,"", SUM(Tabulação!B5:BU5,Tabulação!BW5:CW5)) | BW5: =IF((SUM(Tabulação!B5:CW5))=0,"", SUM(Tabulação!B5:BV5,Tabulação!BX5:CW5)) | BX5: =IF((SUM(Tabulação!B5:CW5))=0,"", SUM(Tabulação!B5:BW5,Tabulação!BY5:CW5)) | BY5: =IF((SUM(Tabulação!B5:CW5))=0,"", SUM(Tabulação!B5:BX5,Tabulação!BZ5:CW5)) | BZ5: =IF((SUM(Tabulação!B5:CW5))=0,"", SUM(Tabulação!B5:BY5,Tabulação!CA5:CW5)) | CA5: =IF((SUM(Tabulação!B5:CW5))=0,"", SUM(Tabulação!B5:BZ5,Tabulação!CB5:CW5)) | CB5: =IF((SUM(Tabulação!B5:CW5))=0,"", SUM(Tabulação!B5:CA5,Tabulação!CC5:CW5)) | CC5: =IF((SUM(Tabulação!B5:CW5))=0,"", SUM(Tabulação!B5:CB5,Tabulação!CD5:CW5)) | CD5: =IF((SUM(Tabulação!B5:CW5))=0,"", SUM(Tabulação!B5:CC5,Tabulação!CE5:CW5)) | CE5: =IF((SUM(Tabulação!B5:CW5))=0,"", SUM(Tabulação!B5:CD5,Tabulação!CF5:CW5)) | CF5: =IF((SUM(Tabulação!B5:CW5))=0,"", SUM(Tabulação!B5:CE5,Tabulação!CG5:CW5)) | CG5: =IF((SUM(Tabulação!B5:CW5))=0,"", SUM(Tabulação!B5:CF5,Tabulação!CH5:CW5)) | CH5: =IF((SUM(Tabulação!B5:CW5))=0,"", SUM(Tabulação!B5:CG5,Tabulação!CI5:CW5)) | CI5: =IF((SUM(Tabulação!B5:CW5))=0,"", SUM(Tabulação!B5:CH5,Tabulação!CJ5:CW5)) | CJ5: =IF((SUM(Tabulação!B5:CW5))=0,"", SUM(Tabulação!B5:CI5,Tabulação!CK5:CW5)) | CK5: =IF((SUM(Tabulação!B5:CW5))=0,"", SUM(Tabulação!B5:CJ5,Tabulação!CL5:CW5)) | CL5: =IF((SUM(Tabulação!B5:CW5))=0,"", SUM(Tabulação!B5:CK5,Tabulação!CM5:CW5)) | CM5: =IF((SUM(Tabulação!B5:CW5))=0,"", SUM(Tabulação!B5:CL5,Tabulação!CN5:CW5)) | CN5: =IF((SUM(Tabulação!B5:CW5))=0,"", SUM(Tabulação!B5:CM5,Tabulação!CO5:CW5)) | CO5: =IF((SUM(Tabulação!B5:CW5))=0,"", SUM(Tabulação!B5:CN5,Tabulação!CP5:CW5)) | CP5: =IF((SUM(Tabulação!B5:CW5))=0,"", SUM(Tabulação!B5:CO5,Tabulação!CQ5:CW5)) | CQ5: =IF((SUM(Tabulação!B5:CW5))=0,"", SUM(Tabulação!B5:CP5,Tabulação!CR5:CW5)) | CR5: =IF((SUM(Tabulação!B5:CW5))=0,"", SUM(Tabulação!B5:CQ5,Tabulação!CS5:CW5)) | CS5: =IF((SUM(Tabulação!B5:CW5))=0,"", SUM(Tabulação!B5:CR5,Tabulação!CT5:CW5)) | CT5: =IF((SUM(Tabulação!B5:CW5))=0,"", SUM(Tabulação!B5:CS5,Tabulação!CU5:CW5)) | CU5: =IF((SUM(Tabulação!B5:CW5))=0,"", SUM(Tabulação!B5:CT5,Tabulação!CV5:CW5)) | CV5: =IF((SUM(Tabulação!B5:CW5))=0,"", SUM(Tabulação!B5:CU5,Tabulação!CW5:CW5)) | CW5: =IF((SUM(Tabulação!B5:CW5))=0,"", SUM(Tabulação!B5:CV5)) | CY5: =IF((COUNTBLANK(Tabulação!B5:CW5))>=99,"", SUM(Tabulação!B5:CW5))
A6: 5 | B6: =IF((SUM(Tabulação!B6:CW6))=0,"", SUM(Tabulação!C6:CW6)) | C6: =IF((SUM(Tabulação!B6:CW6))=0,"", SUM(Tabulação!B6,Tabulação!D6:CW6)) | D6: =IF((SUM(Tabulação!B6:CW6))=0,"", SUM(Tabulação!B6:C6,Tabulação!E6:CW6)) | E6: =IF((SUM(Tabulação!B6:CW6))=0,"", SUM(Tabulação!B6:D6,Tabulação!F6:CW6)) | F6: =IF((SUM(Tabulação!B6:CW6))=0,"", SUM(Tabulação!B6:E6,Tabulação!G6:CW6)) | G6: =IF((SUM(Tabulação!B6:CW6))=0,"", SUM(Tabulação!B6:F6,Tabulação!H6:CW6)) | H6: =IF((SUM(Tabulação!B6:CW6))=0,"", SUM(Tabulação!B6:G6,Tabulação!I6:CW6)) | I6: =IF((SUM(Tabulação!B6:CW6))=0,"", SUM(Tabulação!B6:H6,Tabulação!J6:CW6)) | J6: =IF((SUM(Tabulação!B6:CW6))=0,"", SUM(Tabulação!B6:I6,Tabulação!K6:CW6)) | K6: =IF((SUM(Tabulação!B6:CW6))=0,"", SUM(Tabulação!B6:J6,Tabulação!L6:CW6)) | L6: =IF((SUM(Tabulação!B6:CW6))=0,"", SUM(Tabulação!B6:K6,Tabulação!M6:CW6)) | M6: =IF((SUM(Tabulação!B6:CW6))=0,"", SUM(Tabulação!B6:L6,Tabulação!N6:CW6)) | N6: =IF((SUM(Tabulação!B6:CW6))=0,"", SUM(Tabulação!B6:M6,Tabulação!O6:CW6)) | O6: =IF((SUM(Tabulação!B6:CW6))=0,"", SUM(Tabulação!B6:N6,Tabulação!P6:CW6)) | P6: =IF((SUM(Tabulação!B6:CW6))=0,"", SUM(Tabulação!B6:O6,Tabulação!Q6:CW6)) | Q6: =IF((SUM(Tabulação!B6:CW6))=0,"", SUM(Tabulação!B6:P6,Tabulação!R6:CW6)) | R6: =IF((SUM(Tabulação!B6:CW6))=0,"", SUM(Tabulação!B6:Q6,Tabulação!S6:CW6)) | S6: =IF((SUM(Tabulação!B6:CW6))=0,"", SUM(Tabulação!B6:R6,Tabulação!T6:CW6)) | T6: =IF((SUM(Tabulação!B6:CW6))=0,"", SUM(Tabulação!B6:S6,Tabulação!U6:CW6)) | U6: =IF((SUM(Tabulação!B6:CW6))=0,"", SUM(Tabulação!B6:T6,Tabulação!V6:CW6)) | V6: =IF((SUM(Tabulação!B6:CW6))=0,"", SUM(Tabulação!B6:U6,Tabulação!W6:CW6)) | W6: =IF((SUM(Tabulação!B6:CW6))=0,"", SUM(Tabulação!B6:V6,Tabulação!X6:CW6)) | X6: =IF((SUM(Tabulação!B6:CW6))=0,"", SUM(Tabulação!B6:W6,Tabulação!Y6:CW6)) | Y6: =IF((SUM(Tabulação!B6:CW6))=0,"", SUM(Tabulação!B6:X6,Tabulação!Z6:CW6)) | Z6: =IF((SUM(Tabulação!B6:CW6))=0,"", SUM(Tabulação!B6:Y6,Tabulação!AA6:CW6)) | AA6: =IF((SUM(Tabulação!B6:CW6))=0,"", SUM(Tabulação!B6:Z6,Tabulação!AB6:CW6)) | AB6: =IF((SUM(Tabulação!B6:CW6))=0,"", SUM(Tabulação!B6:AA6,Tabulação!AC6:CW6)) | AC6: =IF((SUM(Tabulação!B6:CW6))=0,"", SUM(Tabulação!B6:AB6,Tabulação!AD6:CW6)) | AD6: =IF((SUM(Tabulação!B6:CW6))=0,"", SUM(Tabulação!B6:AC6,Tabulação!AE6:CW6)) | AE6: =IF((SUM(Tabulação!B6:CW6))=0,"", SUM(Tabulação!B6:AD6,Tabulação!AF6:CW6)) | AF6: =IF((SUM(Tabulação!B6:CW6))=0,"", SUM(Tabulação!B6:AE6,Tabulação!AG6:CW6)) | AG6: =IF((SUM(Tabulação!B6:CW6))=0,"", SUM(Tabulação!B6:AF6,Tabulação!AH6:CW6)) | AH6: =IF((SUM(Tabulação!B6:CW6))=0,"", SUM(Tabulação!B6:AG6,Tabulação!AI6:CW6)) | AI6: =IF((SUM(Tabulação!B6:CW6))=0,"", SUM(Tabulação!B6:AH6,Tabulação!AJ6:CW6)) | AJ6: =IF((SUM(Tabulação!B6:CW6))=0,"", SUM(Tabulação!B6:AI6,Tabulação!AK6:CW6)) | AK6: =IF((SUM(Tabulação!B6:CW6))=0,"", SUM(Tabulação!B6:AJ6,Tabulação!AL6:CW6)) | AL6: =IF((SUM(Tabulação!B6:CW6))=0,"", SUM(Tabulação!B6:AK6,Tabulação!AM6:CW6)) | AM6: =IF((SUM(Tabulação!B6:CW6))=0,"", SUM(Tabulação!B6:AL6,Tabulação!AN6:CW6)) | AN6: =IF((SUM(Tabulação!B6:CW6))=0,"", SUM(Tabulação!B6:AM6,Tabulação!AO6:CW6)) | AO6: =IF((SUM(Tabulação!B6:CW6))=0,"", SUM(Tabulação!B6:AN6,Tabulação!AP6:CW6)) | AP6: =IF((SUM(Tabulação!B6:CW6))=0,"", SUM(Tabulação!B6:AO6,Tabulação!AQ6:CW6)) | AQ6: =IF((SUM(Tabulação!B6:CW6))=0,"", SUM(Tabulação!B6:AP6,Tabulação!AR6:CW6)) | AR6: =IF((SUM(Tabulação!B6:CW6))=0,"", SUM(Tabulação!B6:AQ6,Tabulação!AS6:CW6)) | AS6: =IF((SUM(Tabulação!B6:CW6))=0,"", SUM(Tabulação!B6:AR6,Tabulação!AT6:CW6)) | AT6: =IF((SUM(Tabulação!B6:CW6))=0,"", SUM(Tabulação!B6:AS6,Tabulação!AU6:CW6)) | AU6: =IF((SUM(Tabulação!B6:CW6))=0,"", SUM(Tabulação!B6:AT6,Tabulação!AV6:CW6)) | AV6: =IF((SUM(Tabulação!B6:CW6))=0,"", SUM(Tabulação!B6:AU6,Tabulação!AW6:CW6)) | AW6: =IF((SUM(Tabulação!B6:CW6))=0,"", SUM(Tabulação!B6:AV6,Tabulação!AX6:CW6)) | AX6: =IF((SUM(Tabulação!B6:CW6))=0,"", SUM(Tabulação!B6:AW6,Tabulação!AY6:CW6)) | AY6: =IF((SUM(Tabulação!B6:CW6))=0,"", SUM(Tabulação!B6:AX6,Tabulação!AZ6:CW6)) | AZ6: =IF((SUM(Tabulação!B6:CW6))=0,"", SUM(Tabulação!B6:AY6,Tabulação!BA6:CW6)) | BA6: =IF((SUM(Tabulação!B6:CW6))=0,"", SUM(Tabulação!B6:AZ6,Tabulação!BB6:CW6)) | BB6: =IF((SUM(Tabulação!B6:CW6))=0,"", SUM(Tabulação!B6:BA6,Tabulação!BC6:CW6)) | BC6: =IF((SUM(Tabulação!B6:CW6))=0,"", SUM(Tabulação!B6:BB6,Tabulação!BD6:CW6)) | BD6: =IF((SUM(Tabulação!B6:CW6))=0,"", SUM(Tabulação!B6:BC6,Tabulação!BE6:CW6)) | BE6: =IF((SUM(Tabulação!B6:CW6))=0,"", SUM(Tabulação!B6:BD6,Tabulação!BF6:CW6)) | BF6: =IF((SUM(Tabulação!B6:CW6))=0,"", SUM(Tabulação!B6:BE6,Tabulação!BG6:CW6)) | BG6: =IF((SUM(Tabulação!B6:CW6))=0,"", SUM(Tabulação!B6:BF6,Tabulação!BH6:CW6)) | BH6: =IF((SUM(Tabulação!B6:CW6))=0,"", SUM(Tabulação!B6:BG6,Tabulação!BI6:CW6)) | BI6: =IF((SUM(Tabulação!B6:CW6))=0,"", SUM(Tabulação!B6:BH6,Tabulação!BJ6:CW6)) | BJ6: =IF((SUM(Tabulação!B6:CW6))=0,"", SUM(Tabulação!B6:BI6,Tabulação!BK6:CW6)) | BK6: =IF((SUM(Tabulação!B6:CW6))=0,"", SUM(Tabulação!B6:BJ6,Tabulação!BL6:CW6)) | BL6: =IF((SUM(Tabulação!B6:CW6))=0,"", SUM(Tabulação!B6:BK6,Tabulação!BM6:CW6)) | BM6: =IF((SUM(Tabulação!B6:CW6))=0,"", SUM(Tabulação!B6:BL6,Tabulação!BN6:CW6)) | BN6: =IF((SUM(Tabulação!B6:CW6))=0,"", SUM(Tabulação!B6:BM6,Tabulação!BO6:CW6)) | BO6: =IF((SUM(Tabulação!B6:CW6))=0,"", SUM(Tabulação!B6:BN6,Tabulação!BP6:CW6)) | BP6: =IF((SUM(Tabulação!B6:CW6))=0,"", SUM(Tabulação!B6:BO6,Tabulação!BQ6:CW6)) | BQ6: =IF((SUM(Tabulação!B6:CW6))=0,"", SUM(Tabulação!B6:BP6,Tabulação!BR6:CW6)) | BR6: =IF((SUM(Tabulação!B6:CW6))=0,"", SUM(Tabulação!B6:BQ6,Tabulação!BS6:CW6)) | BS6: =IF((SUM(Tabulação!B6:CW6))=0,"", SUM(Tabulação!B6:BR6,Tabulação!BT6:CW6)) | BT6: =IF((SUM(Tabulação!B6:CW6))=0,"", SUM(Tabulação!B6:BS6,Tabulação!BU6:CW6)) | BU6: =IF((SUM(Tabulação!B6:CW6))=0,"", SUM(Tabulação!B6:BT6,Tabulação!BV6:CW6)) | BV6: =IF((SUM(Tabulação!B6:CW6))=0,"", SUM(Tabulação!B6:BU6,Tabulação!BW6:CW6)) | BW6: =IF((SUM(Tabulação!B6:CW6))=0,"", SUM(Tabulação!B6:BV6,Tabulação!BX6:CW6)) | BX6: =IF((SUM(Tabulação!B6:CW6))=0,"", SUM(Tabulação!B6:BW6,Tabulação!BY6:CW6)) | BY6: =IF((SUM(Tabulação!B6:CW6))=0,"", SUM(Tabulação!B6:BX6,Tabulação!BZ6:CW6)) | BZ6: =IF((SUM(Tabulação!B6:CW6))=0,"", SUM(Tabulação!B6:BY6,Tabulação!CA6:CW6)) | CA6: =IF((SUM(Tabulação!B6:CW6))=0,"", SUM(Tabulação!B6:BZ6,Tabulação!CB6:CW6)) | CB6: =IF((SUM(Tabulação!B6:CW6))=0,"", SUM(Tabulação!B6:CA6,Tabulação!CC6:CW6)) | CC6: =IF((SUM(Tabulação!B6:CW6))=0,"", SUM(Tabulação!B6:CB6,Tabulação!CD6:CW6)) | CD6: =IF((SUM(Tabulação!B6:CW6))=0,"", SUM(Tabulação!B6:CC6,Tabulação!CE6:CW6)) | CE6: =IF((SUM(Tabulação!B6:CW6))=0,"", SUM(Tabulação!B6:CD6,Tabulação!CF6:CW6)) | CF6: =IF((SUM(Tabulação!B6:CW6))=0,"", SUM(Tabulação!B6:CE6,Tabulação!CG6:CW6)) | CG6: =IF((SUM(Tabulação!B6:CW6))=0,"", SUM(Tabulação!B6:CF6,Tabulação!CH6:CW6)) | CH6: =IF((SUM(Tabulação!B6:CW6))=0,"", SUM(Tabulação!B6:CG6,Tabulação!CI6:CW6)) | CI6: =IF((SUM(Tabulação!B6:CW6))=0,"", SUM(Tabulação!B6:CH6,Tabulação!CJ6:CW6)) | CJ6: =IF((SUM(Tabulação!B6:CW6))=0,"", SUM(Tabulação!B6:CI6,Tabulação!CK6:CW6)) | CK6: =IF((SUM(Tabulação!B6:CW6))=0,"", SUM(Tabulação!B6:CJ6,Tabulação!CL6:CW6)) | CL6: =IF((SUM(Tabulação!B6:CW6))=0,"", SUM(Tabulação!B6:CK6,Tabulação!CM6:CW6)) | CM6: =IF((SUM(Tabulação!B6:CW6))=0,"", SUM(Tabulação!B6:CL6,Tabulação!CN6:CW6)) | CN6: =IF((SUM(Tabulação!B6:CW6))=0,"", SUM(Tabulação!B6:CM6,Tabulação!CO6:CW6)) | CO6: =IF((SUM(Tabulação!B6:CW6))=0,"", SUM(Tabulação!B6:CN6,Tabulação!CP6:CW6)) | CP6: =IF((SUM(Tabulação!B6:CW6))=0,"", SUM(Tabulação!B6:CO6,Tabulação!CQ6:CW6)) | CQ6: =IF((SUM(Tabulação!B6:CW6))=0,"", SUM(Tabulação!B6:CP6,Tabulação!CR6:CW6)) | CR6: =IF((SUM(Tabulação!B6:CW6))=0,"", SUM(Tabulação!B6:CQ6,Tabulação!CS6:CW6)) | CS6: =IF((SUM(Tabulação!B6:CW6))=0,"", SUM(Tabulação!B6:CR6,Tabulação!CT6:CW6)) | CT6: =IF((SUM(Tabulação!B6:CW6))=0,"", SUM(Tabulação!B6:CS6,Tabulação!CU6:CW6)) | CU6: =IF((SUM(Tabulação!B6:CW6))=0,"", SUM(Tabulação!B6:CT6,Tabulação!CV6:CW6)) | CV6: =IF((SUM(Tabulação!B6:CW6))=0,"", SUM(Tabulação!B6:CU6,Tabulação!CW6:CW6)) | CW6: =IF((SUM(Tabulação!B6:CW6))=0,"", SUM(Tabulação!B6:CV6)) | CY6: =IF((COUNTBLANK(Tabulação!B6:CW6))>=99,"", SUM(Tabulação!B6:CW6))
A7: 6 | B7: =IF((SUM(Tabulação!B7:CW7))=0,"", SUM(Tabulação!C7:CW7)) | C7: =IF((SUM(Tabulação!B7:CW7))=0,"", SUM(Tabulação!B7,Tabulação!D7:CW7)) | D7: =IF((SUM(Tabulação!B7:CW7))=0,"", SUM(Tabulação!B7:C7,Tabulação!E7:CW7)) | E7: =IF((SUM(Tabulação!B7:CW7))=0,"", SUM(Tabulação!B7:D7,Tabulação!F7:CW7)) | F7: =IF((SUM(Tabulação!B7:CW7))=0,"", SUM(Tabulação!B7:E7,Tabulação!G7:CW7)) | G7: =IF((SUM(Tabulação!B7:CW7))=0,"", SUM(Tabulação!B7:F7,Tabulação!H7:CW7)) | H7: =IF((SUM(Tabulação!B7:CW7))=0,"", SUM(Tabulação!B7:G7,Tabulação!I7:CW7)) | I7: =IF((SUM(Tabulação!B7:CW7))=0,"", SUM(Tabulação!B7:H7,Tabulação!J7:CW7)) | J7: =IF((SUM(Tabulação!B7:CW7))=0,"", SUM(Tabulação!B7:I7,Tabulação!K7:CW7)) | K7: =IF((SUM(Tabulação!B7:CW7))=0,"", SUM(Tabulação!B7:J7,Tabulação!L7:CW7)) | L7: =IF((SUM(Tabulação!B7:CW7))=0,"", SUM(Tabulação!B7:K7,Tabulação!M7:CW7)) | M7: =IF((SUM(Tabulação!B7:CW7))=0,"", SUM(Tabulação!B7:L7,Tabulação!N7:CW7)) | N7: =IF((SUM(Tabulação!B7:CW7))=0,"", SUM(Tabulação!B7:M7,Tabulação!O7:CW7)) | O7: =IF((SUM(Tabulação!B7:CW7))=0,"", SUM(Tabulação!B7:N7,Tabulação!P7:CW7)) | P7: =IF((SUM(Tabulação!B7:CW7))=0,"", SUM(Tabulação!B7:O7,Tabulação!Q7:CW7)) | Q7: =IF((SUM(Tabulação!B7:CW7))=0,"", SUM(Tabulação!B7:P7,Tabulação!R7:CW7)) | R7: =IF((SUM(Tabulação!B7:CW7))=0,"", SUM(Tabulação!B7:Q7,Tabulação!S7:CW7)) | S7: =IF((SUM(Tabulação!B7:CW7))=0,"", SUM(Tabulação!B7:R7,Tabulação!T7:CW7)) | T7: =IF((SUM(Tabulação!B7:CW7))=0,"", SUM(Tabulação!B7:S7,Tabulação!U7:CW7)) | U7: =IF((SUM(Tabulação!B7:CW7))=0,"", SUM(Tabulação!B7:T7,Tabulação!V7:CW7)) | V7: =IF((SUM(Tabulação!B7:CW7))=0,"", SUM(Tabulação!B7:U7,Tabulação!W7:CW7)) | W7: =IF((SUM(Tabulação!B7:CW7))=0,"", SUM(Tabulação!B7:V7,Tabulação!X7:CW7)) | X7: =IF((SUM(Tabulação!B7:CW7))=0,"", SUM(Tabulação!B7:W7,Tabulação!Y7:CW7)) | Y7: =IF((SUM(Tabulação!B7:CW7))=0,"", SUM(Tabulação!B7:X7,Tabulação!Z7:CW7)) | Z7: =IF((SUM(Tabulação!B7:CW7))=0,"", SUM(Tabulação!B7:Y7,Tabulação!AA7:CW7)) | AA7: =IF((SUM(Tabulação!B7:CW7))=0,"", SUM(Tabulação!B7:Z7,Tabulação!AB7:CW7)) | AB7: =IF((SUM(Tabulação!B7:CW7))=0,"", SUM(Tabulação!B7:AA7,Tabulação!AC7:CW7)) | AC7: =IF((SUM(Tabulação!B7:CW7))=0,"", SUM(Tabulação!B7:AB7,Tabulação!AD7:CW7)) | AD7: =IF((SUM(Tabulação!B7:CW7))=0,"", SUM(Tabulação!B7:AC7,Tabulação!AE7:CW7)) | AE7: =IF((SUM(Tabulação!B7:CW7))=0,"", SUM(Tabulação!B7:AD7,Tabulação!AF7:CW7)) | AF7: =IF((SUM(Tabulação!B7:CW7))=0,"", SUM(Tabulação!B7:AE7,Tabulação!AG7:CW7)) | AG7: =IF((SUM(Tabulação!B7:CW7))=0,"", SUM(Tabulação!B7:AF7,Tabulação!AH7:CW7)) | AH7: =IF((SUM(Tabulação!B7:CW7))=0,"", SUM(Tabulação!B7:AG7,Tabulação!AI7:CW7)) | AI7: =IF((SUM(Tabulação!B7:CW7))=0,"", SUM(Tabulação!B7:AH7,Tabulação!AJ7:CW7)) | AJ7: =IF((SUM(Tabulação!B7:CW7))=0,"", SUM(Tabulação!B7:AI7,Tabulação!AK7:CW7)) | AK7: =IF((SUM(Tabulação!B7:CW7))=0,"", SUM(Tabulação!B7:AJ7,Tabulação!AL7:CW7)) | AL7: =IF((SUM(Tabulação!B7:CW7))=0,"", SUM(Tabulação!B7:AK7,Tabulação!AM7:CW7)) | AM7: =IF((SUM(Tabulação!B7:CW7))=0,"", SUM(Tabulação!B7:AL7,Tabulação!AN7:CW7)) | AN7: =IF((SUM(Tabulação!B7:CW7))=0,"", SUM(Tabulação!B7:AM7,Tabulação!AO7:CW7)) | AO7: =IF((SUM(Tabulação!B7:CW7))=0,"", SUM(Tabulação!B7:AN7,Tabulação!AP7:CW7)) | AP7: =IF((SUM(Tabulação!B7:CW7))=0,"", SUM(Tabulação!B7:AO7,Tabulação!AQ7:CW7)) | AQ7: =IF((SUM(Tabulação!B7:CW7))=0,"", SUM(Tabulação!B7:AP7,Tabulação!AR7:CW7)) | AR7: =IF((SUM(Tabulação!B7:CW7))=0,"", SUM(Tabulação!B7:AQ7,Tabulação!AS7:CW7)) | AS7: =IF((SUM(Tabulação!B7:CW7))=0,"", SUM(Tabulação!B7:AR7,Tabulação!AT7:CW7)) | AT7: =IF((SUM(Tabulação!B7:CW7))=0,"", SUM(Tabulação!B7:AS7,Tabulação!AU7:CW7)) | AU7: =IF((SUM(Tabulação!B7:CW7))=0,"", SUM(Tabulação!B7:AT7,Tabulação!AV7:CW7)) | AV7: =IF((SUM(Tabulação!B7:CW7))=0,"", SUM(Tabulação!B7:AU7,Tabulação!AW7:CW7)) | AW7: =IF((SUM(Tabulação!B7:CW7))=0,"", SUM(Tabulação!B7:AV7,Tabulação!AX7:CW7)) | AX7: =IF((SUM(Tabulação!B7:CW7))=0,"", SUM(Tabulação!B7:AW7,Tabulação!AY7:CW7)) | AY7: =IF((SUM(Tabulação!B7:CW7))=0,"", SUM(Tabulação!B7:AX7,Tabulação!AZ7:CW7)) | AZ7: =IF((SUM(Tabulação!B7:CW7))=0,"", SUM(Tabulação!B7:AY7,Tabulação!BA7:CW7)) | BA7: =IF((SUM(Tabulação!B7:CW7))=0,"", SUM(Tabulação!B7:AZ7,Tabulação!BB7:CW7)) | BB7: =IF((SUM(Tabulação!B7:CW7))=0,"", SUM(Tabulação!B7:BA7,Tabulação!BC7:CW7)) | BC7: =IF((SUM(Tabulação!B7:CW7))=0,"", SUM(Tabulação!B7:BB7,Tabulação!BD7:CW7)) | BD7: =IF((SUM(Tabulação!B7:CW7))=0,"", SUM(Tabulação!B7:BC7,Tabulação!BE7:CW7)) | BE7: =IF((SUM(Tabulação!B7:CW7))=0,"", SUM(Tabulação!B7:BD7,Tabulação!BF7:CW7)) | BF7: =IF((SUM(Tabulação!B7:CW7))=0,"", SUM(Tabulação!B7:BE7,Tabulação!BG7:CW7)) | BG7: =IF((SUM(Tabulação!B7:CW7))=0,"", SUM(Tabulação!B7:BF7,Tabulação!BH7:CW7)) | BH7: =IF((SUM(Tabulação!B7:CW7))=0,"", SUM(Tabulação!B7:BG7,Tabulação!BI7:CW7)) | BI7: =IF((SUM(Tabulação!B7:CW7))=0,"", SUM(Tabulação!B7:BH7,Tabulação!BJ7:CW7)) | BJ7: =IF((SUM(Tabulação!B7:CW7))=0,"", SUM(Tabulação!B7:BI7,Tabulação!BK7:CW7)) | BK7: =IF((SUM(Tabulação!B7:CW7))=0,"", SUM(Tabulação!B7:BJ7,Tabulação!BL7:CW7)) | BL7: =IF((SUM(Tabulação!B7:CW7))=0,"", SUM(Tabulação!B7:BK7,Tabulação!BM7:CW7)) | BM7: =IF((SUM(Tabulação!B7:CW7))=0,"", SUM(Tabulação!B7:BL7,Tabulação!BN7:CW7)) | BN7: =IF((SUM(Tabulação!B7:CW7))=0,"", SUM(Tabulação!B7:BM7,Tabulação!BO7:CW7)) | BO7: =IF((SUM(Tabulação!B7:CW7))=0,"", SUM(Tabulação!B7:BN7,Tabulação!BP7:CW7)) | BP7: =IF((SUM(Tabulação!B7:CW7))=0,"", SUM(Tabulação!B7:BO7,Tabulação!BQ7:CW7)) | BQ7: =IF((SUM(Tabulação!B7:CW7))=0,"", SUM(Tabulação!B7:BP7,Tabulação!BR7:CW7)) | BR7: =IF((SUM(Tabulação!B7:CW7))=0,"", SUM(Tabulação!B7:BQ7,Tabulação!BS7:CW7)) | BS7: =IF((SUM(Tabulação!B7:CW7))=0,"", SUM(Tabulação!B7:BR7,Tabulação!BT7:CW7)) | BT7: =IF((SUM(Tabulação!B7:CW7))=0,"", SUM(Tabulação!B7:BS7,Tabulação!BU7:CW7)) | BU7: =IF((SUM(Tabulação!B7:CW7))=0,"", SUM(Tabulação!B7:BT7,Tabulação!BV7:CW7)) | BV7: =IF((SUM(Tabulação!B7:CW7))=0,"", SUM(Tabulação!B7:BU7,Tabulação!BW7:CW7)) | BW7: =IF((SUM(Tabulação!B7:CW7))=0,"", SUM(Tabulação!B7:BV7,Tabulação!BX7:CW7)) | BX7: =IF((SUM(Tabulação!B7:CW7))=0,"", SUM(Tabulação!B7:BW7,Tabulação!BY7:CW7)) | BY7: =IF((SUM(Tabulação!B7:CW7))=0,"", SUM(Tabulação!B7:BX7,Tabulação!BZ7:CW7)) | BZ7: =IF((SUM(Tabulação!B7:CW7))=0,"", SUM(Tabulação!B7:BY7,Tabulação!CA7:CW7)) | CA7: =IF((SUM(Tabulação!B7:CW7))=0,"", SUM(Tabulação!B7:BZ7,Tabulação!CB7:CW7)) | CB7: =IF((SUM(Tabulação!B7:CW7))=0,"", SUM(Tabulação!B7:CA7,Tabulação!CC7:CW7)) | CC7: =IF((SUM(Tabulação!B7:CW7))=0,"", SUM(Tabulação!B7:CB7,Tabulação!CD7:CW7)) | CD7: =IF((SUM(Tabulação!B7:CW7))=0,"", SUM(Tabulação!B7:CC7,Tabulação!CE7:CW7)) | CE7: =IF((SUM(Tabulação!B7:CW7))=0,"", SUM(Tabulação!B7:CD7,Tabulação!CF7:CW7)) | CF7: =IF((SUM(Tabulação!B7:CW7))=0,"", SUM(Tabulação!B7:CE7,Tabulação!CG7:CW7)) | CG7: =IF((SUM(Tabulação!B7:CW7))=0,"", SUM(Tabulação!B7:CF7,Tabulação!CH7:CW7)) | CH7: =IF((SUM(Tabulação!B7:CW7))=0,"", SUM(Tabulação!B7:CG7,Tabulação!CI7:CW7)) | CI7: =IF((SUM(Tabulação!B7:CW7))=0,"", SUM(Tabulação!B7:CH7,Tabulação!CJ7:CW7)) | CJ7: =IF((SUM(Tabulação!B7:CW7))=0,"", SUM(Tabulação!B7:CI7,Tabulação!CK7:CW7)) | CK7: =IF((SUM(Tabulação!B7:CW7))=0,"", SUM(Tabulação!B7:CJ7,Tabulação!CL7:CW7)) | CL7: =IF((SUM(Tabulação!B7:CW7))=0,"", SUM(Tabulação!B7:CK7,Tabulação!CM7:CW7)) | CM7: =IF((SUM(Tabulação!B7:CW7))=0,"", SUM(Tabulação!B7:CL7,Tabulação!CN7:CW7)) | CN7: =IF((SUM(Tabulação!B7:CW7))=0,"", SUM(Tabulação!B7:CM7,Tabulação!CO7:CW7)) | CO7: =IF((SUM(Tabulação!B7:CW7))=0,"", SUM(Tabulação!B7:CN7,Tabulação!CP7:CW7)) | CP7: =IF((SUM(Tabulação!B7:CW7))=0,"", SUM(Tabulação!B7:CO7,Tabulação!CQ7:CW7)) | CQ7: =IF((SUM(Tabulação!B7:CW7))=0,"", SUM(Tabulação!B7:CP7,Tabulação!CR7:CW7)) | CR7: =IF((SUM(Tabulação!B7:CW7))=0,"", SUM(Tabulação!B7:CQ7,Tabulação!CS7:CW7)) | CS7: =IF((SUM(Tabulação!B7:CW7))=0,"", SUM(Tabulação!B7:CR7,Tabulação!CT7:CW7)) | CT7: =IF((SUM(Tabulação!B7:CW7))=0,"", SUM(Tabulação!B7:CS7,Tabulação!CU7:CW7)) | CU7: =IF((SUM(Tabulação!B7:CW7))=0,"", SUM(Tabulação!B7:CT7,Tabulação!CV7:CW7)) | CV7: =IF((SUM(Tabulação!B7:CW7))=0,"", SUM(Tabulação!B7:CU7,Tabulação!CW7:CW7)) | CW7: =IF((SUM(Tabulação!B7:CW7))=0,"", SUM(Tabulação!B7:CV7)) | CY7: =IF((COUNTBLANK(Tabulação!B7:CW7))>=99,"", SUM(Tabulação!B7:CW7))
A8: 7 | B8: =IF((SUM(Tabulação!B8:CW8))=0,"", SUM(Tabulação!C8:CW8)) | C8: =IF((SUM(Tabulação!B8:CW8))=0,"", SUM(Tabulação!B8,Tabulação!D8:CW8)) | D8: =IF((SUM(Tabulação!B8:CW8))=0,"", SUM(Tabulação!B8:C8,Tabulação!E8:CW8)) | E8: =IF((SUM(Tabulação!B8:CW8))=0,"", SUM(Tabulação!B8:D8,Tabulação!F8:CW8)) | F8: =IF((SUM(Tabulação!B8:CW8))=0,"", SUM(Tabulação!B8:E8,Tabulação!G8:CW8)) | G8: =IF((SUM(Tabulação!B8:CW8))=0,"", SUM(Tabulação!B8:F8,Tabulação!H8:CW8)) | H8: =IF((SUM(Tabulação!B8:CW8))=0,"", SUM(Tabulação!B8:G8,Tabulação!I8:CW8)) | I8: =IF((SUM(Tabulação!B8:CW8))=0,"", SUM(Tabulação!B8:H8,Tabulação!J8:CW8)) | J8: =IF((SUM(Tabulação!B8:CW8))=0,"", SUM(Tabulação!B8:I8,Tabulação!K8:CW8)) | K8: =IF((SUM(Tabulação!B8:CW8))=0,"", SUM(Tabulação!B8:J8,Tabulação!L8:CW8)) | L8: =IF((SUM(Tabulação!B8:CW8))=0,"", SUM(Tabulação!B8:K8,Tabulação!M8:CW8)) | M8: =IF((SUM(Tabulação!B8:CW8))=0,"", SUM(Tabulação!B8:L8,Tabulação!N8:CW8)) | N8: =IF((SUM(Tabulação!B8:CW8))=0,"", SUM(Tabulação!B8:M8,Tabulação!O8:CW8)) | O8: =IF((SUM(Tabulação!B8:CW8))=0,"", SUM(Tabulação!B8:N8,Tabulação!P8:CW8)) | P8: =IF((SUM(Tabulação!B8:CW8))=0,"", SUM(Tabulação!B8:O8,Tabulação!Q8:CW8)) | Q8: =IF((SUM(Tabulação!B8:CW8))=0,"", SUM(Tabulação!B8:P8,Tabulação!R8:CW8)) | R8: =IF((SUM(Tabulação!B8:CW8))=0,"", SUM(Tabulação!B8:Q8,Tabulação!S8:CW8)) | S8: =IF((SUM(Tabulação!B8:CW8))=0,"", SUM(Tabulação!B8:R8,Tabulação!T8:CW8)) | T8: =IF((SUM(Tabulação!B8:CW8))=0,"", SUM(Tabulação!B8:S8,Tabulação!U8:CW8)) | U8: =IF((SUM(Tabulação!B8:CW8))=0,"", SUM(Tabulação!B8:T8,Tabulação!V8:CW8)) | V8: =IF((SUM(Tabulação!B8:CW8))=0,"", SUM(Tabulação!B8:U8,Tabulação!W8:CW8)) | W8: =IF((SUM(Tabulação!B8:CW8))=0,"", SUM(Tabulação!B8:V8,Tabulação!X8:CW8)) | X8: =IF((SUM(Tabulação!B8:CW8))=0,"", SUM(Tabulação!B8:W8,Tabulação!Y8:CW8)) | Y8: =IF((SUM(Tabulação!B8:CW8))=0,"", SUM(Tabulação!B8:X8,Tabulação!Z8:CW8)) | Z8: =IF((SUM(Tabulação!B8:CW8))=0,"", SUM(Tabulação!B8:Y8,Tabulação!AA8:CW8)) | AA8: =IF((SUM(Tabulação!B8:CW8))=0,"", SUM(Tabulação!B8:Z8,Tabulação!AB8:CW8)) | AB8: =IF((SUM(Tabulação!B8:CW8))=0,"", SUM(Tabulação!B8:AA8,Tabulação!AC8:CW8)) | AC8: =IF((SUM(Tabulação!B8:CW8))=0,"", SUM(Tabulação!B8:AB8,Tabulação!AD8:CW8)) | AD8: =IF((SUM(Tabulação!B8:CW8))=0,"", SUM(Tabulação!B8:AC8,Tabulação!AE8:CW8)) | AE8: =IF((SUM(Tabulação!B8:CW8))=0,"", SUM(Tabulação!B8:AD8,Tabulação!AF8:CW8)) | AF8: =IF((SUM(Tabulação!B8:CW8))=0,"", SUM(Tabulação!B8:AE8,Tabulação!AG8:CW8)) | AG8: =IF((SUM(Tabulação!B8:CW8))=0,"", SUM(Tabulação!B8:AF8,Tabulação!AH8:CW8)) | AH8: =IF((SUM(Tabulação!B8:CW8))=0,"", SUM(Tabulação!B8:AG8,Tabulação!AI8:CW8)) | AI8: =IF((SUM(Tabulação!B8:CW8))=0,"", SUM(Tabulação!B8:AH8,Tabulação!AJ8:CW8)) | AJ8: =IF((SUM(Tabulação!B8:CW8))=0,"", SUM(Tabulação!B8:AI8,Tabulação!AK8:CW8)) | AK8: =IF((SUM(Tabulação!B8:CW8))=0,"", SUM(Tabulação!B8:AJ8,Tabulação!AL8:CW8)) | AL8: =IF((SUM(Tabulação!B8:CW8))=0,"", SUM(Tabulação!B8:AK8,Tabulação!AM8:CW8)) | AM8: =IF((SUM(Tabulação!B8:CW8))=0,"", SUM(Tabulação!B8:AL8,Tabulação!AN8:CW8)) | AN8: =IF((SUM(Tabulação!B8:CW8))=0,"", SUM(Tabulação!B8:AM8,Tabulação!AO8:CW8)) | AO8: =IF((SUM(Tabulação!B8:CW8))=0,"", SUM(Tabulação!B8:AN8,Tabulação!AP8:CW8)) | AP8: =IF((SUM(Tabulação!B8:CW8))=0,"", SUM(Tabulação!B8:AO8,Tabulação!AQ8:CW8)) | AQ8: =IF((SUM(Tabulação!B8:CW8))=0,"", SUM(Tabulação!B8:AP8,Tabulação!AR8:CW8)) | AR8: =IF((SUM(Tabulação!B8:CW8))=0,"", SUM(Tabulação!B8:AQ8,Tabulação!AS8:CW8)) | AS8: =IF((SUM(Tabulação!B8:CW8))=0,"", SUM(Tabulação!B8:AR8,Tabulação!AT8:CW8)) | AT8: =IF((SUM(Tabulação!B8:CW8))=0,"", SUM(Tabulação!B8:AS8,Tabulação!AU8:CW8)) | AU8: =IF((SUM(Tabulação!B8:CW8))=0,"", SUM(Tabulação!B8:AT8,Tabulação!AV8:CW8)) | AV8: =IF((SUM(Tabulação!B8:CW8))=0,"", SUM(Tabulação!B8:AU8,Tabulação!AW8:CW8)) | AW8: =IF((SUM(Tabulação!B8:CW8))=0,"", SUM(Tabulação!B8:AV8,Tabulação!AX8:CW8)) | AX8: =IF((SUM(Tabulação!B8:CW8))=0,"", SUM(Tabulação!B8:AW8,Tabulação!AY8:CW8)) | AY8: =IF((SUM(Tabulação!B8:CW8))=0,"", SUM(Tabulação!B8:AX8,Tabulação!AZ8:CW8)) | AZ8: =IF((SUM(Tabulação!B8:CW8))=0,"", SUM(Tabulação!B8:AY8,Tabulação!BA8:CW8)) | BA8: =IF((SUM(Tabulação!B8:CW8))=0,"", SUM(Tabulação!B8:AZ8,Tabulação!BB8:CW8)) | BB8: =IF((SUM(Tabulação!B8:CW8))=0,"", SUM(Tabulação!B8:BA8,Tabulação!BC8:CW8)) | BC8: =IF((SUM(Tabulação!B8:CW8))=0,"", SUM(Tabulação!B8:BB8,Tabulação!BD8:CW8)) | BD8: =IF((SUM(Tabulação!B8:CW8))=0,"", SUM(Tabulação!B8:BC8,Tabulação!BE8:CW8)) | BE8: =IF((SUM(Tabulação!B8:CW8))=0,"", SUM(Tabulação!B8:BD8,Tabulação!BF8:CW8)) | BF8: =IF((SUM(Tabulação!B8:CW8))=0,"", SUM(Tabulação!B8:BE8,Tabulação!BG8:CW8)) | BG8: =IF((SUM(Tabulação!B8:CW8))=0,"", SUM(Tabulação!B8:BF8,Tabulação!BH8:CW8)) | BH8: =IF((SUM(Tabulação!B8:CW8))=0,"", SUM(Tabulação!B8:BG8,Tabulação!BI8:CW8)) | BI8: =IF((SUM(Tabulação!B8:CW8))=0,"", SUM(Tabulação!B8:BH8,Tabulação!BJ8:CW8)) | BJ8: =IF((SUM(Tabulação!B8:CW8))=0,"", SUM(Tabulação!B8:BI8,Tabulação!BK8:CW8)) | BK8: =IF((SUM(Tabulação!B8:CW8))=0,"", SUM(Tabulação!B8:BJ8,Tabulação!BL8:CW8)) | BL8: =IF((SUM(Tabulação!B8:CW8))=0,"", SUM(Tabulação!B8:BK8,Tabulação!BM8:CW8)) | BM8: =IF((SUM(Tabulação!B8:CW8))=0,"", SUM(Tabulação!B8:BL8,Tabulação!BN8:CW8)) | BN8: =IF((SUM(Tabulação!B8:CW8))=0,"", SUM(Tabulação!B8:BM8,Tabulação!BO8:CW8)) | BO8: =IF((SUM(Tabulação!B8:CW8))=0,"", SUM(Tabulação!B8:BN8,Tabulação!BP8:CW8)) | BP8: =IF((SUM(Tabulação!B8:CW8))=0,"", SUM(Tabulação!B8:BO8,Tabulação!BQ8:CW8)) | BQ8: =IF((SUM(Tabulação!B8:CW8))=0,"", SUM(Tabulação!B8:BP8,Tabulação!BR8:CW8)) | BR8: =IF((SUM(Tabulação!B8:CW8))=0,"", SUM(Tabulação!B8:BQ8,Tabulação!BS8:CW8)) | BS8: =IF((SUM(Tabulação!B8:CW8))=0,"", SUM(Tabulação!B8:BR8,Tabulação!BT8:CW8)) | BT8: =IF((SUM(Tabulação!B8:CW8))=0,"", SUM(Tabulação!B8:BS8,Tabulação!BU8:CW8)) | BU8: =IF((SUM(Tabulação!B8:CW8))=0,"", SUM(Tabulação!B8:BT8,Tabulação!BV8:CW8)) | BV8: =IF((SUM(Tabulação!B8:CW8))=0,"", SUM(Tabulação!B8:BU8,Tabulação!BW8:CW8)) | BW8: =IF((SUM(Tabulação!B8:CW8))=0,"", SUM(Tabulação!B8:BV8,Tabulação!BX8:CW8)) | BX8: =IF((SUM(Tabulação!B8:CW8))=0,"", SUM(Tabulação!B8:BW8,Tabulação!BY8:CW8)) | BY8: =IF((SUM(Tabulação!B8:CW8))=0,"", SUM(Tabulação!B8:BX8,Tabulação!BZ8:CW8)) | BZ8: =IF((SUM(Tabulação!B8:CW8))=0,"", SUM(Tabulação!B8:BY8,Tabulação!CA8:CW8)) | CA8: =IF((SUM(Tabulação!B8:CW8))=0,"", SUM(Tabulação!B8:BZ8,Tabulação!CB8:CW8)) | CB8: =IF((SUM(Tabulação!B8:CW8))=0,"", SUM(Tabulação!B8:CA8,Tabulação!CC8:CW8)) | CC8: =IF((SUM(Tabulação!B8:CW8))=0,"", SUM(Tabulação!B8:CB8,Tabulação!CD8:CW8)) | CD8: =IF((SUM(Tabulação!B8:CW8))=0,"", SUM(Tabulação!B8:CC8,Tabulação!CE8:CW8)) | CE8: =IF((SUM(Tabulação!B8:CW8))=0,"", SUM(Tabulação!B8:CD8,Tabulação!CF8:CW8)) | CF8: =IF((SUM(Tabulação!B8:CW8))=0,"", SUM(Tabulação!B8:CE8,Tabulação!CG8:CW8)) | CG8: =IF((SUM(Tabulação!B8:CW8))=0,"", SUM(Tabulação!B8:CF8,Tabulação!CH8:CW8)) | CH8: =IF((SUM(Tabulação!B8:CW8))=0,"", SUM(Tabulação!B8:CG8,Tabulação!CI8:CW8)) | CI8: =IF((SUM(Tabulação!B8:CW8))=0,"", SUM(Tabulação!B8:CH8,Tabulação!CJ8:CW8)) | CJ8: =IF((SUM(Tabulação!B8:CW8))=0,"", SUM(Tabulação!B8:CI8,Tabulação!CK8:CW8)) | CK8: =IF((SUM(Tabulação!B8:CW8))=0,"", SUM(Tabulação!B8:CJ8,Tabulação!CL8:CW8)) | CL8: =IF((SUM(Tabulação!B8:CW8))=0,"", SUM(Tabulação!B8:CK8,Tabulação!CM8:CW8)) | CM8: =IF((SUM(Tabulação!B8:CW8))=0,"", SUM(Tabulação!B8:CL8,Tabulação!CN8:CW8)) | CN8: =IF((SUM(Tabulação!B8:CW8))=0,"", SUM(Tabulação!B8:CM8,Tabulação!CO8:CW8)) | CO8: =IF((SUM(Tabulação!B8:CW8))=0,"", SUM(Tabulação!B8:CN8,Tabulação!CP8:CW8)) | CP8: =IF((SUM(Tabulação!B8:CW8))=0,"", SUM(Tabulação!B8:CO8,Tabulação!CQ8:CW8)) | CQ8: =IF((SUM(Tabulação!B8:CW8))=0,"", SUM(Tabulação!B8:CP8,Tabulação!CR8:CW8)) | CR8: =IF((SUM(Tabulação!B8:CW8))=0,"", SUM(Tabulação!B8:CQ8,Tabulação!CS8:CW8)) | CS8: =IF((SUM(Tabulação!B8:CW8))=0,"", SUM(Tabulação!B8:CR8,Tabulação!CT8:CW8)) | CT8: =IF((SUM(Tabulação!B8:CW8))=0,"", SUM(Tabulação!B8:CS8,Tabulação!CU8:CW8)) | CU8: =IF((SUM(Tabulação!B8:CW8))=0,"", SUM(Tabulação!B8:CT8,Tabulação!CV8:CW8)) | CV8: =IF((SUM(Tabulação!B8:CW8))=0,"", SUM(Tabulação!B8:CU8,Tabulação!CW8:CW8)) | CW8: =IF((SUM(Tabulação!B8:CW8))=0,"", SUM(Tabulação!B8:CV8)) | CY8: =IF((COUNTBLANK(Tabulação!B8:CW8))>=99,"", SUM(Tabulação!B8:CW8))
