Workbook

Sheet Tabulação
B1: Q1 | C1: Q2 | D1: Q3 | E1: Q4 | F1: Q5 | G1: Q6 | H1: Q7 | I1: Q8 | J1: Q9 | K1: Q10 | L1: Q11 | M1: Q12 | N1: Q13 | O1: Q14 | P1: Q15 | Q1: Q16 | R1: Q17 | S1: Q18 | T1: Q19 | U1: Q20 | V1: Q21 | W1: Q22 | X1: Q23 | Y1: Q24 | Z1: Q25 | AA1: Q26 | AB1: Q27 | AC1: Q28 | AD1: Q29 | AE1: Q30 | AF1: Q31 | AG1: Q32 | AH1: Q33 | AI1: Q34 | AJ1: Q35 | AK1: Q36 | AL1: Q37 | AM1: Q38 | AN1: Q39 | AO1: Q40 | AP1: Q41 | AQ1: Q42 | AR1: Q43 | AS1: Q44 | AT1: Q45 | AU1: Q46 | AV1: Q47 | AW1: Q48 | AX1: Q49 | AY1: Q50 | AZ1: Q51 | BA1: Q52 | BB1: Q53 | BC1: Q54 | BD1: Q55 | BE1: Q56 | BF1: Q57 | BG1: Q58 | BH1: Q59 | BI1: Q60 | BJ1: Q61 | BK1: Q62 | BL1: Q63 | BM1: Q64 | BN1: Q65 | BO1: Q66 | BP1: Q67 | BQ1: Q68 | BR1: Q69 | BS1: Q70 | BT1: Q71 | BU1: Q72 | BV1: Q73 | BW1: Q74 | BX1: Q75 | BY1: Q76 | BZ1: Q77 | CA1: Q78 | CB1: Q79 | CC1: Q80 | CD1: Q81 | CE1: Q82 | CF1: Q83 | CG1: Q84 | CH1: Q85 | CI1: Q86 | CJ1: Q87 | CK1: Q88 | CL1: Q89 | CM1: Q90 | CN1: Q91 | CO1: Q92 | CP1: Q93 | CQ1: Q94 | CR1: Q95 | CS1: Q96 | CT1: Q97 | CU1: Q98 | CV1: Q99 | CW1: Q100
A2: 1
A3: 2
A4: 3
A5: 4
A6: 5
A7: 6
A8: 7
A9: 8
A10: 9
A11: 10
A12: 11
A13: 12
... A1001: 1000

Sheet Somas
B1: Q1 | C1: Q2 | D1: Q3 | E1: Q4 | F1: Q5 | G1: Q6 | H1: Q7 | I1: Q8 | J1: Q9 | K1: Q10 | L1: Q11 | M1: Q12 | N1: Q13 | O1: Q14 | P1: Q15 | Q1: Q16 | R1: Q17 | S1: Q18 | T1: Q19 | U1: Q20 | V1: Q21 | W1: Q22 | X1: Q23 | Y1: Q24 | Z1: Q25 | AA1: Q26 | AB1: Q27 | AC1: Q28 | AD1: Q29 | AE1: Q30 | AF1: Q31 | AG1: Q32 | AH1: Q33 | AI1: Q34 | AJ1: Q35 | AK1: Q36 | AL1: Q37 | AM1: Q38 | AN1: Q39 | AO1: Q40 | AP1: Q41 | AQ1: Q42 | AR1: Q43 | AS1: Q44 | AT1: Q45 | AU1: Q46 | AV1: Q47 | AW1: Q48 | AX1: Q49 | AY1: Q50 | AZ1: Q51 | BA1: Q52 | BB1: Q53 | BC1: Q54 | BD1: Q55 | BE1: Q56 | BF1: Q57 | BG1: Q58 | BH1: Q59 | BI1: Q60 | BJ1: Q61 | BK1: Q62 | BL1: Q63 | BM1: Q64 | BN1: Q65 | BO1: Q66 | BP1: Q67 | BQ1: Q68 | BR1: Q69 | BS1: Q70 | BT1: Q71 | BU1: Q72 | BV1: Q73 | BW1: Q74 | BX1: Q75 | BY1: Q76 | BZ1: Q77 | CA1: Q78 | CB1: Q79 | CC1: Q80 | CD1: Q81 | CE1: Q82 | CF1: Q83 | CG1: Q84 | CH1: Q85 | CI1: Q86 | CJ1: Q87 | CK1: Q88 | CL1: Q89 | CM1: Q90 | CN1: Q91 | CO1: Q92 | CP1: Q93 | CQ1: Q94 | CR1: Q95 | CS1: Q96 | CT1: Q97 | CU1: Q98 | CV1: Q99 | CW1: Q100 | CY1: SOMA
A2: 1 | B2: =IF((SUM(Tabulação!B2:CW2))=0,"", SUM(Tabulação!C2:CW2)) | C2: =IF((SUM(Tabulação!B2:CW2))=0,"", SUM(Tabulação!B2,Tabulação!D2:CW2)) | D2: =IF((SUM(Tabulação!B2:CW2))=0,"", SUM(Tabulação!B2:C2,Tabulação!E2:CW2)) | E2: =IF((SUM(Tabulação!B2:CW2))=0,"", SUM(Tabulação!B2:D2,Tabulação!F2:CW2)) | F2: =IF((SUM(Tabulação!B2:CW2))=0,"", SUM(Tabulação!B2:E2,Tabulação!G2:CW2)) | G2: =IF((SUM(Tabulação!B2:CW2))=0,"", SUM(Tabulação!B2:F2,Tabulação!H2:CW2)) | H2: =IF((SUM(Tabulação!B2:CW2))=0,"", SUM(Tabulação!B2:G2,Tabulação!I2:CW2)) | I2: =IF((SUM(Tabulação!B2:CW2))=0,"", SUM(Tabulação!B2:H2,Tabulação!J2:CW2)) | J2: =IF((SUM(Tabulação!B2:CW2))=0,"", SUM(Tabulação!B2:I2,Tabulação!K2:CW2)) | K2: =IF((SUM(Tabulação!B2:CW2))=0,"", SUM(Tabulação!B2:J2,Tabulação!L2:CW2)) | L2: =IF((SUM(Tabulação!B2:CW2))=0,"", SUM(Tabulação!B2:K2,Tabulação!M2:CW2)) | M2: =IF((SUM(Tabulação!B2:CW2))=0,"", SUM(Tabulação!B2:L2,Tabulação!N2:CW2)) | N2: =IF((SUM(Tabulação!B2:CW2))=0,"", SUM(Tabulação!B2:M2,Tabulação!O2:CW2)) | O2: =IF((SUM(Tabulação!B2:CW2))=0,"", SUM(Tabulação!B2:N2,Tabulação!P2:CW2)) | P2: =IF((SUM(Tabulação!B2:CW2))=0,"", SUM(Tabulação!B2:O2,Tabulação!Q2:CW2)) | Q2: =IF((SUM(Tabulação!B2:CW2))=0,"", SUM(Tabulação!B2:P2,Tabulação!R2:CW2)) | R2: =IF((SUM(Tabulação!B2:CW2))=0,"", SUM(Tabulação!B2:Q2,Tabulação!S2:CW2)) | S2: =IF((SUM(Tabulação!B2:CW2))=0,"", SUM(Tabulação!B2:R2,Tabulação!T2:CW2)) | T2: =IF((SUM(Tabulação!B2:CW2))=0,"", SUM(Tabulação!B2:S2,Tabulação!U2:CW2)) | U2: =IF((SUM(Tabulação!B2:CW2))=0,"", SUM(Tabulação!B2:T2,Tabulação!V2:CW2)) | V2: =IF((SUM(Tabulação!B2:CW2))=0,"", SUM(Tabulação!B2:U2,Tabulação!W2:CW2)) | W2: =IF((SUM(Tabulação!B2:CW2))=0,"", SUM(Tabulação!B2:V2,Tabulação!X2:CW2)) | X2: =IF((SUM(Tabulação!B2:CW2))=0,"", SUM(Tabulação!B2:W2,Tabulação!Y2:CW2)) | Y2: =IF((SUM(Tabulação!B2:CW2))=0,"", SUM(Tabulação!B2:X2,Tabulação!Z2:CW2)) | Z2: =IF((SUM(Tabulação!B2:CW2))=0,"", SUM(Tabulação!B2:Y2,Tabulação!AA2:CW2)) | AA2: =IF((SUM(Tabulação!B2:CW2))=0,"", SUM(Tabulação!B2:Z2,Tabulação!AB2:CW2)) | AB2: =IF((SUM(Tabulação!B2:CW2))=0,"", SUM(Tabulação!B2:AA2,Tabulação!AC2:CW2)) | AC2: =IF((SUM(Tabulação!B2:CW2))=0,"", SUM(Tabulação!B2:AB2,Tabulação!AD2:CW2)) | AD2: =IF((SUM(Tabulação!B2:CW2))=0,"", SUM(Tabulação!B2:AC2,Tabulação!AE2:CW2)) | AE2: =IF((SUM(Tabulação!B2:CW2))=0,"", SUM(Tabulação!B2:AD2,Tabulação!AF2:CW2)) | AF2: =IF((SUM(Tabulação!B2:CW2))=0,"", SUM(Tabulação!B2:AE2,Tabulação!AG2:CW2)) | AG2: =IF((SUM(Tabulação!B2:CW2))=0,"", SUM(Tabulação!B2:AF2,Tabulação!AH2:CW2)) | AH2: =IF((SUM(Tabulação!B2:CW2))=0,"", SUM(Tabulação!B2:AG2,Tabulação!AI2:CW2)) | AI2: =IF((SUM(Tabulação!B2:CW2))=0,"", SUM(Tabulação!B2:AH2,Tabulação!AJ2:CW2)) | AJ2: =IF((SUM(Tabulação!B2:CW2))=0,"", SUM(Tabulação!B2:AI2,Tabulação!AK2:CW2)) | AK2: =IF((SUM(Tabulação!B2:CW2))=0,"", SUM(Tabulação!B2:AJ2,Tabulação!AL2:CW2)) | AL2: =IF((SUM(Tabulação!B2:CW2))=0,"", SUM(Tabulação!B2:AK2,Tabulação!AM2:CW2)) | AM2: =IF((SUM(Tabulação!B2:CW2))=0,"", SUM(Tabulação!B2:AL2,Tabulação!AN2:CW2)) | AN2: =IF((SUM(Tabulação!B2:CW2))=0,"", SUM(Tabulação!B2:AM2,Tabulação!AO2:CW2)) | AO2: =IF((SUM(Tabulação!B2:CW2))=0,"", SUM(Tabulação!B2:AN2,Tabulação!AP2:CW2)) | AP2: =IF((SUM(Tabulação!B2:CW2))=0,"", SUM(Tabulação!B2:AO2,Tabulação!AQ2:CW2)) | AQ2: =IF((SUM(Tabulação!B2:CW2))=0,"", SUM(Tabulação!B2:AP2,Tabulação!AR2:CW2)) | AR2: =IF((SUM(Tabulação!B2:CW2))=0,"", SUM(Tabulação!B2:AQ2,Tabulação!AS2:CW2)) | AS2: =IF((SUM(Tabulação!B2:CW2))=0,"", SUM(Tabulação!B2:AR2,Tabulação!AT2:CW2)) | AT2: =IF((SUM(Tabulação!B2:CW2))=0,"", SUM(Tabulação!B2:AS2,Tabulação!AU2:CW2)) | AU2: =IF((SUM(Tabulação!B2:CW2))=0,"", SUM(Tabulação!B2:AT2,Tabulação!AV2:CW2)) | AV2: =IF((SUM(Tabulação!B2:CW2))=0,"", SUM(Tabulação!B2:AU2,Tabulação!AW2:CW2)) | AW2: =IF((SUM(Tabulação!B2:CW2))=0,"", SUM(Tabulação!B2:AV2,Tabulação!AX2:CW2)) | AX2: =IF((SUM(Tabulação!B2:CW2))=0,"", SUM(Tabulação!B2:AW2,Tabulação!AY2:CW2)) | AY2: =IF((SUM(Tabulação!B2:CW2))=0,"", SUM(Tabulação!B2:AX2,Tabulação!AZ2:CW2)) | AZ2: =IF((SUM(Tabulação!B2:CW2))=0,"", SUM(Tabulação!B2:AY2,Tabulação!BA2:CW2)) | BA2: =IF((SUM(Tabulação!B2:CW2))=0,"", SUM(Tabulação!B2:AZ2,Tabulação!BB2:CW2)) | BB2: =IF((SUM(Tabulação!B2:CW2))=0,"", SUM(Tabulação!B2:BA2,Tabulação!BC2:CW2)) | BC2: =IF((SUM(Tabulação!B2:CW2))=0,"", SUM(Tabulação!B2:BB2,Tabulação!BD2:CW2)) | BD2: =IF((SUM(Tabulação!B2:CW2))=0,"", SUM(Tabulação!B2:BC2,Tabulação!BE2:CW2)) | BE2: =IF((SUM(Tabulação!B2:CW2))=0,"", SUM(Tabulação!B2:BD2,Tabulação!BF2:CW2)) | BF2: =IF((SUM(Tabulação!B2:CW2))=0,"", SUM(Tabulação!B2:BE2,Tabulação!BG2:CW2)) | BG2: =IF((SUM(Tabulação!B2:CW2))=0,"", SUM(Tabulação!B2:BF2,Tabulação!BH2:CW2)) | BH2: =IF((SUM(Tabulação!B2:CW2))=0,"", SUM(Tabulação!B2:BG2,Tabulação!BI2:CW2)) | BI2: =IF((SUM(Tabulação!B2:CW2))=0,"", SUM(Tabulação!B2:BH2,Tabulação!BJ2:CW2)) | BJ2: =IF((SUM(Tabulação!B2:CW2))=0,"", SUM(Tabulação!B2:BI2,Tabulação!BK2:CW2)) | BK2: =IF((SUM(Tabulação!B2:CW2))=0,"", SUM(Tabulação!B2:BJ2,Tabulação!BL2:CW2)) | BL2: =IF((SUM(Tabulação!B2:CW2))=0,"", SUM(Tabulação!B2:BK2,Tabulação!BM2:CW2)) | BM2: =IF((SUM(Tabulação!B2:CW2))=0,"", SUM(Tabulação!B2:BL2,Tabulação!BN2:CW2)) | BN2: =IF((SUM(Tabulação!B2:CW2))=0,"", SUM(Tabulação!B2:BM2,Tabulação!BO2:CW2)) | BO2: =IF((SUM(Tabulação!B2:CW2))=0,"", SUM(Tabulação!B2:BN2,Tabulação!BP2:CW2)) | BP2: =IF((SUM(Tabulação!B2:CW2))=0,"", SUM(Tabulação!B2:BO2,Tabulação!BQ2:CW2)) | BQ2: =IF((SUM(Tabulação!B2:CW2))=0,"", SUM(Tabulação!B2:BP2,Tabulação!BR2:CW2)) | BR2: =IF((SUM(Tabulação!B2:CW2))=0,"", SUM(Tabulação!B2:BQ2,Tabulação!BS2:CW2)) | BS2: =IF((SUM(Tabulação!B2:CW2))=0,"", SUM(Tabulação!B2:BR2,Tabulação!BT2:CW2)) | BT2: =IF((SUM(Tabulação!B2:CW2))=0,"", SUM(Tabulação!B2:BS2,Tabulação!BU2:CW2)) | BU2: =IF((SUM(Tabulação!B2:CW2))=0,"", SUM(Tabulação!B2:BT2,Tabulação!BV2:CW2)) | BV2: =IF((SUM(Tabulação!B2:CW2))=0,"", SUM(Tabulação!B2:BU2,Tabulação!BW2:CW2)) | BW2: =IF((SUM(Tabulação!B2:CW2))=0,"", SUM(Tabulação!B2:BV2,Tabulação!BX2:CW2)) | BX2: =IF((SUM(Tabulação!B2:CW2))=0,"", SUM(Tabulação!B2:BW2,Tabulação!BY2:CW2)) | BY2: =IF((SUM(Tabulação!B2:CW2))=0,"", SUM(Tabulação!B2:BX2,Tabulação!BZ2:CW2)) | BZ2: =IF((SUM(Tabulação!B2:CW2))=0,"", SUM(Tabulação!B2:BY2,Tabulação!CA2:CW2)) | CA2: =IF((SUM(Tabulação!B2:CW2))=0,"", SUM(Tabulação!B2:BZ2,Tabulação!CB2:CW2)) | CB2: =IF((SUM(Tabulação!B2:CW2))=0,"", SUM(Tabulação!B2:CA2,Tabulação!CC2:CW2)) | CC2: =IF((SUM(Tabulação!B2:CW2))=0,"", SUM(Tabulação!B2:CB2,Tabulação!CD2:CW2)) | CD2: =IF((SUM(Tabulação!B2:CW2))=0,"", SUM(Tabulação!B2:CC2,Tabulação!CE2:CW2)) | CE2: =IF((SUM(Tabulação!B2:CW2))=0,"", SUM(Tabulação!B2:CD2,Tabulação!CF2:CW2)) | CF2: =IF((SUM(Tabulação!B2:CW2))=0,"", SUM(Tabulação!B2:CE2,Tabulação!CG2:CW2)) | CG2: =IF((SUM(Tabulação!B2:CW2))=0,"", SUM(Tabulação!B2:CF2,Tabulação!CH2:CW2)) | CH2: =IF((SUM(Tabulação!B2:CW2))=0,"", SUM(Tabulação!B2:CG2,Tabulação!CI2:CW2)) | CI2: =IF((SUM(Tabulação!B2:CW2))=0,"", SUM(Tabulação!B2:CH2,Tabulação!CJ2:CW2)) | CJ2: =IF((SUM(Tabulação!B2:CW2))=0,"", SUM(Tabulação!B2:CI2,Tabulação!CK2:CW2)) | CK2: =IF((SUM(Tabulação!B2:CW2))=0,"", SUM(Tabulação!B2:CJ2,Tabulação!CL2:CW2)) | CL2: =IF((SUM(Tabulação!B2:CW2))=0,"", SUM(Tabulação!B2:CK2,Tabulação!CM2:CW2)) | CM2: =IF((SUM(Tabulação!B2:CW2))=0,"", SUM(Tabulação!B2:CL2,Tabulação!CN2:CW2)) | CN2: =IF((SUM(Tabulação!B2:CW2))=0,"", SUM(Tabulação!B2:CM2,Tabulação!CO2:CW2)) | CO2: =IF((SUM(Tabulação!B2:CW2))=0,"", SUM(Tabulação!B2:CN2,Tabulação!CP2:CW2)) | CP2: =IF((SUM(Tabulação!B2:CW2))=0,"", SUM(Tabulação!B2:CO2,Tabulação!CQ2:CW2)) | CQ2: =IF((SUM(Tabulação!B2:CW2))=0,"", SUM(Tabulação!B2:CP2,Tabulação!CR2:CW2)) | CR2: =IF((SUM(Tabulação!B2:CW2))=0,"", SUM(Tabulação!B2:CQ2,Tabulação!CS2:CW2)) | CS2: =IF((SUM(Tabulação!B2:CW2))=0,"", SUM(Tabulação!B2:CR2,Tabulação!CT2:CW2)) | CT2: =IF((SUM(Tabulação!B2:CW2))=0,"", SUM(Tabulação!B2:CS2,Tabulação!CU2:CW2)) | CU2: =IF((SUM(Tabulação!B2:CW2))=0,"", SUM(Tabulação!B2:CT2,Tabulação!CV2:CW2)) | CV2: =IF((SUM(Tabulação!B2:CW2))=0,"", SUM(Tabulação!B2:CU2,Tabulação!CW2:CW2)) | CW2: =IF((SUM(Tabulação!B2:CW2))=0,"", SUM(Tabulação!B2:CV2)) | CY2: =IF((COUNTBLANK(Tabulação!B2:CW2))>=99,"", SUM(Tabulação!B2:CW2))
A3: 2 | B3: =IF((SUM(Tabulação!B3:CW3))=0,"", SUM(Tabulação!C3:CW3)) | C3: =IF((SUM(Tabulação!B3:CW3))=0,"", SUM(Tabulação!B3,Tabulação!D3:CW3)) | D3: =IF((SUM(Tabulação!B3:CW3))=0,"", SUM(Tabulação!B3:C3,Tabulação!E3:CW3)) | E3: =IF((SUM(Tabulação!B3:CW3))=0,"", SUM(Tabulação!B3:D3,Tabulação!F3:CW3)) | F3: =IF((SUM(Tabulação!B3:CW3))=0,"", SUM(Tabulação!B3:E3,Tabulação!G3:CW3)) | G3: =IF((SUM(Tabulação!B3:CW3))=0,"", SUM(Tabulação!B3:F3,Tabulação!H3:CW3)) | H3: =IF((SUM(Tabulação!B3:CW3))=0,"", SUM(Tabulação!B3:G3,Tabulação!I3:CW3)) | I3: =IF((SUM(Tabulação!B3:CW3))=0,"", SUM(Tabulação!B3:H3,Tabulação!J3:CW3)) | J3: =IF((SUM(Tabulação!B3:CW3))=0,"", SUM(Tabulação!B3:I3,Tabulação!K3:CW3)) | K3: =IF((SUM(Tabulação!B3:CW3))=0,"", SUM(Tabulação!B3:J3,Tabulação!L3:CW3)) | L3: =IF((SUM(Tabulação!B3:CW3))=0,"", SUM(Tabulação!B3:K3,Tabulação!M3:CW3)) | M3: =IF((SUM(Tabulação!B3:CW3))=0,"", SUM(Tabulação!B3:L3,Tabulação!N3:CW3)) | N3: =IF((SUM(Tabulação!B3:CW3))=0,"", SUM(Tabulação!B3:M3,Tabulação!O3:CW3)) | O3: =IF((SUM(Tabulação!B3:CW3))=0,"", SUM(Tabulação!B3:N3,Tabulação!P3:CW3)) | P3: =IF((SUM(Tabulação!B3:CW3))=0,"", SUM(Tabulação!B3:O3,Tabulação!Q3:CW3)) | Q3: =IF((SUM(Tabulação!B3:CW3))=0,"", SUM(Tabulação!B3:P3,Tabulação!R3:CW3)) | R3: =IF((SUM(Tabulação!B3:CW3))=0,"", SUM(Tabulação!B3:Q3,Tabulação!S3:CW3)) | S3: =IF((SUM(Tabulação!B3:CW3))=0,"", SUM(Tabulação!B3:R3,Tabulação!T3:CW3)) | T3: =IF((SUM(Tabulação!B3:CW3))=0,"", SUM(Tabulação!B3:S3,Tabulação!U3:CW3)) | U3: =IF((SUM(Tabulação!B3:CW3))=0,"", SUM(Tabulação!B3:T3,Tabulação!V3:CW3)) | V3: =IF((SUM(Tabulação!B3:CW3))=0,"", SUM(Tabulação!B3:U3,Tabulação!W3:CW3)) | W3: =IF((SUM(Tabulação!B3:CW3))=0,"", SUM(Tabulação!B3:V3,Tabulação!X3:CW3)) | X3: =IF((SUM(Tabulação!B3:CW3))=0,"", SUM(Tabulação!B3:W3,Tabulação!Y3:CW3)) | Y3: =IF((SUM(Tabulação!B3:CW3))=0,"", SUM(Tabulação!B3:X3,Tabulação!Z3:CW3)) | Z3: =IF((SUM(Tabulação!B3:CW3))=0,"", SUM(Tabulação!B3:Y3,Tabulação!AA3:CW3)) | AA3: =IF((SUM(Tabulação!B3:CW3))=0,"", SUM(Tabulação!B3:Z3,Tabulação!AB3:CW3)) | AB3: =IF((SUM(Tabulação!B3:CW3))=0,"", SUM(Tabulação!B3:AA3,Tabulação!AC3:CW3)) | AC3: =IF((SUM(Tabulação!B3:CW3))=0,"", SUM(Tabulação!B3:AB3,Tabulação!AD3:CW3)) | AD3: =IF((SUM(Tabulação!B3:CW3))=0,"", SUM(Tabulação!B3:AC3,Tabulação!AE3:CW3)) | AE3: =IF((SUM(Tabulação!B3:CW3))=0,"", SUM(Tabulação!B3:AD3,Tabulação!AF3:CW3)) | AF3: =IF((SUM(Tabulação!B3:CW3))=0,"", SUM(Tabulação!B3:AE3,Tabulação!AG3:CW3)) | AG3: =IF((SUM(Tabulação!B3:CW3))=0,"", SUM(Tabulação!B3:AF3,Tabulação!AH3:CW3)) | AH3: =IF((SUM(Tabulação!B3:CW3))=0,"", SUM(Tabulação!B3:AG3,Tabulação!AI3:CW3)) | AI3: =IF((SUM(Tabulação!B3:CW3))=0,"", SUM(Tabulação!B3:AH3,Tabulação!AJ3:CW3)) | AJ3: =IF((SUM(Tabulação!B3:CW3))=0,"", SUM(Tabulação!B3:AI3,Tabulação!AK3:CW3)) | AK3: =IF((SUM(Tabulação!B3:CW3))=0,"", SUM(Tabulação!B3:AJ3,Tabulação!AL3:CW3)) | AL3: =IF((SUM(Tabulação!B3:CW3))=0,"", SUM(Tabulação!B3:AK3,Tabulação!AM3:CW3)) | AM3: =IF((SUM(Tabulação!B3:CW3))=0,"", SUM(Tabulação!B3:AL3,Tabulação!AN3:CW3)) | AN3: =IF((SUM(Tabulação!B3:CW3))=0,"", SUM(Tabulação!B3:AM3,Tabulação!AO3:CW3)) | AO3: =IF((SUM(Tabulação!B3:CW3))=0,"", SUM(Tabulação!B3:AN3,Tabulação!AP3:CW3)) | AP3: =IF((SUM(Tabulação!B3:CW3))=0,"", SUM(Tabulação!B3:AO3,Tabulação!AQ3:CW3)) | AQ3: =IF((SUM(Tabulação!B3:CW3))=0,"", SUM(Tabulação!B3:AP3,Tabulação!AR3:CW3)) | AR3: =IF((SUM(Tabulação!B3:CW3))=0,"", SUM(Tabulação!B3:AQ3,Tabulação!AS3:CW3)) | AS3: =IF((SUM(Tabulação!B3:CW3))=0,"", SUM(Tabulação!B3:AR3,Tabulação!AT3:CW3)) | AT3: =IF((SUM(Tabulação!B3:CW3))=0,"", SUM(Tabulação!B3:AS3,Tabulação!AU3:CW3)) | AU3: =IF((SUM(Tabulação!B3:CW3))=0,"", SUM(Tabulação!B3:AT3,Tabulação!AV3:CW3)) | AV3: =IF((SUM(Tabulação!B3:CW3))=0,"", SUM(Tabulação!B3:AU3,Tabulação!AW3:CW3)) | AW3: =IF((SUM(Tabulação!B3:CW3))=0,"", SUM(Tabulação!B3:AV3,Tabulação!AX3:CW3)) | AX3: =IF((SUM(Tabulação!B3:CW3))=0,"", SUM(Tabulação!B3:AW3,Tabulação!AY3:CW3)) | AY3: =IF((SUM(Tabulação!B3:CW3))=0,"", SUM(Tabulação!B3:AX3,Tabulação!AZ3:CW3)) | AZ3: =IF((SUM(Tabulação!B3:CW3))=0,"", SUM(Tabulação!B3:AY3,Tabulação!BA3:CW3)) | BA3: =IF((SUM(Tabulação!B3:CW3))=0,"", SUM(Tabulação!B3:AZ3,Tabulação!BB3:CW3)) | BB3: =IF((SUM(Tabulação!B3:CW3))=0,"", SUM(Tabulação!B3:BA3,Tabulação!BC3:CW3)) | BC3: =IF((SUM(Tabulação!B3:CW3))=0,"", SUM(Tabulação!B3:BB3,Tabulação!BD3:CW3)) | BD3: =IF((SUM(Tabulação!B3:CW3))=0,"", SUM(Tabulação!B3:BC3,Tabulação!BE3:CW3)) | BE3: =IF((SUM(Tabulação!B3:CW3))=0,"", SUM(Tabulação!B3:BD3,Tabulação!BF3:CW3)) | BF3: =IF((SUM(Tabulação!B3:CW3))=0,"", SUM(Tabulação!B3:BE3,Tabulação!BG3:CW3)) | BG3: =IF((SUM(Tabulação!B3:CW3))=0,"", SUM(Tabulação!B3:BF3,Tabulação!BH3:CW3)) | BH3: =IF((SUM(Tabulação!B3:CW3))=0,"", SUM(Tabulação!B3:BG3,Tabulação!BI3:CW3)) | BI3: =IF((SUM(Tabulação!B3:CW3))=0,"", SUM(Tabulação!B3:BH3,Tabulação!BJ3:CW3)) | BJ3: =IF((SUM(Tabulação!B3:CW3))=0,"", SUM(Tabulação!B3:BI3,Tabulação!BK3:CW3)) | BK3: =IF((SUM(Tabulação!B3:CW3))=0,"", SUM(Tabulação!B3:BJ3,Tabulação!BL3:CW3)) | BL3: =IF((SUM(Tabulação!B3:CW3))=0,"", SUM(Tabulação!B3:BK3,Tabulação!BM3:CW3)) | BM3: =IF((SUM(Tabulação!B3:CW3))=0,"", SUM(Tabulação!B3:BL3,Tabulação!BN3:CW3)) | BN3: =IF((SUM(Tabulação!B3:CW3))=0,"", SUM(Tabulação!B3:BM3,Tabulação!BO3:CW3)) | BO3: =IF((SUM(Tabulação!B3:CW3))=0,"", SUM(Tabulação!B3:BN3,Tabulação!BP3:CW3)) | BP3: =IF((SUM(Tabulação!B3:CW3))=0,"", SUM(Tabulação!B3:BO3,Tabulação!BQ3:CW3)) | BQ3: =IF((SUM(Tabulação!B3:CW3))=0,"", SUM(Tabulação!B3:BP3,Tabulação!BR3:CW3)) | BR3: =IF((SUM(Tabulação!B3:CW3))=0,"", SUM(Tabulação!B3:BQ3,Tabulação!BS3:CW3)) | BS3: =IF((SUM(Tabulação!B3:CW3))=0,"", SUM(Tabulação!B3:BR3,Tabulação!BT3:CW3)) | BT3: =IF((SUM(Tabulação!B3:CW3))=0,"", SUM(Tabulação!B3:BS3,Tabulação!BU3:CW3)) | BU3: =IF((SUM(Tabulação!B3:CW3))=0,"", SUM(Tabulação!B3:BT3,Tabulação!BV3:CW3)) | BV3: =IF((SUM(Tabulação!B3:CW3))=0,"", SUM(Tabulação!B3:BU3,Tabulação!BW3:CW3)) | BW3: =IF((SUM(Tabulação!B3:CW3))=0,"", SUM(Tabulação!B3:BV3,Tabulação!BX3:CW3)) | BX3: =IF((SUM(Tabulação!B3:CW3))=0,"", SUM(Tabulação!B3:BW3,Tabulação!BY3:CW3)) | BY3: =IF((SUM(Tabulação!B3:CW3))=0,"", SUM(Tabulação!B3:BX3,Tabulação!BZ3:CW3)) | BZ3: =IF((SUM(Tabulação!B3:CW3))=0,"", SUM(Tabulação!B3:BY3,Tabulação!CA3:CW3)) | CA3: =IF((SUM(Tabulação!B3:CW3))=0,"", SUM(Tabulação!B3:BZ3,Tabulação!CB3:CW3)) | CB3: =IF((SUM(Tabulação!B3:CW3))=0,"", SUM(Tabulação!B3:CA3,Tabulação!CC3:CW3)) | CC3: =IF((SUM(Tabulação!B3:CW3))=0,"", SUM(Tabulação!B3:CB3,Tabulação!CD3:CW3)) | CD3: =IF((SUM(Tabulação!B3:CW3))=0,"", SUM(Tabulação!B3:CC3,Tabulação!CE3:CW3)) | CE3: =IF((SUM(Tabulação!B3:CW3))=0,"", SUM(Tabulação!B3:CD3,Tabulação!CF3:CW3)) | CF3: =IF((SUM(Tabulação!B3:CW3))=0,"", SUM(Tabulação!B3:CE3,Tabulação!CG3:CW3)) | CG3: =IF((SUM(Tabulação!B3:CW3))=0,"", SUM(Tabulação!B3:CF3,Tabulação!CH3:CW3)) | CH3: =IF((SUM(Tabulação!B3:CW3))=0,"", SUM(Tabulação!B3:CG3,Tabulação!CI3:CW3)) | CI3: =IF((SUM(Tabulação!B3:CW3))=0,"", SUM(Tabulação!B3:CH3,Tabulação!CJ3:CW3)) | CJ3: =IF((SUM(Tabulação!B3:CW3))=0,"", SUM(Tabulação!B3:CI3,Tabulação!CK3:CW3)) | CK3: =IF((SUM(Tabulação!B3:CW3))=0,"", SUM(Tabulação!B3:CJ3,Tabulação!CL3:CW3)) | CL3: =IF((SUM(Tabulação!B3:CW3))=0,"", SUM(Tabulação!B3:CK3,Tabulação!CM3:CW3)) | CM3: =IF((SUM(Tabulação!B3:CW3))=0,"", SUM(Tabulação!B3:CL3,Tabulação!CN3:CW3)) | CN3: =IF((SUM(Tabulação!B3:CW3))=0,"", SUM(Tabulação!B3:CM3,Tabulação!CO3:CW3)) | CO3: =IF((SUM(Tabulação!B3:CW3))=0,"", SUM(Tabulação!B3:CN3,Tabulação!CP3:CW3)) | CP3: =IF((SUM(Tabulação!B3:CW3))=0,"", SUM(Tabulação!B3:CO3,Tabulação!CQ3:CW3)) | CQ3: =IF((SUM(Tabulação!B3:CW3))=0,"", SUM(Tabulação!B3:CP3,Tabulação!CR3:CW3)) | CR3: =IF((SUM(Tabulação!B3:CW3))=0,"", SUM(Tabulação!B3:CQ3,Tabulação!CS3:CW3)) | CS3: =IF((SUM(Tabulação!B3:CW3))=0,"", SUM(Tabulação!B3:CR3,Tabulação!CT3:CW3)) | CT3: =IF((SUM(Tabulação!B3:CW3))=0,"", SUM(Tabulação!B3:CS3,Tabulação!CU3:CW3)) | CU3: =IF((SUM(Tabulação!B3:CW3))=0,"", SUM(Tabulação!B3:CT3,Tabulação!CV3:CW3)) | CV3: =IF((SUM(Tabulação!B3:CW3))=0,"", SUM(Tabulação!B3:CU3,Tabulação!CW3:CW3)) | CW3: =IF((SUM(Tabulação!B3:CW3))=0,"", SUM(Tabulação!B3:CV3)) | CY3: =IF((COUNTBLANK(Tabulação!B3:CW3))>=99,"", SUM(Tabulação!B3:CW3))
A4: 3 | B4: =IF((SUM(Tabulação!B4:CW4))=0,"", SUM(Tabulação!C4:CW4)) | C4: =IF((SUM(Tabulação!B4:CW4))=0,"", SUM(Tabulação!B4,Tabulação!D4:CW4)) | D4: =IF((SUM(Tabulação!B4:CW4))=0,"", SUM(Tabulação!B4:C4,Tabulação!E4:CW4)) | E4: =IF((SUM(Tabulação!B4:CW4))=0,"", SUM(Tabulação!B4:D4,Tabulação!F4:CW4)) | F4: =IF((SUM(Tabulação!B4:CW4))=0,"", SUM(Tabulação!B4:E4,Tabulação!G4:CW4)) | G4: =IF((SUM(Tabulação!B4:CW4))=0,"", SUM(Tabulação!B4:F4,Tabulação!H4:CW4)) | H4: =IF((SUM(Tabulação!B4:CW4))=0,"", SUM(Tabulação!B4:G4,Tabulação!I4:CW4)) | I4: =IF((SUM(Tabulação!B4:CW4))=0,"", SUM(Tabulação!B4:H4,Tabulação!J4:CW4)) | J4: =IF((SUM(Tabulação!B4:CW4))=0,"", SUM(Tabulação!B4:I4,Tabulação!K4:CW4)) | K4: =IF((SUM(Tabulação!B4:CW4))=0,"", SUM(Tabulação!B4:J4,Tabulação!L4:CW4)) | L4: =IF((SUM(Tabulação!B4:CW4))=0,"", SUM(Tabulação!B4:K4,Tabulação!M4:CW4)) | M4: =IF((SUM(Tabulação!B4:CW4))=0,"", SUM(Tabulação!B4:L4,Tabulação!N4:CW4)) | N4: =IF((SUM(Tabulação!B4:CW4))=0,"", SUM(Tabulação!B4:M4,Tabulação!O4:CW4)) | O4: =IF((SUM(Tabulação!B4:CW4))=0,"", SUM(Tabulação!B4:N4,Tabulação!P4:CW4)) | P4: =IF((SUM(Tabulação!B4:CW4))=0,"", SUM(Tabulação!B4:O4,Tabulação!Q4:CW4)) | Q4: =IF((SUM(Tabulação!B4:CW4))=0,"", SUM(Tabulação!B4:P4,Tabulação!R4:CW4)) | R4: =IF((SUM(Tabulação!B4:CW4))=0,"", SUM(Tabulação!B4:Q4,Tabulação!S4:CW4)) | S4: =IF((SUM(Tabulação!B4:CW4))=0,"", SUM(Tabulação!B4:R4,Tabulação!T4:CW4)) | T4: =IF((SUM(Tabulação!B4:CW4))=0,"", SUM(Tabulação!B4:S4,Tabulação!U4:CW4)) | U4: =IF((SUM(Tabulação!B4:CW4))=0,"", SUM(Tabulação!B4:T4,Tabulação!V4:CW4)) | V4: =IF((SUM(Tabulação!B4:CW4))=0,"", SUM(Tabulação!B4:U4,Tabulação!W4:CW4)) | W4: =IF((SUM(Tabulação!B4:CW4))=0,"", SUM(Tabulação!B4:V4,Tabulação!X4:CW4)) | X4: =IF((SUM(Tabulação!B4:CW4))=0,"", SUM(Tabulação!B4:W4,Tabulação!Y4:CW4)) | Y4: =IF((SUM(Tabulação!B4:CW4))=0,"", SUM(Tabulação!B4:X4,Tabulação!Z4:CW4)) | Z4: =IF((SUM(Tabulação!B4:CW4))=0,"", SUM(Tabulação!B4:Y4,Tabulação!AA4:CW4)) | AA4: =IF((SUM(Tabulação!B4:CW4))=0,"", SUM(Tabulação!B4:Z4,Tabulação!AB4:CW4)) | AB4: =IF((SUM(Tabulação!B4:CW4))=0,"", SUM(Tabulação!B4:AA4,Tabulação!AC4:CW4)) | AC4: =IF((SUM(Tabulação!B4:CW4))=0,"", SUM(Tabulação!B4:AB4,Tabulação!AD4:CW4)) | AD4: =IF((SUM(Tabulação!B4:CW4))=0,"", SUM(Tabulação!B4:AC4,Tabulação!AE4:CW4)) | AE4: =IF((SUM(Tabulação!B4:CW4))=0,"", SUM(Tabulação!B4:AD4,Tabulação!AF4:CW4)) | AF4: =IF((SUM(Tabulação!B4:CW4))=0,"", SUM(Tabulação!B4:AE4,Tabulação!AG4:CW4)) | AG4: =IF((SUM(Tabulação!B4:CW4))=0,"", SUM(Tabulação!B4:AF4,Tabulação!AH4:CW4)) | AH4: =IF((SUM(Tabulação!B4:CW4))=0,"", SUM(Tabulação!B4:AG4,Tabulação!AI4:CW4)) | AI4: =IF((SUM(Tabulação!B4:CW4))=0,"", SUM(Tabulação!B4:AH4,Tabulação!AJ4:CW4)) | AJ4: =IF((SUM(Tabulação!B4:CW4))=0,"", SUM(Tabulação!B4:AI4,Tabulação!AK4:CW4)) | AK4: =IF((SUM(Tabulação!B4:CW4))=0,"", SUM(Tabulação!B4:AJ4,Tabulação!AL4:CW4)) | AL4: =IF((SUM(Tabulação!B4:CW4))=0,"", SUM(Tabulação!B4:AK4,Tabulação!AM4:CW4)) | AM4: =IF((SUM(Tabulação!B4:CW4))=0,"", SUM(Tabulação!B4:AL4,Tabulação!AN4:CW4)) | AN4: =IF((SUM(Tabulação!B4:CW4))=0,"", SUM(Tabulação!B4:AM4,Tabulação!AO4:CW4)) | AO4: =IF((SUM(Tabulação!B4:CW4))=0,"", SUM(Tabulação!B4:AN4,Tabulação!AP4:CW4)) | AP4: =IF((SUM(Tabulação!B4:CW4))=0,"", SUM(Tabulação!B4:AO4,Tabulação!AQ4:CW4)) | AQ4: =IF((SUM(Tabulação!B4:CW4))=0,"", SUM(Tabulação!B4:AP4,Tabulação!AR4:CW4)) | AR4: =IF((SUM(Tabulação!B4:CW4))=0,"", SUM(Tabulação!B4:AQ4,Tabulação!AS4:CW4)) | AS4: =IF((SUM(Tabulação!B4:CW4))=0,"", SUM(Tabulação!B4:AR4,Tabulação!AT4:CW4)) | AT4: =IF((SUM(Tabulação!B4:CW4))=0,"", SUM(Tabulação!B4:AS4,Tabulação!AU4:CW4)) | AU4: =IF((SUM(Tabulação!B4:CW4))=0,"", SUM(Tabulação!B4:AT4,Tabulação!AV4:CW4)) | AV4: =IF((SUM(Tabulação!B4:CW4))=0,"", SUM(Tabulação!B4:AU4,Tabulação!AW4:CW4)) | AW4: =IF((SUM(Tabulação!B4:CW4))=0,"", SUM(Tabulação!B4:AV4,Tabulação!AX4:CW4)) | AX4: =IF((SUM(Tabulação!B4:CW4))=0,"", SUM(Tabulação!B4:AW4,Tabulação!AY4:CW4)) | AY4: =IF((SUM(Tabulação!B4:CW4))=0,"", SUM(Tabulação!B4:AX4,Tabulação!AZ4:CW4)) | AZ4: =IF((SUM(Tabulação!B4:CW4))=0,"", SUM(Tabulação!B4:AY4,Tabulação!BA4:CW4)) | BA4: =IF((SUM(Tabulação!B4:CW4))=0,"", SUM(Tabulação!B4:AZ4,Tabulação!BB4:CW4)) | BB4: =IF((SUM(Tabulação!B4:CW4))=0,"", SUM(Tabulação!B4:BA4,Tabulação!BC4:CW4)) | BC4: =IF((SUM(Tabulação!B4:CW4))=0,"", SUM(Tabulação!B4:BB4,Tabulação!BD4:CW4)) | BD4: =IF((SUM(Tabulação!B4:CW4))=0,"", SUM(Tabulação!B4:BC4,Tabulação!BE4:CW4)) | BE4: =IF((SUM(Tabulação!B4:CW4))=0,"", SUM(Tabulação!B4:BD4,Tabulação!BF4:CW4)) | BF4: =IF((SUM(Tabulação!B4:CW4))=0,"", SUM(Tabulação!B4:BE4,Tabulação!BG4:CW4)) | BG4: =IF((SUM(Tabulação!B4:CW4))=0,"", SUM(Tabulação!B4:BF4,Tabulação!BH4:CW4)) | BH4: =IF((SUM(Tabulação!B4:CW4))=0,"", SUM(Tabulação!B4:BG4,Tabulação!BI4:CW4)) | BI4: =IF((SUM(Tabulação!B4:CW4))=0,"", SUM(Tabulação!B4:BH4,Tabulação!BJ4:CW4)) | BJ4: =IF((SUM(Tabulação!B4:CW4))=0,"", SUM(Tabulação!B4:BI4,Tabulação!BK4:CW4)) | BK4: =IF((SUM(Tabulação!B4:CW4))=0,"", SUM(Tabulação!B4:BJ4,Tabulação!BL4:CW4)) | BL4: =IF((SUM(Tabulação!B4:CW4))=0,"", SUM(Tabulação!B4:BK4,Tabulação!BM4:CW4)) | BM4: =IF((SUM(Tabulação!B4:CW4))=0,"", SUM(Tabulação!B4:BL4,Tabulação!BN4:CW4)) | BN4: =IF((SUM(Tabulação!B4:CW4))=0,"", SUM(Tabulação!B4:BM4,Tabulação!BO4:CW4)) | BO4: =IF((SUM(Tabulação!B4:CW4))=0,"", SUM(Tabulação!B4:BN4,Tabulação!BP4:CW4)) | BP4: =IF((SUM(Tabulação!B4:CW4))=0,"", SUM(Tabulação!B4:BO4,Tabulação!BQ4:CW4)) | BQ4: =IF((SUM(Tabulação!B4:CW4))=0,"", SUM(Tabulação!B4:BP4,Tabulação!BR4:CW4)) | BR4: =IF((SUM(Tabulação!B4:CW4))=0,"", SUM(Tabulação!B4:BQ4,Tabulação!BS4:CW4)) | BS4: =IF((SUM(Tabulação!B4:CW4))=0,"", SUM(Tabulação!B4:BR4,Tabulação!BT4:CW4)) | BT4: =IF((SUM(Tabulação!B4:CW4))=0,"", SUM(Tabulação!B4:BS4,Tabulação!BU4:CW4)) | BU4: =IF((SUM(Tabulação!B4:CW4))=0,"", SUM(Tabulação!B4:BT4,Tabulação!BV4:CW4)) | BV4: =IF((SUM(Tabulação!B4:CW4))=0,"", SUM(Tabulação!B4:BU4,Tabulação!BW4:CW4)) | BW4: =IF((SUM(Tabulação!B4:CW4))=0,"", SUM(Tabulação!B4:BV4,Tabulação!BX4:CW4)) | BX4: =IF((SUM(Tabulação!B4:CW4))=0,"", SUM(Tabulação!B4:BW4,Tabulação!BY4:CW4)) | BY4: =IF((SUM(Tabulação!B4:CW4))=0,"", SUM(Tabulação!B4:BX4,Tabulação!BZ4:CW4)) | BZ4: =IF((SUM(Tabulação!B4:CW4))=0,"", SUM(Tabulação!B4:BY4,Tabulação!CA4:CW4)) | CA4: =IF((SUM(Tabulação!B4:CW4))=0,"", SUM(Tabulação!B4:BZ4,Tabulação!CB4:CW4)) | CB4: =IF((SUM(Tabulação!B4:CW4))=0,"", SUM(Tabulação!B4:CA4,Tabulação!CC4:CW4)) | CC4: =IF((SUM(Tabulação!B4:CW4))=0,"", SUM(Tabulação!B4:CB4,Tabulação!CD4:CW4)) | CD4: =IF((SUM(Tabulação!B4:CW4))=0,"", SUM(Tabulação!B4:CC4,Tabulação!CE4:CW4)) | CE4: =IF((SUM(Tabulação!B4:CW4))=0,"", SUM(Tabulação!B4:CD4,Tabulação!CF4:CW4)) | CF4: =IF((SUM(Tabulação!B4:CW4))=0,"", SUM(Tabulação!B4:CE4,Tabulação!CG4:CW4)) | CG4: =IF((SUM(Tabulação!B4:CW4))=0,"", SUM(Tabulação!B4:CF4,Tabulação!CH4:CW4)) | CH4: =IF((SUM(Tabulação!B4:CW4))=0,"", SUM(Tabulação!B4:CG4,Tabulação!CI4:CW4)) | CI4: =IF((SUM(Tabulação!B4:CW4))=0,"", SUM(Tabulação!B4:CH4,Tabulação!CJ4:CW4)) | CJ4: =IF((SUM(Tabulação!B4:CW4))=0,"", SUM(Tabulação!B4:CI4,Tabulação!CK4:CW4)) | CK4: =IF((SUM(Tabulação!B4:CW4))=0,"", SUM(Tabulação!B4:CJ4,Tabulação!CL4:CW4)) | CL4: =IF((SUM(Tabulação!B4:CW4))=0,"", SUM(Tabulação!B4:CK4,Tabulação!CM4:CW4)) | CM4: =IF((SUM(Tabulação!B4:CW4))=0,"", SUM(Tabulação!B4:CL4,Tabulação!CN4:CW4)) | CN4: =IF((SUM(Tabulação!B4:CW4))=0,"", SUM(Tabulação!B4:CM4,Tabulação!CO4:CW4)) | CO4: =IF((SUM(Tabulação!B4:CW4))=0,"", SUM(Tabulação!B4:CN4,Tabulação!CP4:CW4)) | CP4: =IF((SUM(Tabulação!B4:CW4))=0,"", SUM(Tabulação!B4:CO4,Tabulação!CQ4:CW4)) | CQ4: =IF((SUM(Tabulação!B4:CW4))=0,"", SUM(Tabulação!B4:CP4,Tabulação!CR4:CW4)) | CR4: =IF((SUM(Tabulação!B4:CW4))=0,"", SUM(Tabulação!B4:CQ4,Tabulação!CS4:CW4)) | CS4: =IF((SUM(Tabulação!B4:CW4))=0,"", SUM(Tabulação!B4:CR4,Tabulação!CT4:CW4)) | CT4: =IF((SUM(Tabulação!B4:CW4))=0,"", SUM(Tabulação!B4:CS4,Tabulação!CU4:CW4)) | CU4: =IF((SUM(Tabulação!B4:CW4))=0,"", SUM(Tabulação!B4:CT4,Tabulação!CV4:CW4)) | CV4: =IF((SUM(Tabulação!B4:CW4))=0,"", SUM(Tabulação!B4:CU4,Tabulação!CW4:CW4)) | CW4: =IF((SUM(Tabulação!B4:CW4))=0,"", SUM(Tabulação!B4:CV4)) | CY4: =IF((COUNTBLANK(Tabulação!B4:CW4))>=99,"", SUM(Tabulação!B4:CW4))
A5: 4 | B5: =IF((SUM(Tabulação!B5:CW5))=0,"", SUM(Tabulação!C5:CW5)) | C5: =IF((SUM(Tabulação!B5:CW5))=0,"", SUM(Tabulação!B5,Tabulação!D5:CW5)) | D5: =IF((SUM(Tabulação!B5:CW5))=0,"", SUM(Tabulação!B5:C5,Tabulação!E5:CW5)) | E5: =IF((SUM(Tabulação!B5:CW5))=0,"", SUM(Tabulação!B5:D5,Tabulação!F5:CW5)) | F5: =IF((SUM(Tabulação!B5:CW5))=0,"", SUM(Tabulação!B5:E5,Tabulação!G5:CW5)) | G5: =IF((SUM(Tabulação!B5:CW5))=0,"", SUM(Tabulação!B5:F5,Tabulação!H5:CW5)) | H5: =IF((SUM(Tabulação!B5:CW5))=0,"", SUM(Tabulação!B5:G5,Tabulação!I5:CW5)) | I5: =IF((SUM(Tabulação!B5:CW5))=0,"", SUM(Tabulação!B5:H5,Tabulação!J5:CW5)) | J5: =IF((SUM(Tabulação!B5:CW5))=0,"", SUM(Tabulação!B5:I5,Tabulação!K5:CW5)) | K5: =IF((SUM(Tabulação!B5:CW5))=0,"", SUM(Tabulação!B5:J5,Tabulação!L5:CW5)) | L5: =IF((SUM(Tabulação!B5:CW5))=0,"", SUM(Tabulação!B5:K5,Tabulação!M5:CW5)) | M5: =IF((SUM(Tabulação!B5:CW5))=0,"", SUM(Tabulação!B5:L5,Tabulação!N5:CW5)) | N5: =IF((SUM(Tabulação!B5:CW5))=0,"", SUM(Tabulação!B5:M5,Tabulação!O5:CW5)) | O5: =IF((SUM(Tabulação!B5:CW5))=0,"", SUM(Tabulação!B5:N5,Tabulação!P5:CW5)) | P5: =IF((SUM(Tabulação!B5:CW5))=0,"", SUM(Tabulação!B5:O5,Tabulação!Q5:CW5)) | Q5: =IF((SUM(Tabulação!B5:CW5))=0,"", SUM(Tabulação!B5:P5,Tabulação!R5:CW5)) | R5: =IF((SUM(Tabulação!B5:CW5))=0,"", SUM(Tabulação!B5:Q5,Tabulação!S5:CW5)) | S5: =IF((SUM(Tabulação!B5:CW5))=0,"", SUM(Tabulação!B5:R5,Tabulação!T5:CW5)) | T5: =IF((SUM(Tabulação!B5:CW5))=0,"", SUM(Tabulação!B5:S5,Tabulação!U5:CW5)) | U5: =IF((SUM(Tabulação!B5:CW5))=0,"", SUM(Tabulação!B5:T5,Tabulação!V5:CW5)) | V5: =IF((SUM(Tabulação!B5:CW5))=0,"", SUM(Tabulação!B5:U5,Tabulação!W5:CW5)) | W5: =IF((SUM(Tabulação!B5:CW5))=0,"", SUM(Tabulação!B5:V5,Tabulação!X5:CW5)) | X5: =IF((SUM(Tabulação!B5:CW5))=0,"", SUM(Tabulação!B5:W5,Tabulação!Y5:CW5)) | Y5: =IF((SUM(Tabulação!B5:CW5))=0,"", SUM(Tabulação!B5:X5,Tabulação!Z5:CW5)) | Z5: =IF((SUM(Tabulação!B5:CW5))=0,"", SUM(Tabulação!B5:Y5,Tabulação!AA5:CW5)) | AA5: =IF((SUM(Tabulação!B5:CW5))=0,"", SUM(Tabulação!B5:Z5,Tabulação!AB5:CW5)) | AB5: =IF((SUM(Tabulação!B5:CW5))=0,"", SUM(Tabulação!B5:AA5,Tabulação!AC5:CW5)) | AC5: =IF((SUM(Tabulação!B5:CW5))=0,"", SUM(Tabulação!B5:AB5,Tabulação!AD5:CW5)) | AD5: =IF((SUM(Tabulação!B5:CW5))=0,"", SUM(Tabulação!B5:AC5,Tabulação!AE5:CW5)) | AE5: =IF((SUM(Tabulação!B5:CW5))=0,"", SUM(Tabulação!B5:AD5,Tabulação!AF5:CW5)) | AF5: =IF((SUM(Tabulação!B5:CW5))=0,"", SUM(Tabulação!B5:AE5,Tabulação!AG5:CW5)) | AG5: =IF((SUM(Tabulação!B5:CW5))=0,"", SUM(Tabulação!B5:AF5,Tabulação!AH5:CW5)) | AH5: =IF((SUM(Tabulação!B5:CW5))=0,"", SUM(Tabulação!B5:AG5,Tabulação!AI5:CW5)) | AI5: =IF((SUM(Tabulação!B5:CW5))=0,"", SUM(Tabulação!B5:AH5,Tabulação!AJ5:CW5)) | AJ5: =IF((SUM(Tabulação!B5:CW5))=0,"", SUM(Tabulação!B5:AI5,Tabulação!AK5:CW5)) | AK5: =IF((SUM(Tabulação!B5:CW5))=0,"", SUM(Tabulação!B5:AJ5,Tabulação!AL5:CW5)) | AL5: =IF((SUM(Tabulação!B5:CW5))=0,"", SUM(Tabulação!B5:AK5,Tabulação!AM5:CW5)) | AM5: =IF((SUM(Tabulação!B5:CW5))=0,"", SUM(Tabulação!B5:AL5,Tabulação!AN5:CW5)) | AN5: =IF((SUM(Tabulação!B5:CW5))=0,"", SUM(Tabulação!B5:AM5,Tabulação!AO5:CW5)) | AO5: =IF((SUM(Tabulação!B5:CW5))=0,"", SUM(Tabulação!B5:AN5,Tabulação!AP5:CW5)) | AP5: =IF((SUM(Tabulação!B5:CW5))=0,"", SUM(Tabulação!B5:AO5,Tabulação!AQ5:CW5)) | AQ5: =IF((SUM(Tabulação!B5:CW5))=0,"", SUM(Tabulação!B5:AP5,Tabulação!AR5:CW5)) | AR5: =IF((SUM(Tabulação!B5:CW5))=0,"", SUM(Tabulação!B5:AQ5,Tabulação!AS5:CW5)) | AS5: =IF((SUM(Tabulação!B5:CW5))=0,"", SUM(Tabulação!B5:AR5,Tabulação!AT5:CW5)) | AT5: =IF((SUM(Tabulação!B5:CW5))=0,"", SUM(Tabulação!B5:AS5,Tabulação!AU5:CW5)) | AU5: =IF((SUM(Tabulação!B5:CW5))=0,"", SUM(Tabulação!B5:AT5,Tabulação!AV5:CW5)) | AV5: =IF((SUM(Tabulação!B5:CW5))=0,"", SUM(Tabulação!B5:AU5,Tabulação!AW5:CW5)) | AW5: =IF((SUM(Tabulação!B5:CW5))=0,"", SUM(Tabulação!B5:AV5,Tabulação!AX5:CW5)) | AX5: =IF((SUM(Tabulação!B5:CW5))=0,"", SUM(Tabulação!B5:AW5,Tabulação!AY5:CW5)) | AY5: =IF((SUM(Tabulação!B5:CW5))=0,"", SUM(Tabulação!B5:AX5,Tabulação!AZ5:CW5)) | AZ5: =IF((SUM(Tabulação!B5:CW5))=0,"", SUM(Tabulação!B5:AY5,Tabulação!BA5:CW5)) | BA5: =IF((SUM(Tabulação!B5:CW5))=0,"", SUM(Tabulação!B5:AZ5,Tabulação!BB5:CW5)) | BB5: =IF((SUM(Tabulação!B5:CW5))=0,"", SUM(Tabulação!B5:BA5,Tabulação!BC5:CW5)) | BC5: =IF((SUM(Tabulação!B5:CW5))=0,"", SUM(Tabulação!B5:BB5,Tabulação!BD5:CW5)) | BD5: =IF((SUM(Tabulação!B5:CW5))=0,"", SUM(Tabulação!B5:BC5,Tabulação!BE5:CW5)) | BE5: =IF((SUM(Tabulação!B5:CW5))=0,"", SUM(Tabulação!B5:BD5,Tabulação!BF5:CW5)) | BF5: =IF((SUM(Tabulação!B5:CW5))=0,"", SUM(Tabulação!B5:BE5,Tabulação!BG5:CW5)) | BG5: =IF((SUM(Tabulação!B5:CW5))=0,"", SUM(Tabulação!B5:BF5,Tabulação!BH5:CW5)) | BH5: =IF((SUM(Tabulação!B5:CW5))=0,"", SUM(Tabulação!B5:BG5,Tabulação!BI5:CW5)) | BI5: =IF((SUM(Tabulação!B5:CW5))=0,"", SUM(Tabulação!B5:BH5,Tabulação!BJ5:CW5)) | BJ5: =IF((SUM(Tabulação!B5:CW5))=0,"", SUM(Tabulação!B5:BI5,Tabulação!BK5:CW5)) | BK5: =IF((SUM(Tabulação!B5:CW5))=0,"", SUM(Tabulação!B5:BJ5,Tabulação!BL5:CW5)) | BL5: =IF((SUM(Tabulação!B5:CW5))=0,"", SUM(Tabulação!B5:BK5,Tabulação!BM5:CW5)) | BM5: =IF((SUM(Tabulação!B5:CW5))=0,"", SUM(Tabulação!B5:BL5,Tabulação!BN5:CW5)) | BN5: =IF((SUM(Tabulação!B5:CW5))=0,"", SUM(Tabulação!B5:BM5,Tabulação!BO5:CW5)) | BO5: =IF((SUM(Tabulação!B5:CW5))=0,"", SUM(Tabulação!B5:BN5,Tabulação!BP5:CW5)) | BP5: =IF((SUM(Tabulação!B5:CW5))=0,"", SUM(Tabulação!B5:BO5,Tabulação!BQ5:CW5)) | BQ5: =IF((SUM(Tabulação!B5:CW5))=0,"", SUM(Tabulação!B5:BP5,Tabulação!BR5:CW5)) | BR5: =IF((SUM(Tabulação!B5:CW5))=0,"", SUM(Tabulação!B5:BQ5,Tabulação!BS5:CW5)) | BS5: =IF((SUM(Tabulação!B5:CW5))=0,"", SUM(Tabulação!B5:BR5,Tabulação!BT5:CW5)) | BT5: =IF((SUM(Tabulação!B5:CW5))=0,"", SUM(Tabulação!B5:BS5,Tabulação!BU5:CW5)) | BU5: =IF((SUM(Tabulação!B5:CW5))=0,"", SUM(Tabulação!B5:BT5,Tabulação!BV5:CW5)) | BV5: =IF((SUM(Tabulação!B5:CW5))=0,"", SUM(Tabulação!B5:BU5,Tabulação!BW5:CW5)) | BW5: =IF((SUM(Tabulação!B5:CW5))=0,"", SUM(Tabulação!B5:BV5,Tabulação!BX5:CW5)) | BX5: =IF((SUM(Tabulação!B5:CW5))=0,"", SUM(Tabulação!B5:BW5,Tabulação!BY5:CW5)) | BY5: =IF((SUM(Tabulação!B5:CW5))=0,"", SUM(Tabulação!B5:BX5,Tabulação!BZ5:CW5)) | BZ5: =IF((SUM(Tabulação!B5:CW5))=0,"", SUM(Tabulação!B5:BY5,Tabulação!CA5:CW5)) | CA5: =IF((SUM(Tabulação!B5:CW5))=0,"", SUM(Tabulação!B5:BZ5,Tabulação!CB5:CW5)) | CB5: =IF((SUM(Tabulação!B5:CW5))=0,"", SUM(Tabulação!B5:CA5,Tabulação!CC5:CW5)) | CC5: =IF((SUM(Tabulação!B5:CW5))=0,"", SUM(Tabulação!B5:CB5,Tabulação!CD5:CW5)) | CD5: =IF((SUM(Tabulação!B5:CW5))=0,"", SUM(Tabulação!B5:CC5,Tabulação!CE5:CW5)) | CE5: =IF((SUM(Tabulação!B5:CW5))=0,"", SUM(Tabulação!B5:CD5,Tabulação!CF5:CW5)) | CF5: =IF((SUM(Tabulação!B5:CW5))=0,"", SUM(Tabulação!B5:CE5,Tabulação!CG5:CW5)) | CG5: =IF((SUM(Tabulação!B5:CW5))=0,"", SUM(Tabulação!B5:CF5,Tabulação!CH5:CW5)) | CH5: =IF((SUM(Tabulação!B5:CW5))=0,"", SUM(Tabulação!B5:CG5,Tabulação!CI5:CW5)) | CI5: =IF((SUM(Tabulação!B5:CW5))=0,"", SUM(Tabulação!B5:CH5,Tabulação!CJ5:CW5)) | CJ5: =IF((SUM(Tabulação!B5:CW5))=0,"", SUM(Tabulação!B5:CI5,Tabulação!CK5:CW5)) | CK5: =IF((SUM(Tabulação!B5:CW5))=0,"", SUM(Tabulação!B5:CJ5,Tabulação!CL5:CW5)) | CL5: =IF((SUM(Tabulação!B5:CW5))=0,"", SUM(Tabulação!B5:CK5,Tabulação!CM5:CW5)) | CM5: =IF((SUM(Tabulação!B5:CW5))=0,"", SUM(Tabulação!B5:CL5,Tabulação!CN5:CW5)) | CN5: =IF((SUM(Tabulação!B5:CW5))=0,"", SUM(Tabulação!B5:CM5,Tabulação!CO5:CW5)) | CO5: =IF((SUM(Tabulação!B5:CW5))=0,"", SUM(Tabulação!B5:CN5,Tabulação!CP5:CW5)) | CP5: =IF((SUM(Tabulação!B5:CW5))=0,"", SUM(Tabulação!B5:CO5,Tabulação!CQ5:CW5)) | CQ5: =IF((SUM(Tabulação!B5:CW5))=0,"", SUM(Tabulação!B5:CP5,Tabulação!CR5:CW5)) | CR5: =IF((SUM(Tabulação!B5:CW5))=0,"", SUM(Tabulação!B5:CQ5,Tabulação!CS5:CW5)) | CS5: =IF((SUM(Tabulação!B5:CW5))=0,"", SUM(Tabulação!B5:CR5,Tabulação!CT5:CW5)) | CT5: =IF((SUM(Tabulação!B5:CW5))=0,"", SUM(Tabulação!B5:CS5,Tabulação!CU5:CW5)) | CU5: =IF((SUM(Tabulação!B5:CW5))=0,"", SUM(Tabulação!B5:CT5,Tabulação!CV5:CW5)) | CV5: =IF((SUM(Tabulação!B5:CW5))=0,"", SUM(Tabulação!B5:CU5,Tabulação!CW5:CW5)) | CW5: =IF((SUM(Tabulação!B5:CW5))=0,"", SUM(Tabulação!B5:CV5)) | CY5: =IF((COUNTBLANK(Tabulação!B5:CW5))>=99,"", SUM(Tabulação!B5:CW5))
A6: 5 | B6: =IF((SUM(Tabulação!B6:CW6))=0,"", SUM(Tabulação!C6:CW6)) | C6: =IF((SUM(Tabulação!B6:CW6))=0,"", SUM(Tabulação!B6,Tabulação!D6:CW6)) | D6: =IF((SUM(Tabulação!B6:CW6))=0,"", SUM(Tabulação!B6:C6,Tabulação!E6:CW6)) | E6: =IF((SUM(Tabulação!B6:CW6))=0,"", SUM(Tabulação!B6:D6,Tabulação!F6:CW6)) | F6: =IF((SUM(Tabulação!B6:CW6))=0,"", SUM(Tabulação!B6:E6,Tabulação!G6:CW6)) | G6: =IF((SUM(Tabulação!B6:CW6))=0,"", SUM(Tabulação!B6:F6,Tabulação!H6:CW6)) | H6: =IF((SUM(Tabulação!B6:CW6))=0,"", SUM(Tabulação!B6:G6,Tabulação!I6:CW6)) | I6: =IF((SUM(Tabulação!B6:CW6))=0,"", SUM(Tabulação!B6:H6,Tabulação!J6:CW6)) | J6: =IF((SUM(Tabulação!B6:CW6))=0,"", SUM(Tabulação!B6:I6,Tabulação!K6:CW6)) | K6: =IF((SUM(Tabulação!B6:CW6))=0,"", SUM(Tabulação!B6:J6,Tabulação!L6:CW6)) | L6: =IF((SUM(Tabulação!B6:CW6))=0,"", SUM(Tabulação!B6:K6,Tabulação!M6:CW6)) | M6: =IF((SUM(Tabulação!B6:CW6))=0,"", SUM(Tabulação!B6:L6,Tabulação!N6:CW6)) | N6: =IF((SUM(Tabulação!B6:CW6))=0,"", SUM(Tabulação!B6:M6,Tabulação!O6:CW6)) | O6: =IF((SUM(Tabulação!B6:CW6))=0,"", SUM(Tabulação!B6:N6,Tabulação!P6:CW6)) | P6: =IF((SUM(Tabulação!B6:CW6))=0,"", SUM(Tabulação!B6:O6,Tabulação!Q6:CW6)) | Q6: =IF((SUM(Tabulação!B6:CW6))=0,"", SUM(Tabulação!B6:P6,Tabulação!R6:CW6)) | R6: =IF((SUM(Tabulação!B6:CW6))=0,"", SUM(Tabulação!B6:Q6,Tabulação!S6:CW6)) | S6: =IF((SUM(Tabulação!B6:CW6))=0,"", SUM(Tabulação!B6:R6,Tabulação!T6:CW6)) | T6: =IF((SUM(Tabulação!B6:CW6))=0,"", SUM(Tabulação!B6:S6,Tabulação!U6:CW6)) | U6: =IF((SUM(Tabulação!B6:CW6))=0,"", SUM(Tabulação!B6:T6,Tabulação!V6:CW6)) | V6: =IF((SUM(Tabulação!B6:CW6))=0,"", SUM(Tabulação!B6:U6,Tabulação!W6:CW6)) | W6: =IF((SUM(Tabulação!B6:CW6))=0,"", SUM(Tabulação!B6:V6,Tabulação!X6:CW6)) | X6: =IF((SUM(Tabulação!B6:CW6))=0,"", SUM(Tabulação!B6:W6,Tabulação!Y6:CW6)) | Y6: =IF((SUM(Tabulação!B6:CW6))=0,"", SUM(Tabulação!B6:X6,Tabulação!Z6:CW6)) | Z6: =IF((SUM(Tabulação!B6:CW6))=0,"", SUM(Tabulação!B6:Y6,Tabulação!AA6:CW6)) | AA6: =IF((SUM(Tabulação!B6:CW6))=0,"", SUM(Tabulação!B6:Z6,Tabulação!AB6:CW6)) | AB6: =IF((SUM(Tabulação!B6:CW6))=0,"", SUM(Tabulação!B6:AA6,Tabulação!AC6:CW6)) | AC6: =IF((SUM(Tabulação!B6:CW6))=0,"", SUM(Tabulação!B6:AB6,Tabulação!AD6:CW6)) | AD6: =IF((SUM(Tabulação!B6:CW6))=0,"", SUM(Tabulação!B6:AC6,Tabulação!AE6:CW6)) | AE6: =IF((SUM(Tabulação!B6:CW6))=0,"", SUM(Tabulação!B6:AD6,Tabulação!AF6:CW6)) | AF6: =IF((SUM(Tabulação!B6:CW6))=0,"", SUM(Tabulação!B6:AE6,Tabulação!AG6:CW6)) | AG6: =IF((SUM(Tabulação!B6:CW6))=0,"", SUM(Tabulação!B6:AF6,Tabulação!AH6:CW6)) | AH6: =IF((SUM(Tabulação!B6:CW6))=0,"", SUM(Tabulação!B6:AG6,Tabulação!AI6:CW6)) | AI6: =IF((SUM(Tabulação!B6:CW6))=0,"", SUM(Tabulação!B6:AH6,Tabulação!AJ6:CW6)) | AJ6: =IF((SUM(Tabulação!B6:CW6))=0,"", SUM(Tabulação!B6:AI6,Tabulação!AK6:CW6)) | AK6: =IF((SUM(Tabulação!B6:CW6))=0,"", SUM(Tabulação!B6:AJ6,Tabulação!AL6:CW6)) | AL6: =IF((SUM(Tabulação!B6:CW6))=0,"", SUM(Tabulação!B6:AK6,Tabulação!AM6:CW6)) | AM6: =IF((SUM(Tabulação!B6:CW6))=0,"", SUM(Tabulação!B6:AL6,Tabulação!AN6:CW6)) | AN6: =IF((SUM(Tabulação!B6:CW6))=0,"", SUM(Tabulação!B6:AM6,Tabulação!AO6:CW6)) | AO6: =IF((SUM(Tabulação!B6:CW6))=0,"", SUM(Tabulação!B6:AN6,Tabulação!AP6:CW6)) | AP6: =IF((SUM(Tabulação!B6:CW6))=0,"", SUM(Tabulação!B6:AO6,Tabulação!AQ6:CW6)) | AQ6: =IF((SUM(Tabulação!B6:CW6))=0,"", SUM(Tabulação!B6:AP6,Tabulação!AR6:CW6)) | AR6: =IF((SUM(Tabulação!B6:CW6))=0,"", SUM(Tabulação!B6:AQ6,Tabulação!AS6:CW6)) | AS6: =IF((SUM(Tabulação!B6:CW6))=0,"", SUM(Tabulação!B6:AR6,Tabulação!AT6:CW6)) | AT6: =IF((SUM(Tabulação!B6:CW6))=0,"", SUM(Tabulação!B6:AS6,Tabulação!AU6:CW6)) | AU6: =IF((SUM(Tabulação!B6:CW6))=0,"", SUM(Tabulação!B6:AT6,Tabulação!AV6:CW6)) | AV6: =IF((SUM(Tabulação!B6:CW6))=0,"", SUM(Tabulação!B6:AU6,Tabulação!AW6:CW6)) | AW6: =IF((SUM(Tabulação!B6:CW6))=0,"", SUM(Tabulação!B6:AV6,Tabulação!AX6:CW6)) | AX6: =IF((SUM(Tabulação!B6:CW6))=0,"", SUM(Tabulação!B6:AW6,Tabulação!AY6:CW6)) | AY6: =IF((SUM(Tabulação!B6:CW6))=0,"", SUM(Tabulação!B6:AX6,Tabulação!AZ6:CW6)) | AZ6: =IF((SUM(Tabulação!B6:CW6))=0,"", SUM(Tabulação!B6:AY6,Tabulação!BA6:CW6)) | BA6: =IF((SUM(Tabulação!B6:CW6))=0,"", SUM(Tabulação!B6:AZ6,Tabulação!BB6:CW6)) | BB6: =IF((SUM(Tabulação!B6:CW6))=0,"", SUM(Tabulação!B6:BA6,Tabulação!BC6:CW6)) | BC6: =IF((SUM(Tabulação!B6:CW6))=0,"", SUM(Tabulação!B6:BB6,Tabulação!BD6:CW6)) | BD6: =IF((SUM(Tabulação!B6:CW6))=0,"", SUM(Tabulação!B6:BC6,Tabulação!BE6:CW6)) | BE6: =IF((SUM(Tabulação!B6:CW6))=0,"", SUM(Tabulação!B6:BD6,Tabulação!BF6:CW6)) | BF6: =IF((SUM(Tabulação!B6:CW6))=0,"", SUM(Tabulação!B6:BE6,Tabulação!BG6:CW6)) | BG6: =IF((SUM(Tabulação!B6:CW6))=0,"", SUM(Tabulação!B6:BF6,Tabulação!BH6:CW6)) | BH6: =IF((SUM(Tabulação!B6:CW6))=0,"", SUM(Tabulação!B6:BG6,Tabulação!BI6:CW6)) | BI6: =IF((SUM(Tabulação!B6:CW6))=0,"", SUM(Tabulação!B6:BH6,Tabulação!BJ6:CW6)) | BJ6: =IF((SUM(Tabulação!B6:CW6))=0,"", SUM(Tabulação!B6:BI6,Tabulação!BK6:CW6)) | BK6: =IF((SUM(Tabulação!B6:CW6))=0,"", SUM(Tabulação!B6:BJ6,Tabulação!BL6:CW6)) | BL6: =IF((SUM(Tabulação!B6:CW6))=0,"", SUM(Tabulação!B6:BK6,Tabulação!BM6:CW6)) | BM6: =IF((SUM(Tabulação!B6:CW6))=0,"", SUM(Tabulação!B6:BL6,Tabulação!BN6:CW6)) | BN6: =IF((SUM(Tabulação!B6:CW6))=0,"", SUM(Tabulação!B6:BM6,Tabulação!BO6:CW6)) | BO6: =IF((SUM(Tabulação!B6:CW6))=0,"", SUM(Tabulação!B6:BN6,Tabulação!BP6:CW6)) | BP6: =IF((SUM(Tabulação!B6:CW6))=0,"", SUM(Tabulação!B6:BO6,Tabulação!BQ6:CW6)) | BQ6: =IF((SUM(Tabulação!B6:CW6))=0,"", SUM(Tabulação!B6:BP6,Tabulação!BR6:CW6)) | BR6: =IF((SUM(Tabulação!B6:CW6))=0,"", SUM(Tabulação!B6:BQ6,Tabulação!BS6:CW6)) | BS6: =IF((SUM(Tabulação!B6:CW6))=0,"", SUM(Tabulação!B6:BR6,Tabulação!BT6:CW6)) | BT6: =IF((SUM(Tabulação!B6:CW6))=0,"", SUM(Tabulação!B6:BS6,Tabulação!BU6:CW6)) | BU6: =IF((SUM(Tabulação!B6:CW6))=0,"", SUM(Tabulação!B6:BT6,Tabulação!BV6:CW6)) | BV6: =IF((SUM(Tabulação!B6:CW6))=0,"", SUM(Tabulação!B6:BU6,Tabulação!BW6:CW6)) | BW6: =IF((SUM(Tabulação!B6:CW6))=0,"", SUM(Tabulação!B6:BV6,Tabulação!BX6:CW6)) | BX6: =IF((SUM(Tabulação!B6:CW6))=0,"", SUM(Tabulação!B6:BW6,Tabulação!BY6:CW6)) | BY6: =IF((SUM(Tabulação!B6:CW6))=0,"", SUM(Tabulação!B6:BX6,Tabulação!BZ6:CW6)) | BZ6: =IF((SUM(Tabulação!B6:CW6))=0,"", SUM(Tabulação!B6:BY6,Tabulação!CA6:CW6)) | CA6: =IF((SUM(Tabulação!B6:CW6))=0,"", SUM(Tabulação!B6:BZ6,Tabulação!CB6:CW6)) | CB6: =IF((SUM(Tabulação!B6:CW6))=0,"", SUM(Tabulação!B6:CA6,Tabulação!CC6:CW6)) | CC6: =IF((SUM(Tabulação!B6:CW6))=0,"", SUM(Tabulação!B6:CB6,Tabulação!CD6:CW6)) | CD6: =IF((SUM(Tabulação!B6:CW6))=0,"", SUM(Tabulação!B6:CC6,Tabulação!CE6:CW6)) | CE6: =IF((SUM(Tabulação!B6:CW6))=0,"", SUM(Tabulação!B6:CD6,Tabulação!CF6:CW6)) | CF6: =IF((SUM(Tabulação!B6:CW6))=0,"", SUM(Tabulação!B6:CE6,Tabulação!CG6:CW6)) | CG6: =IF((SUM(Tabulação!B6:CW6))=0,"", SUM(Tabulação!B6:CF6,Tabulação!CH6:CW6)) | CH6: =IF((SUM(Tabulação!B6:CW6))=0,"", SUM(Tabulação!B6:CG6,Tabulação!CI6:CW6)) | CI6: =IF((SUM(Tabulação!B6:CW6))=0,"", SUM(Tabulação!B6:CH6,Tabulação!CJ6:CW6)) | CJ6: =IF((SUM(Tabulação!B6:CW6))=0,"", SUM(Tabulação!B6:CI6,Tabulação!CK6:CW6)) | CK6: =IF((SUM(Tabulação!B6:CW6))=0,"", SUM(Tabulação!B6:CJ6,Tabulação!CL6:CW6)) | CL6: =IF((SUM(Tabulação!B6:CW6))=0,"", SUM(Tabulação!B6:CK6,Tabulação!CM6:CW6)) | CM6: =IF((SUM(Tabulação!B6:CW6))=0,"", SUM(Tabulação!B6:CL6,Tabulação!CN6:CW6)) | CN6: =IF((SUM(Tabulação!B6:CW6))=0,"", SUM(Tabulação!B6:CM6,Tabulação!CO6:CW6)) | CO6: =IF((SUM(Tabulação!B6:CW6))=0,"", SUM(Tabulação!B6:CN6,Tabulação!CP6:CW6)) | CP6: =IF((SUM(Tabulação!B6:CW6))=0,"", SUM(Tabulação!B6:CO6,Tabulação!CQ6:CW6)) | CQ6: =IF((SUM(Tabulação!B6:CW6))=0,"", SUM(Tabulação!B6:CP6,Tabulação!CR6:CW6)) | CR6: =IF((SUM(Tabulação!B6:CW6))=0,"", SUM(Tabulação!B6:CQ6,Tabulação!CS6:CW6)) | CS6: =IF((SUM(Tabulação!B6:CW6))=0,"", SUM(Tabulação!B6:CR6,Tabulação!CT6:CW6)) | CT6: =IF((SUM(Tabulação!B6:CW6))=0,"", SUM(Tabulação!B6:CS6,Tabulação!CU6:CW6)) | CU6: =IF((SUM(Tabulação!B6:CW6))=0,"", SUM(Tabulação!B6:CT6,Tabulação!CV6:CW6)) | CV6: =IF((SUM(Tabulação!B6:CW6))=0,"", SUM(Tabulação!B6:CU6,Tabulação!CW6:CW6)) | CW6: =IF((SUM(Tabulação!B6:CW6))=0,"", SUM(Tabulação!B6:CV6)) | CY6: =IF((COUNTBLANK(Tabulação!B6:CW6))>=99,"", SUM(Tabulação!B6:CW6))
A7: 6 | B7: =IF((SUM(Tabulação!B7:CW7))=0,"", SUM(Tabulação!C7:CW7)) | C7: =IF((SUM(Tabulação!B7:CW7))=0,"", SUM(Tabulação!B7,Tabulação!D7:CW7)) | D7: =IF((SUM(Tabulação!B7:CW7))=0,"", SUM(Tabulação!B7:C7,Tabulação!E7:CW7)) | E7: =IF((SUM(Tabulação!B7:CW7))=0,"", SUM(Tabulação!B7:D7,Tabulação!F7:CW7)) | F7: =IF((SUM(Tabulação!B7:CW7))=0,"", SUM(Tabulação!B7:E7,Tabulação!G7:CW7)) | G7: =IF((SUM(Tabulação!B7:CW7))=0,"", SUM(Tabulação!B7:F7,Tabulação!H7:CW7)) | H7: =IF((SUM(Tabulação!B7:CW7))=0,"", SUM(Tabulação!B7:G7,Tabulação!I7:CW7)) | I7: =IF((SUM(Tabulação!B7:CW7))=0,"", SUM(Tabulação!B7:H7,Tabulação!J7:CW7)) | J7: =IF((SUM(Tabulação!B7:CW7))=0,"", SUM(Tabulação!B7:I7,Tabulação!K7:CW7)) | K7: =IF((SUM(Tabulação!B7:CW7))=0,"", SUM(Tabulação!B7:J7,Tabulação!L7:CW7)) | L7: =IF((SUM(Tabulação!B7:CW7))=0,"", SUM(Tabulação!B7:K7,Tabulação!M7:CW7)) | M7: =IF((SUM(Tabulação!B7:CW7))=0,"", SUM(Tabulação!B7:L7,Tabulação!N7:CW7)) | N7: =IF((SUM(Tabulação!B7:CW7))=0,"", SUM(Tabulação!B7:M7,Tabulação!O7:CW7)) | O7: =IF((SUM(Tabulação!B7:CW7))=0,"", SUM(Tabulação!B7:N7,Tabulação!P7:CW7)) | P7: =IF((SUM(Tabulação!B7:CW7))=0,"", SUM(Tabulação!B7:O7,Tabulação!Q7:CW7)) | Q7: =IF((SUM(Tabulação!B7:CW7))=0,"", SUM(Tabulação!B7:P7,Tabulação!R7:CW7)) | R7: =IF((SUM(Tabulação!B7:CW7))=0,"", SUM(Tabulação!B7:Q7,Tabulação!S7:CW7)) | S7: =IF((SUM(Tabulação!B7:CW7))=0,"", SUM(Tabulação!B7:R7,Tabulação!T7:CW7)) | T7: =IF((SUM(Tabulação!B7:CW7))=0,"", SUM(Tabulação!B7:S7,Tabulação!U7:CW7)) | U7: =IF((SUM(Tabulação!B7:CW7))=0,"", SUM(Tabulação!B7:T7,Tabulação!V7:CW7)) | V7: =IF((SUM(Tabulação!B7:CW7))=0,"", SUM(Tabulação!B7:U7,Tabulação!W7:CW7)) | W7: =IF((SUM(Tabulação!B7:CW7))=0,"", SUM(Tabulação!B7:V7,Tabulação!X7:CW7)) | X7: =IF((SUM(Tabulação!B7:CW7))=0,"", SUM(Tabulação!B7:W7,Tabulação!Y7:CW7)) | Y7: =IF((SUM(Tabulação!B7:CW7))=0,"", SUM(Tabulação!B7:X7,Tabulação!Z7:CW7)) | Z7: =IF((SUM(Tabulação!B7:CW7))=0,"", SUM(Tabulação!B7:Y7,Tabulação!AA7:CW7)) | AA7: =IF((SUM(Tabulação!B7:CW7))=0,"", SUM(Tabulação!B7:Z7,Tabulação!AB7:CW7)) | AB7: =IF((SUM(Tabulação!B7:CW7))=0,"", SUM(Tabulação!B7:AA7,Tabulação!AC7:CW7)) | AC7: =IF((SUM(Tabulação!B7:CW7))=0,"", SUM(Tabulação!B7:AB7,Tabulação!AD7:CW7)) | AD7: =IF((SUM(Tabulação!B7:CW7))=0,"", SUM(Tabulação!B7:AC7,Tabulação!AE7:CW7)) | AE7: =IF((SUM(Tabulação!B7:CW7))=0,"", SUM(Tabulação!B7:AD7,Tabulação!AF7:CW7)) | AF7: =IF((SUM(Tabulação!B7:CW7))=0,"", SUM(Tabulação!B7:AE7,Tabulação!AG7:CW7)) | AG7: =IF((SUM(Tabulação!B7:CW7))=0,"", SUM(Tabulação!B7:AF7,Tabulação!AH7:CW7)) | AH7: =IF((SUM(Tabulação!B7:CW7))=0,"", SUM(Tabulação!B7:AG7,Tabulação!AI7:CW7)) | AI7: =IF((SUM(Tabulação!B7:CW7))=0,"", SUM(Tabulação!B7:AH7,Tabulação!AJ7:CW7)) | AJ7: =IF((SUM(Tabulação!B7:CW7))=0,"", SUM(Tabulação!B7:AI7,Tabulação!AK7:CW7)) | AK7: =IF((SUM(Tabulação!B7:CW7))=0,"", SUM(Tabulação!B7:AJ7,Tabulação!AL7:CW7)) | AL7: =IF((SUM(Tabulação!B7:CW7))=0,"", SUM(Tabulação!B7:AK7,Tabulação!AM7:CW7)) | AM7: =IF((SUM(Tabulação!B7:CW7))=0,"", SUM(Tabulação!B7:AL7,Tabulação!AN7:CW7)) | AN7: =IF((SUM(Tabulação!B7:CW7))=0,"", SUM(Tabulação!B7:AM7,Tabulação!AO7:CW7)) | AO7: =IF((SUM(Tabulação!B7:CW7))=0,"", SUM(Tabulação!B7:AN7,Tabulação!AP7:CW7)) | AP7: =IF((SUM(Tabulação!B7:CW7))=0,"", SUM(Tabulação!B7:AO7,Tabulação!AQ7:CW7)) | AQ7: =IF((SUM(Tabulação!B7:CW7))=0,"", SUM(Tabulação!B7:AP7,Tabulação!AR7:CW7)) | AR7: =IF((SUM(Tabulação!B7:CW7))=0,"", SUM(Tabulação!B7:AQ7,Tabulação!AS7:CW7)) | AS7: =IF((SUM(Tabulação!B7:CW7))=0,"", SUM(Tabulação!B7:AR7,Tabulação!AT7:CW7)) | AT7: =IF((SUM(Tabulação!B7:CW7))=0,"", SUM(Tabulação!B7:AS7,Tabulação!AU7:CW7)) | AU7: =IF((SUM(Tabulação!B7:CW7))=0,"", SUM(Tabulação!B7:AT7,Tabulação!AV7:CW7)) | AV7: =IF((SUM(Tabulação!B7:CW7))=0,"", SUM(Tabulação!B7:AU7,Tabulação!AW7:CW7)) | AW7: =IF((SUM(Tabulação!B7:CW7))=0,"", SUM(Tabulação!B7:AV7,Tabulação!AX7:CW7)) | AX7: =IF((SUM(Tabulação!B7:CW7))=0,"", SUM(Tabulação!B7:AW7,Tabulação!AY7:CW7)) | AY7: =IF((SUM(Tabulação!B7:CW7))=0,"", SUM(Tabulação!B7:AX7,Tabulação!AZ7:CW7)) | AZ7: =IF((SUM(Tabulação!B7:CW7))=0,"", SUM(Tabulação!B7:AY7,Tabulação!BA7:CW7)) | BA7: =IF((SUM(Tabulação!B7:CW7))=0,"", SUM(Tabulação!B7:AZ7,Tabulação!BB7:CW7)) | BB7: =IF((SUM(Tabulação!B7:CW7))=0,"", SUM(Tabulação!B7:BA7,Tabulação!BC7:CW7)) | BC7: =IF((SUM(Tabulação!B7:CW7))=0,"", SUM(Tabulação!B7:BB7,Tabulação!BD7:CW7)) | BD7: =IF((SUM(Tabulação!B7:CW7))=0,"", SUM(Tabulação!B7:BC7,Tabulação!BE7:CW7)) | BE7: =IF((SUM(Tabulação!B7:CW7))=0,"", SUM(Tabulação!B7:BD7,Tabulação!BF7:CW7)) | BF7: =IF((SUM(Tabulação!B7:CW7))=0,"", SUM(Tabulação!B7:BE7,Tabulação!BG7:CW7)) | BG7: =IF((SUM(Tabulação!B7:CW7))=0,"", SUM(Tabulação!B7:BF7,Tabulação!BH7:CW7)) | BH7: =IF((SUM(Tabulação!B7:CW7))=0,"", SUM(Tabulação!B7:BG7,Tabulação!BI7:CW7)) | BI7: =IF((SUM(Tabulação!B7:CW7))=0,"", SUM(Tabulação!B7:BH7,Tabulação!BJ7:CW7)) | BJ7: =IF((SUM(Tabulação!B7:CW7))=0,"", SUM(Tabulação!B7:BI7,Tabulação!BK7:CW7)) | BK7: =IF((SUM(Tabulação!B7:CW7))=0,"", SUM(Tabulação!B7:BJ7,Tabulação!BL7:CW7)) | BL7: =IF((SUM(Tabulação!B7:CW7))=0,"", SUM(Tabulação!B7:BK7,Tabulação!BM7:CW7)) | BM7: =IF((SUM(Tabulação!B7:CW7))=0,"", SUM(Tabulação!B7:BL7,Tabulação!BN7:CW7)) | BN7: =IF((SUM(Tabulação!B7:CW7))=0,"", SUM(Tabulação!B7:BM7,Tabulação!BO7:CW7)) | BO7: =IF((SUM(Tabulação!B7:CW7))=0,"", SUM(Tabulação!B7:BN7,Tabulação!BP7:CW7)) | BP7: =IF((SUM(Tabulação!B7:CW7))=0,"", SUM(Tabulação!B7:BO7,Tabulação!BQ7:CW7)) | BQ7: =IF((SUM(Tabulação!B7:CW7))=0,"", SUM(Tabulação!B7:BP7,Tabulação!BR7:CW7)) | BR7: =IF((SUM(Tabulação!B7:CW7))=0,"", SUM(Tabulação!B7:BQ7,Tabulação!BS7:CW7)) | BS7: =IF((SUM(Tabulação!B7:CW7))=0,"", SUM(Tabulação!B7:BR7,Tabulação!BT7:CW7)) | BT7: =IF((SUM(Tabulação!B7:CW7))=0,"", SUM(Tabulação!B7:BS7,Tabulação!BU7:CW7)) | BU7: =IF((SUM(Tabulação!B7:CW7))=0,"", SUM(Tabulação!B7:BT7,Tabulação!BV7:CW7)) | BV7: =IF((SUM(Tabulação!B7:CW7))=0,"", SUM(Tabulação!B7:BU7,Tabulação!BW7:CW7)) | BW7: =IF((SUM(Tabulação!B7:CW7))=0,"", SUM(Tabulação!B7:BV7,Tabulação!BX7:CW7)) | BX7: =IF((SUM(Tabulação!B7:CW7))=0,"", SUM(Tabulação!B7:BW7,Tabulação!BY7:CW7)) | BY7: =IF((SUM(Tabulação!B7:CW7))=0,"", SUM(Tabulação!B7:BX7,Tabulação!BZ7:CW7)) | BZ7: =IF((SUM(Tabulação!B7:CW7))=0,"", SUM(Tabulação!B7:BY7,Tabulação!CA7:CW7)) | CA7: =IF((SUM(Tabulação!B7:CW7))=0,"", SUM(Tabulação!B7:BZ7,Tabulação!CB7:CW7)) | CB7: =IF((SUM(Tabulação!B7:CW7))=0,"", SUM(Tabulação!B7:CA7,Tabulação!CC7:CW7)) | CC7: =IF((SUM(Tabulação!B7:CW7))=0,"", SUM(Tabulação!B7:CB7,Tabulação!CD7:CW7)) | CD7: =IF((SUM(Tabulação!B7:CW7))=0,"", SUM(Tabulação!B7:CC7,Tabulação!CE7:CW7)) | CE7: =IF((SUM(Tabulação!B7:CW7))=0,"", SUM(Tabulação!B7:CD7,Tabulação!CF7:CW7)) | CF7: =IF((SUM(Tabulação!B7:CW7))=0,"", SUM(Tabulação!B7:CE7,Tabulação!CG7:CW7)) | CG7: =IF((SUM(Tabulação!B7:CW7))=0,"", SUM(Tabulação!B7:CF7,Tabulação!CH7:CW7)) | CH7: =IF((SUM(Tabulação!B7:CW7))=0,"", SUM(Tabulação!B7:CG7,Tabulação!CI7:CW7)) | CI7: =IF((SUM(Tabulação!B7:CW7))=0,"", SUM(Tabulação!B7:CH7,Tabulação!CJ7:CW7)) | CJ7: =IF((SUM(Tabulação!B7:CW7))=0,"", SUM(Tabulação!B7:CI7,Tabulação!CK7:CW7)) | CK7: =IF((SUM(Tabulação!B7:CW7))=0,"", SUM(Tabulação!B7:CJ7,Tabulação!CL7:CW7)) | CL7: =IF((SUM(Tabulação!B7:CW7))=0,"", SUM(Tabulação!B7:CK7,Tabulação!CM7:CW7)) | CM7: =IF((SUM(Tabulação!B7:CW7))=0,"", SUM(Tabulação!B7:CL7,Tabulação!CN7:CW7)) | CN7: =IF((SUM(Tabulação!B7:CW7))=0,"", SUM(Tabulação!B7:CM7,Tabulação!CO7:CW7)) | CO7: =IF((SUM(Tabulação!B7:CW7))=0,"", SUM(Tabulação!B7:CN7,Tabulação!CP7:CW7)) | CP7: =IF((SUM(Tabulação!B7:CW7))=0,"", SUM(Tabulação!B7:CO7,Tabulação!CQ7:CW7)) | CQ7: =IF((SUM(Tabulação!B7:CW7))=0,"", SUM(Tabulação!B7:CP7,Tabulação!CR7:CW7)) | CR7: =IF((SUM(Tabulação!B7:CW7))=0,"", SUM(Tabulação!B7:CQ7,Tabulação!CS7:CW7)) | CS7: =IF((SUM(Tabulação!B7:CW7))=0,"", SUM(Tabulação!B7:CR7,Tabulação!CT7:CW7)) | CT7: =IF((SUM(Tabulação!B7:CW7))=0,"", SUM(Tabulação!B7:CS7,Tabulação!CU7:CW7)) | CU7: =IF((SUM(Tabulação!B7:CW7))=0,"", SUM(Tabulação!B7:CT7,Tabulação!CV7:CW7)) | CV7: =IF((SUM(Tabulação!B7:CW7))=0,"", SUM(Tabulação!B7:CU7,Tabulação!CW7:CW7)) | CW7: =IF((SUM(Tabulação!B7:CW7))=0,"", SUM(Tabulação!B7:CV7)) | CY7: =IF((COUNTBLANK(Tabulação!B7:CW7))>=99,"", SUM(Tabulação!B7:CW7))
A8: 7 | B8: =IF((SUM(Tabulação!B8:CW8))=0,"", SUM(Tabulação!C8:CW8)) | C8: =IF((SUM(Tabulação!B8:CW8))=0,"", SUM(Tabulação!B8,Tabulação!D8:CW8)) | D8: =IF((SUM(Tabulação!B8:CW8))=0,"", SUM(Tabulação!B8:C8,Tabulação!E8:CW8)) | E8: =IF((SUM(Tabulação!B8:CW8))=0,"", SUM(Tabulação!B8:D8,Tabulação!F8:CW8)) | F8: =IF((SUM(Tabulação!B8:CW8))=0,"", SUM(Tabulação!B8:E8,Tabulação!G8:CW8)) | G8: =IF((SUM(Tabulação!B8:CW8))=0,"", SUM(Tabulação!B8:F8,Tabulação!H8:CW8)) | H8: =IF((SUM(Tabulação!B8:CW8))=0,"", SUM(Tabulação!B8:G8,Tabulação!I8:CW8)) | I8: =IF((SUM(Tabulação!B8:CW8))=0,"", SUM(Tabulação!B8:H8,Tabulação!J8:CW8)) | J8: =IF((SUM(Tabulação!B8:CW8))=0,"", SUM(Tabulação!B8:I8,Tabulação!K8:CW8)) | K8: =IF((SUM(Tabulação!B8:CW8))=0,"", SUM(Tabulação!B8:J8,Tabulação!L8:CW8)) | L8: =IF((SUM(Tabulação!B8:CW8))=0,"", SUM(Tabulação!B8:K8,Tabulação!M8:CW8)) | M8: =IF((SUM(Tabulação!B8:CW8))=0,"", SUM(Tabulação!B8:L8,Tabulação!N8:CW8)) | N8: =IF((SUM(Tabulação!B8:CW8))=0,"", SUM(Tabulação!B8:M8,Tabulação!O8:CW8)) | O8: =IF((SUM(Tabulação!B8:CW8))=0,"", SUM(Tabulação!B8:N8,Tabulação!P8:CW8)) | P8: =IF((SUM(Tabulação!B8:CW8))=0,"", SUM(Tabulação!B8:O8,Tabulação!Q8:CW8)) | Q8: =IF((SUM(Tabulação!B8:CW8))=0,"", SUM(Tabulação!B8:P8,Tabulação!R8:CW8)) | R8: =IF((SUM(Tabulação!B8:CW8))=0,"", SUM(Tabulação!B8:Q8,Tabulação!S8:CW8)) | S8: =IF((SUM(Tabulação!B8:CW8))=0,"", SUM(Tabulação!B8:R8,Tabulação!T8:CW8)) | T8: =IF((SUM(Tabulação!B8:CW8))=0,"", SUM(Tabulação!B8:S8,Tabulação!U8:CW8)) | U8: =IF((SUM(Tabulação!B8:CW8))=0,"", SUM(Tabulação!B8:T8,Tabulação!V8:CW8)) | V8: =IF((SUM(Tabulação!B8:CW8))=0,"", SUM(Tabulação!B8:U8,Tabulação!W8:CW8)) | W8: =IF((SUM(Tabulação!B8:CW8))=0,"", SUM(Tabulação!B8:V8,Tabulação!X8:CW8)) | X8: =IF((SUM(Tabulação!B8:CW8))=0,"", SUM(Tabulação!B8:W8,Tabulação!Y8:CW8)) | Y8: =IF((SUM(Tabulação!B8:CW8))=0,"", SUM(Tabulação!B8:X8,Tabulação!Z8:CW8)) | Z8: =IF((SUM(Tabulação!B8:CW8))=0,"", SUM(Tabulação!B8:Y8,Tabulação!AA8:CW8)) | AA8: =IF((SUM(Tabulação!B8:CW8))=0,"", SUM(Tabulação!B8:Z8,Tabulação!AB8:CW8)) | AB8: =IF((SUM(Tabulação!B8:CW8))=0,"", SUM(Tabulação!B8:AA8,Tabulação!AC8:CW8)) | AC8: =IF((SUM(Tabulação!B8:CW8))=0,"", SUM(Tabulação!B8:AB8,Tabulação!AD8:CW8)) | AD8: =IF((SUM(Tabulação!B8:CW8))=0,"", SUM(Tabulação!B8:AC8,Tabulação!AE8:CW8)) | AE8: =IF((SUM(Tabulação!B8:CW8))=0,"", SUM(Tabulação!B8:AD8,Tabulação!AF8:CW8)) | AF8: =IF((SUM(Tabulação!B8:CW8))=0,"", SUM(Tabulação!B8:AE8,Tabulação!AG8:CW8)) | AG8: =IF((SUM(Tabulação!B8:CW8))=0,"", SUM(Tabulação!B8:AF8,Tabulação!AH8:CW8)) | AH8: =IF((SUM(Tabulação!B8:CW8))=0,"", SUM(Tabulação!B8:AG8,Tabulação!AI8:CW8)) | AI8: =IF((SUM(Tabulação!B8:CW8))=0,"", SUM(Tabulação!B8:AH8,Tabulação!AJ8:CW8)) | AJ8: =IF((SUM(Tabulação!B8:CW8))=0,"", SUM(Tabulação!B8:AI8,Tabulação!AK8:CW8)) | AK8: =IF((SUM(Tabulação!B8:CW8))=0,"", SUM(Tabulação!B8:AJ8,Tabulação!AL8:CW8)) | AL8: =IF((SUM(Tabulação!B8:CW8))=0,"", SUM(Tabulação!B8:AK8,Tabulação!AM8:CW8)) | AM8: =IF((SUM(Tabulação!B8:CW8))=0,"", SUM(Tabulação!B8:AL8,Tabulação!AN8:CW8)) | AN8: =IF((SUM(Tabulação!B8:CW8))=0,"", SUM(Tabulação!B8:AM8,Tabulação!AO8:CW8)) | AO8: =IF((SUM(Tabulação!B8:CW8))=0,"", SUM(Tabulação!B8:AN8,Tabulação!AP8:CW8)) | AP8: =IF((SUM(Tabulação!B8:CW8))=0,"", SUM(Tabulação!B8:AO8,Tabulação!AQ8:CW8)) | AQ8: =IF((SUM(Tabulação!B8:CW8))=0,"", SUM(Tabulação!B8:AP8,Tabulação!AR8:CW8)) | AR8: =IF((SUM(Tabulação!B8:CW8))=0,"", SUM(Tabulação!B8:AQ8,Tabulação!AS8:CW8)) | AS8: =IF((SUM(Tabulação!B8:CW8))=0,"", SUM(Tabulação!B8:AR8,Tabulação!AT8:CW8)) | AT8: =IF((SUM(Tabulação!B8:CW8))=0,"", SUM(Tabulação!B8:AS8,Tabulação!AU8:CW8)) | AU8: =IF((SUM(Tabulação!B8:CW8))=0,"", SUM(Tabulação!B8:AT8,Tabulação!AV8:CW8)) | AV8: =IF((SUM(Tabulação!B8:CW8))=0,"", SUM(Tabulação!B8:AU8,Tabulação!AW8:CW8)) | AW8: =IF((SUM(Tabulação!B8:CW8))=0,"", SUM(Tabulação!B8:AV8,Tabulação!AX8:CW8)) | AX8: =IF((SUM(Tabulação!B8:CW8))=0,"", SUM(Tabulação!B8:AW8,Tabulação!AY8:CW8)) | AY8: =IF((SUM(Tabulação!B8:CW8))=0,"", SUM(Tabulação!B8:AX8,Tabulação!AZ8:CW8)) | AZ8: =IF((SUM(Tabulação!B8:CW8))=0,"", SUM(Tabulação!B8:AY8,Tabulação!BA8:CW8)) | BA8: =IF((SUM(Tabulação!B8:CW8))=0,"", SUM(Tabulação!B8:AZ8,Tabulação!BB8:CW8)) | BB8: =IF((SUM(Tabulação!B8:CW8))=0,"", SUM(Tabulação!B8:BA8,Tabulação!BC8:CW8)) | BC8: =IF((SUM(Tabulação!B8:CW8))=0,"", SUM(Tabulação!B8:BB8,Tabulação!BD8:CW8)) | BD8: =IF((SUM(Tabulação!B8:CW8))=0,"", SUM(Tabulação!B8:BC8,Tabulação!BE8:CW8)) | BE8: =IF((SUM(Tabulação!B8:CW8))=0,"", SUM(Tabulação!B8:BD8,Tabulação!BF8:CW8)) | BF8: =IF((SUM(Tabulação!B8:CW8))=0,"", SUM(Tabulação!B8:BE8,Tabulação!BG8:CW8)) | BG8: =IF((SUM(Tabulação!B8:CW8))=0,"", SUM(Tabulação!B8:BF8,Tabulação!BH8:CW8)) | BH8: =IF((SUM(Tabulação!B8:CW8))=0,"", SUM(Tabulação!B8:BG8,Tabulação!BI8:CW8)) | BI8: =IF((SUM(Tabulação!B8:CW8))=0,"", SUM(Tabulação!B8:BH8,Tabulação!BJ8:CW8)) | BJ8: =IF((SUM(Tabulação!B8:CW8))=0,"", SUM(Tabulação!B8:BI8,Tabulação!BK8:CW8)) | BK8: =IF((SUM(Tabulação!B8:CW8))=0,"", SUM(Tabulação!B8:BJ8,Tabulação!BL8:CW8)) | BL8: =IF((SUM(Tabulação!B8:CW8))=0,"", SUM(Tabulação!B8:BK8,Tabulação!BM8:CW8)) | BM8: =IF((SUM(Tabulação!B8:CW8))=0,"", SUM(Tabulação!B8:BL8,Tabulação!BN8:CW8)) | BN8: =IF((SUM(Tabulação!B8:CW8))=0,"", SUM(Tabulação!B8:BM8,Tabulação!BO8:CW8)) | BO8: =IF((SUM(Tabulação!B8:CW8))=0,"", SUM(Tabulação!B8:BN8,Tabulação!BP8:CW8)) | BP8: =IF((SUM(Tabulação!B8:CW8))=0,"", SUM(Tabulação!B8:BO8,Tabulação!BQ8:CW8)) | BQ8: =IF((SUM(Tabulação!B8:CW8))=0,"", SUM(Tabulação!B8:BP8,Tabulação!BR8:CW8)) | BR8: =IF((SUM(Tabulação!B8:CW8))=0,"", SUM(Tabulação!B8:BQ8,Tabulação!BS8:CW8)) | BS8: =IF((SUM(Tabulação!B8:CW8))=0,"", SUM(Tabulação!B8:BR8,Tabulação!BT8:CW8)) | BT8: =IF((SUM(Tabulação!B8:CW8))=0,"", SUM(Tabulação!B8:BS8,Tabulação!BU8:CW8)) | BU8: =IF((SUM(Tabulação!B8:CW8))=0,"", SUM(Tabulação!B8:BT8,Tabulação!BV8:CW8)) | BV8: =IF((SUM(Tabulação!B8:CW8))=0,"", SUM(Tabulação!B8:BU8,Tabulação!BW8:CW8)) | BW8: =IF((SUM(Tabulação!B8:CW8))=0,"", SUM(Tabulação!B8:BV8,Tabulação!BX8:CW8)) | BX8: =IF((SUM(Tabulação!B8:CW8))=0,"", SUM(Tabulação!B8:BW8,Tabulação!BY8:CW8)) | BY8: =IF((SUM(Tabulação!B8:CW8))=0,"", SUM(Tabulação!B8:BX8,Tabulação!BZ8:CW8)) | BZ8: =IF((SUM(Tabulação!B8:CW8))=0,"", SUM(Tabulação!B8:BY8,Tabulação!CA8:CW8)) | CA8: =IF((SUM(Tabulação!B8:CW8))=0,"", SUM(Tabulação!B8:BZ8,Tabulação!CB8:CW8)) | CB8: =IF((SUM(Tabulação!B8:CW8))=0,"", SUM(Tabulação!B8:CA8,Tabulação!CC8:CW8)) | CC8: =IF((SUM(Tabulação!B8:CW8))=0,"", SUM(Tabulação!B8:CB8,Tabulação!CD8:CW8)) | CD8: =IF((SUM(Tabulação!B8:CW8))=0,"", SUM(Tabulação!B8:CC8,Tabulação!CE8:CW8)) | CE8: =IF((SUM(Tabulação!B8:CW8))=0,"", SUM(Tabulação!B8:CD8,Tabulação!CF8:CW8)) | CF8: =IF((SUM(Tabulação!B8:CW8))=0,"", SUM(Tabulação!B8:CE8,Tabulação!CG8:CW8)) | CG8: =IF((SUM(Tabulação!B8:CW8))=0,"", SUM(Tabulação!B8:CF8,Tabulação!CH8:CW8)) | CH8: =IF((SUM(Tabulação!B8:CW8))=0,"", SUM(Tabulação!B8:CG8,Tabulação!CI8:CW8)) | CI8: =IF((SUM(Tabulação!B8:CW8))=0,"", SUM(Tabulação!B8:CH8,Tabulação!CJ8:CW8)) | CJ8: =IF((SUM(Tabulação!B8:CW8))=0,"", SUM(Tabulação!B8:CI8,Tabulação!CK8:CW8)) | CK8: =IF((SUM(Tabulação!B8:CW8))=0,"", SUM(Tabulação!B8:CJ8,Tabulação!CL8:CW8)) | CL8: =IF((SUM(Tabulação!B8:CW8))=0,"", SUM(Tabulação!B8:CK8,Tabulação!CM8:CW8)) | CM8: =IF((SUM(Tabulação!B8:CW8))=0,"", SUM(Tabulação!B8:CL8,Tabulação!CN8:CW8)) | CN8: =IF((SUM(Tabulação!B8:CW8))=0,"", SUM(Tabulação!B8:CM8,Tabulação!CO8:CW8)) | CO8: =IF((SUM(Tabulação!B8:CW8))=0,"", SUM(Tabulação!B8:CN8,Tabulação!CP8:CW8)) | CP8: =IF((SUM(Tabulação!B8:CW8))=0,"", SUM(Tabulação!B8:CO8,Tabulação!CQ8:CW8)) | CQ8: =IF((SUM(Tabulação!B8:CW8))=0,"", SUM(Tabulação!B8:CP8,Tabulação!CR8:CW8)) | CR8: =IF((SUM(Tabulação!B8:CW8))=0,"", SUM(Tabulação!B8:CQ8,Tabulação!CS8:CW8)) | CS8: =IF((SUM(Tabulação!B8:CW8))=0,"", SUM(Tabulação!B8:CR8,Tabulação!CT8:CW8)) | CT8: =IF((SUM(Tabulação!B8:CW8))=0,"", SUM(Tabulação!B8:CS8,Tabulação!CU8:CW8)) | CU8: =IF((SUM(Tabulação!B8:CW8))=0,"", SUM(Tabulação!B8:CT8,Tabulação!CV8:CW8)) | CV8: =IF((SUM(Tabulação!B8:CW8))=0,"", SUM(Tabulação!B8:CU8,Tabulação!CW8:CW8)) | CW8: =IF((SUM(Tabulação!B8:CW8))=0,"", SUM(Tabulação!B8:CV8)) | CY8: =IF((COUNTBLANK(Tabulação!B8:CW8))>=99,"", SUM(Tabulação!B8:CW8))
A9: 8 | B9: =IF((SUM(Tabulação!B9:CW9))=0,"", SUM(Tabulação!C9:CW9)) | C9: =IF((SUM(Tabulação!B9:CW9))=0,"", SUM(Tabulação!B9,Tabulação!D9:CW9)) | D9: =IF((SUM(Tabulação!B9:CW9))=0,"", SUM(Tabulação!B9:C9,Tabulação!E9:CW9)) | E9: =IF((SUM(Tabulação!B9:CW9))=0,"", SUM(Tabulação!B9:D9,Tabulação!F9:CW9)) | F9: =IF((SUM(Tabulação!B9:CW9))=0,"", SUM(Tabulação!B9:E9,Tabulação!G9:CW9)) | G9: =IF((SUM(Tabulação!B9:CW9))=0,"", SUM(Tabulação!B9:F9,Tabulação!H9:CW9)) | H9: =IF((SUM(Tabulação!B9:CW9))=0,"", SUM(Tabulação!B9:G9,Tabulação!I9:CW9)) | I9: =IF((SUM(Tabulação!B9:CW9))=0,"", SUM(Tabulação!B9:H9,Tabulação!J9:CW9)) | J9: =IF((SUM(Tabulação!B9:CW9))=0,"", SUM(Tabulação!B9:I9,Tabulação!K9:CW9)) | K9: =IF((SUM(Tabulação!B9:CW9))=0,"", SUM(Tabulação!B9:J9,Tabulação!L9:CW9)) | L9: =IF((SUM(Tabulação!B9:CW9))=0,"", SUM(Tabulação!B9:K9,Tabulação!M9:CW9)) | M9: =IF((SUM(Tabulação!B9:CW9))=0,"", SUM(Tabulação!B9:L9,Tabulação!N9:CW9)) | N9: =IF((SUM(Tabulação!B9:CW9))=0,"", SUM(Tabulação!B9:M9,Tabulação!O9:CW9)) | O9: =IF((SUM(Tabulação!B9:CW9))=0,"", SUM(Tabulação!B9:N9,Tabulação!P9:CW9)) | P9: =IF((SUM(Tabulação!B9:CW9))=0,"", SUM(Tabulação!B9:O9,Tabulação!Q9:CW9)) | Q9: =IF((SUM(Tabulação!B9:CW9))=0,"", SUM(Tabulação!B9:P9,Tabulação!R9:CW9)) | R9: =IF((SUM(Tabulação!B9:CW9))=0,"", SUM(Tabulação!B9:Q9,Tabulação!S9:CW9)) | S9: =IF((SUM(Tabulação!B9:CW9))=0,"", SUM(Tabulação!B9:R9,Tabulação!T9:CW9)) | T9: =IF((SUM(Tabulação!B9:CW9))=0,"", SUM(Tabulação!B9:S9,Tabulação!U9:CW9)) | U9: =IF((SUM(Tabulação!B9:CW9))=0,"", SUM(Tabulação!B9:T9,Tabulação!V9:CW9)) | V9: =IF((SUM(Tabulação!B9:CW9))=0,"", SUM(Tabulação!B9:U9,Tabulação!W9:CW9)) | W9: =IF((SUM(Tabulação!B9:CW9))=0,"", SUM(Tabulação!B9:V9,Tabulação!X9:CW9)) | X9: =IF((SUM(Tabulação!B9:CW9))=0,"", SUM(Tabulação!B9:W9,Tabulação!Y9:CW9)) | Y9: =IF((SUM(Tabulação!B9:CW9))=0,"", SUM(Tabulação!B9:X9,Tabulação!Z9:CW9)) | Z9: =IF((SUM(Tabulação!B9:CW9))=0,"", SUM(Tabulação!B9:Y9,Tabulação!AA9:CW9)) | AA9: =IF((SUM(Tabulação!B9:CW9))=0,"", SUM(Tabulação!B9:Z9,Tabulação!AB9:CW9)) | AB9: =IF((SUM(Tabulação!B9:CW9))=0,"", SUM(Tabulação!B9:AA9,Tabulação!AC9:CW9)) | AC9: =IF((SUM(Tabulação!B9:CW9))=0,"", SUM(Tabulação!B9:AB9,Tabulação!AD9:CW9)) | AD9: =IF((SUM(Tabulação!B9:CW9))=0,"", SUM(Tabulação!B9:AC9,Tabulação!AE9:CW9)) | AE9: =IF((SUM(Tabulação!B9:CW9))=0,"", SUM(Tabulação!B9:AD9,Tabulação!AF9:CW9)) | AF9: =IF((SUM(Tabulação!B9:CW9))=0,"", SUM(Tabulação!B9:AE9,Tabulação!AG9:CW9)) | AG9: =IF((SUM(Tabulação!B9:CW9))=0,"", SUM(Tabulação!B9:AF9,Tabulação!AH9:CW9)) | AH9: =IF((SUM(Tabulação!B9:CW9))=0,"", SUM(Tabulação!B9:AG9,Tabulação!AI9:CW9)) | AI9: =IF((SUM(Tabulação!B9:CW9))=0,"", SUM(Tabulação!B9:AH9,Tabulação!AJ9:CW9)) | AJ9: =IF((SUM(Tabulação!B9:CW9))=0,"", SUM(Tabulação!B9:AI9,Tabulação!AK9:CW9)) | AK9: =IF((SUM(Tabulação!B9:CW9))=0,"", SUM(Tabulação!B9:AJ9,Tabulação!AL9:CW9)) | AL9: =IF((SUM(Tabulação!B9:CW9))=0,"", SUM(Tabulação!B9:AK9,Tabulação!AM9:CW9)) | AM9: =IF((SUM(Tabulação!B9:CW9))=0,"", SUM(Tabulação!B9:AL9,Tabulação!AN9:CW9)) | AN9: =IF((SUM(Tabulação!B9:CW9))=0,"", SUM(Tabulação!B9:AM9,Tabulação!AO9:CW9)) | AO9: =IF((SUM(Tabulação!B9:CW9))=0,"", SUM(Tabulação!B9:AN9,Tabulação!AP9:CW9)) | AP9: =IF((SUM(Tabulação!B9:CW9))=0,"", SUM(Tabulação!B9:AO9,Tabulação!AQ9:CW9)) | AQ9: =IF((SUM(Tabulação!B9:CW9))=0,"", SUM(Tabulação!B9:AP9,Tabulação!AR9:CW9)) | AR9: =IF((SUM(Tabulação!B9:CW9))=0,"", SUM(Tabulação!B9:AQ9,Tabulação!AS9:CW9)) | AS9: =IF((SUM(Tabulação!B9:CW9))=0,"", SUM(Tabulação!B9:AR9,Tabulação!AT9:CW9)) | AT9: =IF((SUM(Tabulação!B9:CW9))=0,"", SUM(Tabulação!B9:AS9,Tabulação!AU9:CW9)) | AU9: =IF((SUM(Tabulação!B9:CW9))=0,"", SUM(Tabulação!B9:AT9,Tabulação!AV9:CW9)) | AV9: =IF((SUM(Tabulação!B9:CW9))=0,"", SUM(Tabulação!B9:AU9,Tabulação!AW9:CW9)) | AW9: =IF((SUM(Tabulação!B9:CW9))=0,"", SUM(Tabulação!B9:AV9,Tabulação!AX9:CW9)) | AX9: =IF((SUM(Tabulação!B9:CW9))=0,"", SUM(Tabulação!B9:AW9,Tabulação!AY9:CW9)) | AY9: =IF((SUM(Tabulação!B9:CW9))=0,"", SUM(Tabulação!B9:AX9,Tabulação!AZ9:CW9)) | AZ9: =IF((SUM(Tabulação!B9:CW9))=0,"", SUM(Tabulação!B9:AY9,Tabulação!BA9:CW9)) | BA9: =IF((SUM(Tabulação!B9:CW9))=0,"", SUM(Tabulação!B9:AZ9,Tabulação!BB9:CW9)) | BB9: =IF((SUM(Tabulação!B9:CW9))=0,"", SUM(Tabulação!B9:BA9,Tabulação!BC9:CW9)) | BC9: =IF((SUM(Tabulação!B9:CW9))=0,"", SUM(Tabulação!B9:BB9,Tabulação!BD9:CW9)) | BD9: =IF((SUM(Tabulação!B9:CW9))=0,"", SUM(Tabulação!B9:BC9,Tabulação!BE9:CW9)) | BE9: =IF((SUM(Tabulação!B9:CW9))=0,"", SUM(Tabulação!B9:BD9,Tabulação!BF9:CW9)) | BF9: =IF((SUM(Tabulação!B9:CW9))=0,"", SUM(Tabulação!B9:BE9,Tabulação!BG9:CW9)) | BG9: =IF((SUM(Tabulação!B9:CW9))=0,"", SUM(Tabulação!B9:BF9,Tabulação!BH9:CW9)) | BH9: =IF((SUM(Tabulação!B9:CW9))=0,"", SUM(Tabulação!B9:BG9,Tabulação!BI9:CW9)) | BI9: =IF((SUM(Tabulação!B9:CW9))=0,"", SUM(Tabulação!B9:BH9,Tabulação!BJ9:CW9)) | BJ9: =IF((SUM(Tabulação!B9:CW9))=0,"", SUM(Tabulação!B9:BI9,Tabulação!BK9:CW9)) | BK9: =IF((SUM(Tabulação!B9:CW9))=0,"", SUM(Tabulação!B9:BJ9,Tabulação!BL9:CW9)) | BL9: =IF((SUM(Tabulação!B9:CW9))=0,"", SUM(Tabulação!B9:BK9,Tabulação!BM9:CW9)) | BM9: =IF((SUM(Tabulação!B9:CW9))=0,"", SUM(Tabulação!B9:BL9,Tabulação!BN9:CW9)) | BN9: =IF((SUM(Tabulação!B9:CW9))=0,"", SUM(Tabulação!B9:BM9,Tabulação!BO9:CW9)) | BO9: =IF((SUM(Tabulação!B9:CW9))=0,"", SUM(Tabulação!B9:BN9,Tabulação!BP9:CW9)) | BP9: =IF((SUM(Tabulação!B9:CW9))=0,"", SUM(Tabulação!B9:BO9,Tabulação!BQ9:CW9)) | BQ9: =IF((SUM(Tabulação!B9:CW9))=0,"", SUM(Tabulação!B9:BP9,Tabulação!BR9:CW9)) | BR9: =IF((SUM(Tabulação!B9:CW9))=0,"", SUM(Tabulação!B9:BQ9,Tabulação!BS9:CW9)) | BS9: =IF((SUM(Tabulação!B9:CW9))=0,"", SUM(Tabulação!B9:BR9,Tabulação!BT9:CW9)) | BT9: =IF((SUM(Tabulação!B9:CW9))=0,"", SUM(Tabulação!B9:BS9,Tabulação!BU9:CW9)) | BU9: =IF((SUM(Tabulação!B9:CW9))=0,"", SUM(Tabulação!B9:BT9,Tabulação!BV9:CW9)) | BV9: =IF((SUM(Tabulação!B9:CW9))=0,"", SUM(Tabulação!B9:BU9,Tabulação!BW9:CW9)) | BW9: =IF((SUM(Tabulação!B9:CW9))=0,"", SUM(Tabulação!B9:BV9,Tabulação!BX9:CW9)) | BX9: =IF((SUM(Tabulação!B9:CW9))=0,"", SUM(Tabulação!B9:BW9,Tabulação!BY9:CW9)) | BY9: =IF((SUM(Tabulação!B9:CW9))=0,"", SUM(Tabulação!B9:BX9,Tabulação!BZ9:CW9)) | BZ9: =IF((SUM(Tabulação!B9:CW9))=0,"", SUM(Tabulação!B9:BY9,Tabulação!CA9:CW9)) | CA9: =IF((SUM(Tabulação!B9:CW9))=0,"", SUM(Tabulação!B9:BZ9,Tabulação!CB9:CW9)) | CB9: =IF((SUM(Tabulação!B9:CW9))=0,"", SUM(Tabulação!B9:CA9,Tabulação!CC9:CW9)) | CC9: =IF((SUM(Tabulação!B9:CW9))=0,"", SUM(Tabulação!B9:CB9,Tabulação!CD9:CW9)) | CD9: =IF((SUM(Tabulação!B9:CW9))=0,"", SUM(Tabulação!B9:CC9,Tabulação!CE9:CW9)) | CE9: =IF((SUM(Tabulação!B9:CW9))=0,"", SUM(Tabulação!B9:CD9,Tabulação!CF9:CW9)) | CF9: =IF((SUM(Tabulação!B9:CW9))=0,"", SUM(Tabulação!B9:CE9,Tabulação!CG9:CW9)) | CG9: =IF((SUM(Tabulação!B9:CW9))=0,"", SUM(Tabulação!B9:CF9,Tabulação!CH9:CW9)) | CH9: =IF((SUM(Tabulação!B9:CW9))=0,"", SUM(Tabulação!B9:CG9,Tabulação!CI9:CW9)) | CI9: =IF((SUM(Tabulação!B9:CW9))=0,"", SUM(Tabulação!B9:CH9,Tabulação!CJ9:CW9)) | CJ9: =IF((SUM(Tabulação!B9:CW9))=0,"", SUM(Tabulação!B9:CI9,Tabulação!CK9:CW9)) | CK9: =IF((SUM(Tabulação!B9:CW9))=0,"", SUM(Tabulação!B9:CJ9,Tabulação!CL9:CW9)) | CL9: =IF((SUM(Tabulação!B9:CW9))=0,"", SUM(Tabulação!B9:CK9,Tabulação!CM9:CW9)) | CM9: =IF((SUM(Tabulação!B9:CW9))=0,"", SUM(Tabulação!B9:CL9,Tabulação!CN9:CW9)) | CN9: =IF((SUM(Tabulação!B9:CW9))=0,"", SUM(Tabulação!B9:CM9,Tabulação!CO9:CW9)) | CO9: =IF((SUM(Tabulação!B9:CW9))=0,"", SUM(Tabulação!B9:CN9,Tabulação!CP9:CW9)) | CP9: =IF((SUM(Tabulação!B9:CW9))=0,"", SUM(Tabulação!B9:CO9,Tabulação!CQ9:CW9)) | CQ9: =IF((SUM(Tabulação!B9:CW9))=0,"", SUM(Tabulação!B9:CP9,Tabulação!CR9:CW9)) | CR9: =IF((SUM(Tabulação!B9:CW9))=0,"", SUM(Tabulação!B9:CQ9,Tabulação!CS9:CW9)) | CS9: =IF((SUM(Tabulação!B9:CW9))=0,"", SUM(Tabulação!B9:CR9,Tabulação!CT9:CW9)) | CT9: =IF((SUM(Tabulação!B9:CW9))=0,"", SUM(Tabulação!B9:CS9,Tabulação!CU9:CW9)) | CU9: =IF((SUM(Tabulação!B9:CW9))=0,"", SUM(Tabulação!B9:CT9,Tabulação!CV9:CW9)) | CV9: =IF((SUM(Tabulação!B9:CW9))=0,"", SUM(Tabulação!B9:CU9,Tabulação!CW9:CW9)) | CW9: =IF((SUM(Tabulação!B9:CW9))=0,"", SUM(Tabulação!B9:CV9)) | CY9: =IF((COUNTBLANK(Tabulação!B9:CW9))>=99,"", SUM(Tabulação!B9:CW9))
A10: 9 | B10: =IF((SUM(Tabulação!B10:CW10))=0,"", SUM(Tabulação!C10:CW10)) | C10: =IF((SUM(Tabulação!B10:CW10))=0,"", SUM(Tabulação!B10,Tabulação!D10:CW10)) | D10: =IF((SUM(Tabulação!B10:CW10))=0,"", SUM(Tabulação!B10:C10,Tabulação!E10:CW10)) | E10: =IF((SUM(Tabulação!B10:CW10))=0,"", SUM(Tabulação!B10:D10,Tabulação!F10:CW10)) | F10: =IF((SUM(Tabulação!B10:CW10))=0,"", SUM(Tabulação!B10:E10,Tabulação!G10:CW10)) | G10: =IF((SUM(Tabulação!B10:CW10))=0,"", SUM(Tabulação!B10:F10,Tabulação!H10:CW10)) | H10: =IF((SUM(Tabulação!B10:CW10))=0,"", SUM(Tabulação!B10:G10,Tabulação!I10:CW10)) | I10: =IF((SUM(Tabulação!B10:CW10))=0,"", SUM(Tabulação!B10:H10,Tabulação!J10:CW10)) | J10: =IF((SUM(Tabulação!B10:CW10))=0,"", SUM(Tabulação!B10:I10,Tabulação!K10:CW10)) | K10: =IF((SUM(Tabulação!B10:CW10))=0,"", SUM(Tabulação!B10:J10,Tabulação!L10:CW10)) | L10: =IF((SUM(Tabulação!B10:CW10))=0,"", SUM(Tabulação!B10:K10,Tabulação!M10:CW10)) | M10: =IF((SUM(Tabulação!B10:CW10))=0,"", SUM(Tabulação!B10:L10,Tabulação!N10:CW10)) | N10: =IF((SUM(Tabulação!B10:CW10))=0,"", SUM(Tabulação!B10:M10,Tabulação!O10:CW10)) | O10: =IF((SUM(Tabulação!B10:CW10))=0,"", SUM(Tabulação!B10:N10,Tabulação!P10:CW10)) | P10: =IF((SUM(Tabulação!B10:CW10))=0,"", SUM(Tabulação!B10:O10,Tabulação!Q10:CW10)) | Q10: =IF((SUM(Tabulação!B10:CW10))=0,"", SUM(Tabulação!B10:P10,Tabulação!R10:CW10)) | R10: =IF((SUM(Tabulação!B10:CW10))=0,"", SUM(Tabulação!B10:Q10,Tabulação!S10:CW10)) | S10: =IF((SUM(Tabulação!B10:CW10))=0,"", SUM(Tabulação!B10:R10,Tabulação!T10:CW10)) | T10: =IF((SUM(Tabulação!B10:CW10))=0,"", SUM(Tabulação!B10:S10,Tabulação!U10:CW10)) | U10: =IF((SUM(Tabulação!B10:CW10))=0,"", SUM(Tabulação!B10:T10,Tabulação!V10:CW10)) | V10: =IF((SUM(Tabulação!B10:CW10))=0,"", SUM(Tabulação!B10:U10,Tabulação!W10:CW10)) | W10: =IF((SUM(Tabulação!B10:CW10))=0,"", SUM(Tabulação!B10:V10,Tabulação!X10:CW10)) | X10: =IF((SUM(Tabulação!B10:CW10))=0,"", SUM(Tabulação!B10:W10,Tabulação!Y10:CW10)) | Y10: =IF((SUM(Tabulação!B10:CW10))=0,"", SUM(Tabulação!B10:X10,Tabulação!Z10:CW10)) | Z10: =IF((SUM(Tabulação!B10:CW10))=0,"", SUM(Tabulação!B10:Y10,Tabulação!AA10:CW10)) | AA10: =IF((SUM(Tabulação!B10:CW10))=0,"", SUM(Tabulação!B10:Z10,Tabulação!AB10:CW10)) | AB10: =IF((SUM(Tabulação!B10:CW10))=0,"", SUM(Tabulação!B10:AA10,Tabulação!AC10:CW10)) | AC10: =IF((SUM(Tabulação!B10:CW10))=0,"", SUM(Tabulação!B10:AB10,Tabulação!AD10:CW10)) | AD10: =IF((SUM(Tabulação!B10:CW10))=0,"", SUM(Tabulação!B10:AC10,Tabulação!AE10:CW10)) | AE10: =IF((SUM(Tabulação!B10:CW10))=0,"", SUM(Tabulação!B10:AD10,Tabulação!AF10:CW10)) | AF10: =IF((SUM(Tabulação!B10:CW10))=0,"", SUM(Tabulação!B10:AE10,Tabulação!AG10:CW10)) | AG10: =IF((SUM(Tabulação!B10:CW10))=0,"", SUM(Tabulação!B10:AF10,Tabulação!AH10:CW10)) | AH10: =IF((SUM(Tabulação!B10:CW10))=0,"", SUM(Tabulação!B10:AG10,Tabulação!AI10:CW10)) | AI10: =IF((SUM(Tabulação!B10:CW10))=0,"", SUM(Tabulação!B10:AH10,Tabulação!AJ10:CW10)) | AJ10: =IF((SUM(Tabulação!B10:CW10))=0,"", SUM(Tabulação!B10:AI10,Tabulação!AK10:CW10)) | AK10: =IF((SUM(Tabulação!B10:CW10))=0,"", SUM(Tabulação!B10:AJ10,Tabulação!AL10:CW10)) | AL10: =IF((SUM(Tabulação!B10:CW10))=0,"", SUM(Tabulação!B10:AK10,Tabulação!AM10:CW10)) | AM10: =IF((SUM(Tabulação!B10:CW10))=0,"", SUM(Tabulação!B10:AL10,Tabulação!AN10:CW10)) | AN10: =IF((SUM(Tabulação!B10:CW10))=0,"", SUM(Tabulação!B10:AM10,Tabulação!AO10:CW10)) | AO10: =IF((SUM(Tabulação!B10:CW10))=0,"", SUM(Tabulação!B10:AN10,Tabulação!AP10:CW10)) | AP10: =IF((SUM(Tabulação!B10:CW10))=0,"", SUM(Tabulação!B10:AO10,Tabulação!AQ10:CW10)) | AQ10: =IF((SUM(Tabulação!B10:CW10))=0,"", SUM(Tabulação!B10:AP10,Tabulação!AR10:CW10)) | AR10: =IF((SUM(Tabulação!B10:CW10))=0,"", SUM(Tabulação!B10:AQ10,Tabulação!AS10:CW10)) | AS10: =IF((SUM(Tabulação!B10:CW10))=0,"", SUM(Tabulação!B10:AR10,Tabulação!AT10:CW10)) | AT10: =IF((SUM(Tabulação!B10:CW10))=0,"", SUM(Tabulação!B10:AS10,Tabulação!AU10:CW10)) | AU10: =IF((SUM(Tabulação!B10:CW10))=0,"", SUM(Tabulação!B10:AT10,Tabulação!AV10:CW10)) | AV10: =IF((SUM(Tabulação!B10:CW10))=0,"", SUM(Tabulação!B10:AU10,Tabulação!AW10:CW10)) | AW10: =IF((SUM(Tabulação!B10:CW10))=0,"", SUM(Tabulação!B10:AV10,Tabulação!AX10:CW10)) | AX10: =IF((SUM(Tabulação!B10:CW10))=0,"", SUM(Tabulação!B10:AW10,Tabulação!AY10:CW10)) | AY10: =IF((SUM(Tabulação!B10:CW10))=0,"", SUM(Tabulação!B10:AX10,Tabulação!AZ10:CW10)) | AZ10: =IF((SUM(Tabulação!B10:CW10))=0,"", SUM(Tabulação!B10:AY10,Tabulação!BA10:CW10)) | BA10: =IF((SUM(Tabulação!B10:CW10))=0,"", SUM(Tabulação!B10:AZ10,Tabulação!BB10:CW10)) | BB10: =IF((SUM(Tabulação!B10:CW10))=0,"", SUM(Tabulação!B10:BA10,Tabulação!BC10:CW10)) | BC10: =IF((SUM(Tabulação!B10:CW10))=0,"", SUM(Tabulação!B10:BB10,Tabulação!BD10:CW10)) | BD10: =IF((SUM(Tabulação!B10:CW10))=0,"", SUM(Tabulação!B10:BC10,Tabulação!BE10:CW10)) | BE10: =IF((SUM(Tabulação!B10:CW10))=0,"", SUM(Tabulação!B10:BD10,Tabulação!BF10:CW10)) | BF10: =IF((SUM(Tabulação!B10:CW10))=0,"", SUM(Tabulação!B10:BE10,Tabulação!BG10:CW10)) | BG10: =IF((SUM(Tabulação!B10:CW10))=0,"", SUM(Tabulação!B10:BF10,Tabulação!BH10:CW10)) | BH10: =IF((SUM(Tabulação!B10:CW10))=0,"", SUM(Tabulação!B10:BG10,Tabulação!BI10:CW10)) | BI10: =IF((SUM(Tabulação!B10:CW10))=0,"", SUM(Tabulação!B10:BH10,Tabulação!BJ10:CW10)) | BJ10: =IF((SUM(Tabulação!B10:CW10))=0,"", SUM(Tabulação!B10:BI10,Tabulação!BK10:CW10)) | BK10: =IF((SUM(Tabulação!B10:CW10))=0,"", SUM(Tabulação!B10:BJ10,Tabulação!BL10:CW10)) | BL10: =IF((SUM(Tabulação!B10:CW10))=0,"", SUM(Tabulação!B10:BK10,Tabulação!BM10:CW10)) | BM10: =IF((SUM(Tabulação!B10:CW10))=0,"", SUM(Tabulação!B10:BL10,Tabulação!BN10:CW10)) | BN10: =IF((SUM(Tabulação!B10:CW10))=0,"", SUM(Tabulação!B10:BM10,Tabulação!BO10:CW10)) | BO10: =IF((SUM(Tabulação!B10:CW10))=0,"", SUM(Tabulação!B10:BN10,Tabulação!BP10:CW10)) | BP10: =IF((SUM(Tabulação!B10:CW10))=0,"", SUM(Tabulação!B10:BO10,Tabulação!BQ10:CW10)) | BQ10: =IF((SUM(Tabulação!B10:CW10))=0,"", SUM(Tabulação!B10:BP10,Tabulação!BR10:CW10)) | BR10: =IF((SUM(Tabulação!B10:CW10))=0,"", SUM(Tabulação!B10:BQ10,Tabulação!BS10:CW10)) | BS10: =IF((SUM(Tabulação!B10:CW10))=0,"", SUM(Tabulação!B10:BR10,Tabulação!BT10:CW10)) | BT10: =IF((SUM(Tabulação!B10:CW10))=0,"", SUM(Tabulação!B10:BS10,Tabulação!BU10:CW10)) | BU10: =IF((SUM(Tabulação!B10:CW10))=0,"", SUM(Tabulação!B10:BT10,Tabulação!BV10:CW10)) | BV10: =IF((SUM(Tabulação!B10:CW10))=0,"", SUM(Tabulação!B10:BU10,Tabulação!BW10:CW10)) | BW10: =IF((SUM(Tabulação!B10:CW10))=0,"", SUM(Tabulação!B10:BV10,Tabulação!BX10:CW10)) | BX10: =IF((SUM(Tabulação!B10:CW10))=0,"", SUM(Tabulação!B10:BW10,Tabulação!BY10:CW10)) | BY10: =IF((SUM(Tabulação!B10:CW10))=0,"", SUM(Tabulação!B10:BX10,Tabulação!BZ10:CW10)) | BZ10: =IF((SUM(Tabulação!B10:CW10))=0,"", SUM(Tabulação!B10:BY10,Tabulação!CA10:CW10)) | CA10: =IF((SUM(Tabulação!B10:CW10))=0,"", SUM(Tabulação!B10:BZ10,Tabulação!CB10:CW10)) | CB10: =IF((SUM(Tabulação!B10:CW10))=0,"", SUM(Tabulação!B10:CA10,Tabulação!CC10:CW10)) | CC10: =IF((SUM(Tabulação!B10:CW10))=0,"", SUM(Tabulação!B10:CB10,Tabulação!CD10:CW10)) | CD10: =IF((SUM(Tabulação!B10:CW10))=0,"", SUM(Tabulação!B10:CC10,Tabulação!CE10:CW10)) | CE10: =IF((SUM(Tabulação!B10:CW10))=0,"", SUM(Tabulação!B10:CD10,Tabulação!CF10:CW10)) | CF10: =IF((SUM(Tabulação!B10:CW10))=0,"", SUM(Tabulação!B10:CE10,Tabulação!CG10:CW10)) | CG10: =IF((SUM(Tabulação!B10:CW10))=0,"", SUM(Tabulação!B10:CF10,Tabulação!CH10:CW10)) | CH10: =IF((SUM(Tabulação!B10:CW10))=0,"", SUM(Tabulação!B10:CG10,Tabulação!CI10:CW10)) | CI10: =IF((SUM(Tabulação!B10:CW10))=0,"", SUM(Tabulação!B10:CH10,Tabulação!CJ10:CW10)) | CJ10: =IF((SUM(Tabulação!B10:CW10))=0,"", SUM(Tabulação!B10:CI10,Tabulação!CK10:CW10)) | CK10: =IF((SUM(Tabulação!B10:CW10))=0,"", SUM(Tabulação!B10:CJ10,Tabulação!CL10:CW10)) | CL10: =IF((SUM(Tabulação!B10:CW10))=0,"", SUM(Tabulação!B10:CK10,Tabulação!CM10:CW10)) | CM10: =IF((SUM(Tabulação!B10:CW10))=0,"", SUM(Tabulação!B10:CL10,Tabulação!CN10:CW10)) | CN10: =IF((SUM(Tabulação!B10:CW10))=0,"", SUM(Tabulação!B10:CM10,Tabulação!CO10:CW10)) | CO10: =IF((SUM(Tabulação!B10:CW10))=0,"", SUM(Tabulação!B10:CN10,Tabulação!CP10:CW10)) | CP10: =IF((SUM(Tabulação!B10:CW10))=0,"", SUM(Tabulação!B10:CO10,Tabulação!CQ10:CW10)) | CQ10: =IF((SUM(Tabulação!B10:CW10))=0,"", SUM(Tabulação!B10:CP10,Tabulação!CR10:CW10)) | CR10: =IF((SUM(Tabulação!B10:CW10))=0,"", SUM(Tabulação!B10:CQ10,Tabulação!CS10:CW10)) | CS10: =IF((SUM(Tabulação!B10:CW10))=0,"", SUM(Tabulação!B10:CR10,Tabulação!CT10:CW10)) | CT10: =IF((SUM(Tabulação!B10:CW10))=0,"", SUM(Tabulação!B10:CS10,Tabulação!CU10:CW10)) | CU10: =IF((SUM(Tabulação!B10:CW10))=0,"", SUM(Tabulação!B10:CT10,Tabulação!CV10:CW10)) | CV10: =IF((SUM(Tabulação!B10:CW10))=0,"", SUM(Tabulação!B10:CU10,Tabulação!CW10:CW10)) | CW10: =IF((SUM(Tabulação!B10:CW10))=0,"", SUM(Tabulação!B10:CV10)) | CY10: =IF((COUNTBLANK(Tabulação!B10:CW10))>=99,"", SUM(Tabulação!B10:CW10))
A11: 10 | B11: =IF((SUM(Tabulação!B11:CW11))=0,"", SUM(Tabulação!C11:CW11)) | C11: =IF((SUM(Tabulação!B11:CW11))=0,"", SUM(Tabulação!B11,Tabulação!D11:CW11)) | D11: =IF((SUM(Tabulação!B11:CW11))=0,"", SUM(Tabulação!B11:C11,Tabulação!E11:CW11)) | E11: =IF((SUM(Tabulação!B11:CW11))=0,"", SUM(Tabulação!B11:D11,Tabulação!F11:CW11)) | F11: =IF((SUM(Tabulação!B11:CW11))=0,"", SUM(Tabulação!B11:E11,Tabulação!G11:CW11)) | G11: =IF((SUM(Tabulação!B11:CW11))=0,"", SUM(Tabulação!B11:F11,Tabulação!H11:CW11)) | H11: =IF((SUM(Tabulação!B11:CW11))=0,"", SUM(Tabulação!B11:G11,Tabulação!I11:CW11)) | I11: =IF((SUM(Tabulação!B11:CW11))=0,"", SUM(Tabulação!B11:H11,Tabulação!J11:CW11)) | J11: =IF((SUM(Tabulação!B11:CW11))=0,"", SUM(Tabulação!B11:I11,Tabulação!K11:CW11)) | K11: =IF((SUM(Tabulação!B11:CW11))=0,"", SUM(Tabulação!B11:J11,Tabulação!L11:CW11)) | L11: =IF((SUM(Tabulação!B11:CW11))=0,"", SUM(Tabulação!B11:K11,Tabulação!M11:CW11)) | M11: =IF((SUM(Tabulação!B11:CW11))=0,"", SUM(Tabulação!B11:L11,Tabulação!N11:CW11)) | N11: =IF((SUM(Tabulação!B11:CW11))=0,"", SUM(Tabulação!B11:M11,Tabulação!O11:CW11)) | O11: =IF((SUM(Tabulação!B11:CW11))=0,"", SUM(Tabulação!B11:N11,Tabulação!P11:CW11)) | P11: =IF((SUM(Tabulação!B11:CW11))=0,"", SUM(Tabulação!B11:O11,Tabulação!Q11:CW11)) | Q11: =IF((SUM(Tabulação!B11:CW11))=0,"", SUM(Tabulação!B11:P11,Tabulação!R11:CW11)) | R11: =IF((SUM(Tabulação!B11:CW11))=0,"", SUM(Tabulação!B11:Q11,Tabulação!S11:CW11)) | S11: =IF((SUM(Tabulação!B11:CW11))=0,"", SUM(Tabulação!B11:R11,Tabulação!T11:CW11)) | T11: =IF((SUM(Tabulação!B11:CW11))=0,"", SUM(Tabulação!B11:S11,Tabulação!U11:CW11)) | U11: =IF((SUM(Tabulação!B11:CW11))=0,"", SUM(Tabulação!B11:T11,Tabulação!V11:CW11)) | V11: =IF((SUM(Tabulação!B11:CW11))=0,"", SUM(Tabulação!B11:U11,Tabulação!W11:CW11)) | W11: =IF((SUM(Tabulação!B11:CW11))=0,"", SUM(Tabulação!B11:V11,Tabulação!X11:CW11)) | X11: =IF((SUM(Tabulação!B11:CW11))=0,"", SUM(Tabulação!B11:W11,Tabulação!Y11:CW11)) | Y11: =IF((SUM(Tabulação!B11:CW11))=0,"", SUM(Tabulação!B11:X11,Tabulação!Z11:CW11)) | Z11: =IF((SUM(Tabulação!B11:CW11))=0,"", SUM(Tabulação!B11:Y11,Tabulação!AA11:CW11)) | AA11: =IF((SUM(Tabulação!B11:CW11))=0,"", SUM(Tabulação!B11:Z11,Tabulação!AB11:CW11)) | AB11: =IF((SUM(Tabulação!B11:CW11))=0,"", SUM(Tabulação!B11:AA11,Tabulação!AC11:CW11)) | AC11: =IF((SUM(Tabulação!B11:CW11))=0,"", SUM(Tabulação!B11:AB11,Tabulação!AD11:CW11)) | AD11: =IF((SUM(Tabulação!B11:CW11))=0,"", SUM(Tabulação!B11:AC11,Tabulação!AE11:CW11)) | AE11: =IF((SUM(Tabulação!B11:CW11))=0,"", SUM(Tabulação!B11:AD11,Tabulação!AF11:CW11)) | AF11: =IF((SUM(Tabulação!B11:CW11))=0,"", SUM(Tabulação!B11:AE11,Tabulação!AG11:CW11)) | AG11: =IF((SUM(Tabulação!B11:CW11))=0,"", SUM(Tabulação!B11:AF11,Tabulação!AH11:CW11)) | AH11: =IF((SUM(Tabulação!B11:CW11))=0,"", SUM(Tabulação!B11:AG11,Tabulação!AI11:CW11)) | AI11: =IF((SUM(Tabulação!B11:CW11))=0,"", SUM(Tabulação!B11:AH11,Tabulação!AJ11:CW11)) | AJ11: =IF((SUM(Tabulação!B11:CW11))=0,"", SUM(Tabulação!B11:AI11,Tabulação!AK11:CW11)) | AK11: =IF((SUM(Tabulação!B11:CW11))=0,"", SUM(Tabulação!B11:AJ11,Tabulação!AL11:CW11)) | AL11: =IF((SUM(Tabulação!B11:CW11))=0,"", SUM(Tabulação!B11:AK11,Tabulação!AM11:CW11)) | AM11: =IF((SUM(Tabulação!B11:CW11))=0,"", SUM(Tabulação!B11:AL11,Tabulação!AN11:CW11)) | AN11: =IF((SUM(Tabulação!B11:CW11))=0,"", SUM(Tabulação!B11:AM11,Tabulação!AO11:CW11)) | AO11: =IF((SUM(Tabulação!B11:CW11))=0,"", SUM(Tabulação!B11:AN11,Tabulação!AP11:CW11)) | AP11: =IF((SUM(Tabulação!B11:CW11))=0,"", SUM(Tabulação!B11:AO11,Tabulação!AQ11:CW11)) | AQ11: =IF((SUM(Tabulação!B11:CW11))=0,"", SUM(Tabulação!B11:AP11,Tabulação!AR11:CW11)) | AR11: =IF((SUM(Tabulação!B11:CW11))=0,"", SUM(Tabulação!B11:AQ11,Tabulação!AS11:CW11)) | AS11: =IF((SUM(Tabulação!B11:CW11))=0,"", SUM(Tabulação!B11:AR11,Tabulação!AT11:CW11)) | AT11: =IF((SUM(Tabulação!B11:CW11))=0,"", SUM(Tabulação!B11:AS11,Tabulação!AU11:CW11)) | AU11: =IF((SUM(Tabulação!B11:CW11))=0,"", SUM(Tabulação!B11:AT11,Tabulação!AV11:CW11)) | AV11: =IF((SUM(Tabulação!B11:CW11))=0,"", SUM(Tabulação!B11:AU11,Tabulação!AW11:CW11)) | AW11: =IF((SUM(Tabulação!B11:CW11))=0,"", SUM(Tabulação!B11:AV11,Tabulação!AX11:CW11)) | AX11: =IF((SUM(Tabulação!B11:CW11))=0,"", SUM(Tabulação!B11:AW11,Tabulação!AY11:CW11)) | AY11: =IF((SUM(Tabulação!B11:CW11))=0,"", SUM(Tabulação!B11:AX11,Tabulação!AZ11:CW11)) | AZ11: =IF((SUM(Tabulação!B11:CW11))=0,"", SUM(Tabulação!B11:AY11,Tabulação!BA11:CW11)) | BA11: =IF((SUM(Tabulação!B11:CW11))=0,"", SUM(Tabulação!B11:AZ11,Tabulação!BB11:CW11)) | BB11: =IF((SUM(Tabulação!B11:CW11))=0,"", SUM(Tabulação!B11:BA11,Tabulação!BC11:CW11)) | BC11: =IF((SUM(Tabulação!B11:CW11))=0,"", SUM(Tabulação!B11:BB11,Tabulação!BD11:CW11)) | BD11: =IF((SUM(Tabulação!B11:CW11))=0,"", SUM(Tabulação!B11:BC11,Tabulação!BE11:CW11)) | BE11: =IF((SUM(Tabulação!B11:CW11))=0,"", SUM(Tabulação!B11:BD11,Tabulação!BF11:CW11)) | BF11: =IF((SUM(Tabulação!B11:CW11))=0,"", SUM(Tabulação!B11:BE11,Tabulação!BG11:CW11)) | BG11: =IF((SUM(Tabulação!B11:CW11))=0,"", SUM(Tabulação!B11:BF11,Tabulação!BH11:CW11)) | BH11: =IF((SUM(Tabulação!B11:CW11))=0,"", SUM(Tabulação!B11:BG11,Tabulação!BI11:CW11)) | BI11: =IF((SUM(Tabulação!B11:CW11))=0,"", SUM(Tabulação!B11:BH11,Tabulação!BJ11:CW11)) | BJ11: =IF((SUM(Tabulação!B11:CW11))=0,"", SUM(Tabulação!B11:BI11,Tabulação!BK11:CW11)) | BK11: =IF((SUM(Tabulação!B11:CW11))=0,"", SUM(Tabulação!B11:BJ11,Tabulação!BL11:CW11)) | BL11: =IF((SUM(Tabulação!B11:CW11))=0,"", SUM(Tabulação!B11:BK11,Tabulação!BM11:CW11)) | BM11: =IF((SUM(Tabulação!B11:CW11))=0,"", SUM(Tabulação!B11:BL11,Tabulação!BN11:CW11)) | BN11: =IF((SUM(Tabulação!B11:CW11))=0,"", SUM(Tabulação!B11:BM11,Tabulação!BO11:CW11)) | BO11: =IF((SUM(Tabulação!B11:CW11))=0,"", SUM(Tabulação!B11:BN11,Tabulação!BP11:CW11)) | BP11: =IF((SUM(Tabulação!B11:CW11))=0,"", SUM(Tabulação!B11:BO11,Tabulação!BQ11:CW11)) | BQ11: =IF((SUM(Tabulação!B11:CW11))=0,"", SUM(Tabulação!B11:BP11,Tabulação!BR11:CW11)) | BR11: =IF((SUM(Tabulação!B11:CW11))=0,"", SUM(Tabulação!B11:BQ11,Tabulação!BS11:CW11)) | BS11: =IF((SUM(Tabulação!B11:CW11))=0,"", SUM(Tabulação!B11:BR11,Tabulação!BT11:CW11)) | BT11: =IF((SUM(Tabulação!B11:CW11))=0,"", SUM(Tabulação!B11:BS11,Tabulação!BU11:CW11)) | BU11: =IF((SUM(Tabulação!B11:CW11))=0,"", SUM(Tabulação!B11:BT11,Tabulação!BV11:CW11)) | BV11: =IF((SUM(Tabulação!B11:CW11))=0,"", SUM(Tabulação!B11:BU11,Tabulação!BW11:CW11)) | BW11: =IF((SUM(Tabulação!B11:CW11))=0,"", SUM(Tabulação!B11:BV11,Tabulação!BX11:CW11)) | BX11: =IF((SUM(Tabulação!B11:CW11))=0,"", SUM(Tabulação!B11:BW11,Tabulação!BY11:CW11)) | BY11: =IF((SUM(Tabulação!B11:CW11))=0,"", SUM(Tabulação!B11:BX11,Tabulação!BZ11:CW11)) | BZ11: =IF((SUM(Tabulação!B11:CW11))=0,"", SUM(Tabulação!B11:BY11,Tabulação!CA11:CW11)) | CA11: =IF((SUM(Tabulação!B11:CW11))=0,"", SUM(Tabulação!B11:BZ11,Tabulação!CB11:CW11)) | CB11: =IF((SUM(Tabulação!B11:CW11))=0,"", SUM(Tabulação!B11:CA11,Tabulação!CC11:CW11)) | CC11: =IF((SUM(Tabulação!B11:CW11))=0,"", SUM(Tabulação!B11:CB11,Tabulação!CD11:CW11)) | CD11: =IF((SUM(Tabulação!B11:CW11))=0,"", SUM(Tabulação!B11:CC11,Tabulação!CE11:CW11)) | CE11: =IF((SUM(Tabulação!B11:CW11))=0,"", SUM(Tabulação!B11:CD11,Tabulação!CF11:CW11)) | CF11: =IF((SUM(Tabulação!B11:CW11))=0,"", SUM(Tabulação!B11:CE11,Tabulação!CG11:CW11)) | CG11: =IF((SUM(Tabulação!B11:CW11))=0,"", SUM(Tabulação!B11:CF11,Tabulação!CH11:CW11)) | CH11: =IF((SUM(Tabulação!B11:CW11))=0,"", SUM(Tabulação!B11:CG11,Tabulação!CI11:CW11)) | CI11: =IF((SUM(Tabulação!B11:CW11))=0,"", SUM(Tabulação!B11:CH11,Tabulação!CJ11:CW11)) | CJ11: =IF((SUM(Tabulação!B11:CW11))=0,"", SUM(Tabulação!B11:CI11,Tabulação!CK11:CW11)) | CK11: =IF((SUM(Tabulação!B11:CW11))=0,"", SUM(Tabulação!B11:CJ11,Tabulação!CL11:CW11)) | CL11: =IF((SUM(Tabulação!B11:CW11))=0,"", SUM(Tabulação!B11:CK11,Tabulação!CM11:CW11)) | CM11: =IF((SUM(Tabulação!B11:CW11))=0,"", SUM(Tabulação!B11:CL11,Tabulação!CN11:CW11)) | CN11: =IF((SUM(Tabulação!B11:CW11))=0,"", SUM(Tabulação!B11:CM11,Tabulação!CO11:CW11)) | CO11: =IF((SUM(Tabulação!B11:CW11))=0,"", SUM(Tabulação!B11:CN11,Tabulação!CP11:CW11)) | CP11: =IF((SUM(Tabulação!B11:CW11))=0,"", SUM(Tabulação!B11:CO11,Tabulação!CQ11:CW11)) | CQ11: =IF((SUM(Tabulação!B11:CW11))=0,"", SUM(Tabulação!B11:CP11,Tabulação!CR11:CW11)) | CR11: =IF((SUM(Tabulação!B11:CW11))=0,"", SUM(Tabulação!B11:CQ11,Tabulação!CS11:CW11)) | CS11: =IF((SUM(Tabulação!B11:CW11))=0,"", SUM(Tabulação!B11:CR11,Tabulação!CT11:CW11)) | CT11: =IF((SUM(Tabulação!B11:CW11))=0,"", SUM(Tabulação!B11:CS11,Tabulação!CU11:CW11)) | CU11: =IF((SUM(Tabulação!B11:CW11))=0,"", SUM(Tabulação!B11:CT11,Tabulação!CV11:CW11)) | CV11: =IF((SUM(Tabulação!B11:CW11))=0,"", SUM(Tabulação!B11:CU11,Tabulação!CW11:CW11)) | CW11: =IF((SUM(Tabulação!B11:CW11))=0,"", SUM(Tabulação!B11:CV11)) | CY11: =IF((COUNTBLANK(Tabulação!B11:CW11))>=99,"", SUM(Tabulação!B11:CW11))
A12: 11 | B12: =IF((SUM(Tabulação!B12:CW12))=0,"", SUM(Tabulação!C12:CW12)) | C12: =IF((SUM(Tabulação!B12:CW12))=0,"", SUM(Tabulação!B12,Tabulação!D12:CW12)) | D12: =IF((SUM(Tabulação!B12:CW12))=0,"", SUM(Tabulação!B12:C12,Tabulação!E12:CW12)) | E12: =IF((SUM(Tabulação!B12:CW12))=0,"", SUM(Tabulação!B12:D12,Tabulação!F12:CW12)) | F12: =IF((SUM(Tabulação!B12:CW12))=0,"", SUM(Tabulação!B12:E12,Tabulação!G12:CW12)) | G12: =IF((SUM(Tabulação!B12:CW12))=0,"", SUM(Tabulação!B12:F12,Tabulação!H12:CW12)) | H12: =IF((SUM(Tabulação!B12:CW12))=0,"", SUM(Tabulação!B12:G12,Tabulação!I12:CW12)) | I12: =IF((SUM(Tabulação!B12:CW12))=0,"", SUM(Tabulação!B12:H12,Tabulação!J12:CW12)) | J12: =IF((SUM(Tabulação!B12:CW12))=0,"", SUM(Tabulação!B12:I12,Tabulação!K12:CW12)) | K12: =IF((SUM(Tabulação!B12:CW12))=0,"", SUM(Tabulação!B12:J12,Tabulação!L12:CW12)) | L12: =IF((SUM(Tabulação!B12:CW12))=0,"", SUM(Tabulação!B12:K12,Tabulação!M12:CW12)) | M12: =IF((SUM(Tabulação!B12:CW12))=0,"", SUM(Tabulação!B12:L12,Tabulação!N12:CW12)) | N12: =IF((SUM(Tabulação!B12:CW12))=0,"", SUM(Tabulação!B12:M12,Tabulação!O12:CW12)) | O12: =IF((SUM(Tabulação!B12:CW12))=0,"", SUM(Tabulação!B12:N12,Tabulação!P12:CW12)) | P12: =IF((SUM(Tabulação!B12:CW12))=0,"", SUM(Tabulação!B12:O12,Tabulação!Q12:CW12)) | Q12: =IF((SUM(Tabulação!B12:CW12))=0,"", SUM(Tabulação!B12:P12,Tabulação!R12:CW12)) | R12: =IF((SUM(Tabulação!B12:CW12))=0,"", SUM(Tabulação!B12:Q12,Tabulação!S12:CW12)) | S12: =IF((SUM(Tabulação!B12:CW12))=0,"", SUM(Tabulação!B12:R12,Tabulação!T12:CW12)) | T12: =IF((SUM(Tabulação!B12:CW12))=0,"", SUM(Tabulação!B12:S12,Tabulação!U12:CW12)) | U12: =IF((SUM(Tabulação!B12:CW12))=0,"", SUM(Tabulação!B12:T12,Tabulação!V12:CW12)) | V12: =IF((SUM(Tabulação!B12:CW12))=0,"", SUM(Tabulação!B12:U12,Tabulação!W12:CW12)) | W12: =IF((SUM(Tabulação!B12:CW12))=0,"", SUM(Tabulação!B12:V12,Tabulação!X12:CW12)) | X12: =IF((SUM(Tabulação!B12:CW12))=0,"", SUM(Tabulação!B12:W12,Tabulação!Y12:CW12)) | Y12: =IF((SUM(Tabulação!B12:CW12))=0,"", SUM(Tabulação!B12:X12,Tabulação!Z12:CW12)) | Z12: =IF((SUM(Tabulação!B12:CW12))=0,"", SUM(Tabulação!B12:Y12,Tabulação!AA12:CW12)) | AA12: =IF((SUM(Tabulação!B12:CW12))=0,"", SUM(Tabulação!B12:Z12,Tabulação!AB12:CW12)) | AB12: =IF((SUM(Tabulação!B12:CW12))=0,"", SUM(Tabulação!B12:AA12,Tabulação!AC12:CW12)) | AC12: =IF((SUM(Tabulação!B12:CW12))=0,"", SUM(Tabulação!B12:AB12,Tabulação!AD12:CW12)) | AD12: =IF((SUM(Tabulação!B12:CW12))=0,"", SUM(Tabulação!B12:AC12,Tabulação!AE12:CW12)) | AE12: =IF((SUM(Tabulação!B12:CW12))=0,"", SUM(Tabulação!B12:AD12,Tabulação!AF12:CW12)) | AF12: =IF((SUM(Tabulação!B12:CW12))=0,"", SUM(Tabulação!B12:AE12,Tabulação!AG12:CW12)) | AG12: =IF((SUM(Tabulação!B12:CW12))=0,"", SUM(Tabulação!B12:AF12,Tabulação!AH12:CW12)) | AH12: =IF((SUM(Tabulação!B12:CW12))=0,"", SUM(Tabulação!B12:AG12,Tabulação!AI12:CW12)) | AI12: =IF((SUM(Tabulação!B12:CW12))=0,"", SUM(Tabulação!B12:AH12,Tabulação!AJ12:CW12)) | AJ12: =IF((SUM(Tabulação!B12:CW12))=0,"", SUM(Tabulação!B12:AI12,Tabulação!AK12:CW12)) | AK12: =IF((SUM(Tabulação!B12:CW12))=0,"", SUM(Tabulação!B12:AJ12,Tabulação!AL12:CW12)) | AL12: =IF((SUM(Tabulação!B12:CW12))=0,"", SUM(Tabulação!B12:AK12,Tabulação!AM12:CW12)) | AM12: =IF((SUM(Tabulação!B12:CW12))=0,"", SUM(Tabulação!B12:AL12,Tabulação!AN12:CW12)) | AN12: =IF((SUM(Tabulação!B12:CW12))=0,"", SUM(Tabulação!B12:AM12,Tabulação!AO12:CW12)) | AO12: =IF((SUM(Tabulação!B12:CW12))=0,"", SUM(Tabulação!B12:AN12,Tabulação!AP12:CW12)) | AP12: =IF((SUM(Tabulação!B12:CW12))=0,"", SUM(Tabulação!B12:AO12,Tabulação!AQ12:CW12)) | AQ12: =IF((SUM(Tabulação!B12:CW12))=0,"", SUM(Tabulação!B12:AP12,Tabulação!AR12:CW12)) | AR12: =IF((SUM(Tabulação!B12:CW12))=0,"", SUM(Tabulação!B12:AQ12,Tabulação!AS12:CW12)) | AS12: =IF((SUM(Tabulação!B12:CW12))=0,"", SUM(Tabulação!B12:AR12,Tabulação!AT12:CW12)) | AT12: =IF((SUM(Tabulação!B12:CW12))=0,"", SUM(Tabulação!B12:AS12,Tabulação!AU12:CW12)) | AU12: =IF((SUM(Tabulação!B12:CW12))=0,"", SUM(Tabulação!B12:AT12,Tabulação!AV12:CW12)) | AV12: =IF((SUM(Tabulação!B12:CW12))=0,"", SUM(Tabulação!B12:AU12,Tabulação!AW12:CW12)) | AW12: =IF((SUM(Tabulação!B12:CW12))=0,"", SUM(Tabulação!B12:AV12,Tabulação!AX12:CW12)) | AX12: =IF((SUM(Tabulação!B12:CW12))=0,"", SUM(Tabulação!B12:AW12,Tabulação!AY12:CW12)) | AY12: =IF((SUM(Tabulação!B12:CW12))=0,"", SUM(Tabulação!B12:AX12,Tabulação!AZ12:CW12)) | AZ12: =IF((SUM(Tabulação!B12:CW12))=0,"", SUM(Tabulação!B12:AY12,Tabulação!BA12:CW12)) | BA12: =IF((SUM(Tabulação!B12:CW12))=0,"", SUM(Tabulação!B12:AZ12,Tabulação!BB12:CW12)) | BB12: =IF((SUM(Tabulação!B12:CW12))=0,"", SUM(Tabulação!B12:BA12,Tabulação!BC12:CW12)) | BC12: =IF((SUM(Tabulação!B12:CW12))=0,"", SUM(Tabulação!B12:BB12,Tabulação!BD12:CW12)) | BD12: =IF((SUM(Tabulação!B12:CW12))=0,"", SUM(Tabulação!B12:BC12,Tabulação!BE12:CW12)) | BE12: =IF((SUM(Tabulação!B12:CW12))=0,"", SUM(Tabulação!B12:BD12,Tabulação!BF12:CW12)) | BF12: =IF((SUM(Tabulação!B12:CW12))=0,"", SUM(Tabulação!B12:BE12,Tabulação!BG12:CW12)) | BG12: =IF((SUM(Tabulação!B12:CW12))=0,"", SUM(Tabulação!B12:BF12,Tabulação!BH12:CW12)) | BH12: =IF((SUM(Tabulação!B12:CW12))=0,"", SUM(Tabulação!B12:BG12,Tabulação!BI12:CW12)) | BI12: =IF((SUM(Tabulação!B12:CW12))=0,"", SUM(Tabulação!B12:BH12,Tabulação!BJ12:CW12)) | BJ12: =IF((SUM(Tabulação!B12:CW12))=0,"", SUM(Tabulação!B12:BI12,Tabulação!BK12:CW12)) | BK12: =IF((SUM(Tabulação!B12:CW12))=0,"", SUM(Tabulação!B12:BJ12,Tabulação!BL12:CW12)) | BL12: =IF((SUM(Tabulação!B12:CW12))=0,"", SUM(Tabulação!B12:BK12,Tabulação!BM12:CW12)) | BM12: =IF((SUM(Tabulação!B12:CW12))=0,"", SUM(Tabulação!B12:BL12,Tabulação!BN12:CW12)) | BN12: =IF((SUM(Tabulação!B12:CW12))=0,"", SUM(Tabulação!B12:BM12,Tabulação!BO12:CW12)) | BO12: =IF((SUM(Tabulação!B12:CW12))=0,"", SUM(Tabulação!B12:BN12,Tabulação!BP12:CW12)) | BP12: =IF((SUM(Tabulação!B12:CW12))=0,"", SUM(Tabulação!B12:BO12,Tabulação!BQ12:CW12)) | BQ12: =IF((SUM(Tabulação!B12:CW12))=0,"", SUM(Tabulação!B12:BP12,Tabulação!BR12:CW12)) | BR12: =IF((SUM(Tabulação!B12:CW12))=0,"", SUM(Tabulação!B12:BQ12,Tabulação!BS12:CW12)) | BS12: =IF((SUM(Tabulação!B12:CW12))=0,"", SUM(Tabulação!B12:BR12,Tabulação!BT12:CW12)) | BT12: =IF((SUM(Tabulação!B12:CW12))=0,"", SUM(Tabulação!B12:BS12,Tabulação!BU12:CW12)) | BU12: =IF((SUM(Tabulação!B12:CW12))=0,"", SUM(Tabulação!B12:BT12,Tabulação!BV12:CW12)) | BV12: =IF((SUM(Tabulação!B12:CW12))=0,"", SUM(Tabulação!B12:BU12,Tabulação!BW12:CW12)) | BW12: =IF((SUM(Tabulação!B12:CW12))=0,"", SUM(Tabulação!B12:BV12,Tabulação!BX12:CW12)) | BX12: =IF((SUM(Tabulação!B12:CW12))=0,"", SUM(Tabulação!B12:BW12,Tabulação!BY12:CW12)) | BY12: =IF((SUM(Tabulação!B12:CW12))=0,"", SUM(Tabulação!B12:BX12,Tabulação!BZ12:CW12)) | BZ12: =IF((SUM(Tabulação!B12:CW12))=0,"", SUM(Tabulação!B12:BY12,Tabulação!CA12:CW12)) | CA12: =IF((SUM(Tabulação!B12:CW12))=0,"", SUM(Tabulação!B12:BZ12,Tabulação!CB12:CW12)) | CB12: =IF((SUM(Tabulação!B12:CW12))=0,"", SUM(Tabulação!B12:CA12,Tabulação!CC12:CW12)) | CC12: =IF((SUM(Tabulação!B12:CW12))=0,"", SUM(Tabulação!B12:CB12,Tabulação!CD12:CW12)) | CD12: =IF((SUM(Tabulação!B12:CW12))=0,"", SUM(Tabulação!B12:CC12,Tabulação!CE12:CW12)) | CE12: =IF((SUM(Tabulação!B12:CW12))=0,"", SUM(Tabulação!B12:CD12,Tabulação!CF12:CW12)) | CF12: =IF((SUM(Tabulação!B12:CW12))=0,"", SUM(Tabulação!B12:CE12,Tabulação!CG12:CW12)) | CG12: =IF((SUM(Tabulação!B12:CW12))=0,"", SUM(Tabulação!B12:CF12,Tabulação!CH12:CW12)) | CH12: =IF((SUM(Tabulação!B12:CW12))=0,"", SUM(Tabulação!B12:CG12,Tabulação!CI12:CW12)) | CI12: =IF((SUM(Tabulação!B12:CW12))=0,"", SUM(Tabulação!B12:CH12,Tabulação!CJ12:CW12)) | CJ12: =IF((SUM(Tabulação!B12:CW12))=0,"", SUM(Tabulação!B12:CI12,Tabulação!CK12:CW12)) | CK12: =IF((SUM(Tabulação!B12:CW12))=0,"", SUM(Tabulação!B12:CJ12,Tabulação!CL12:CW12)) | CL12: =IF((SUM(Tabulação!B12:CW12))=0,"", SUM(Tabulação!B12:CK12,Tabulação!CM12:CW12)) | CM12: =IF((SUM(Tabulação!B12:CW12))=0,"", SUM(Tabulação!B12:CL12,Tabulação!CN12:CW12)) | CN12: =IF((SUM(Tabulação!B12:CW12))=0,"", SUM(Tabulação!B12:CM12,Tabulação!CO12:CW12)) | CO12: =IF((SUM(Tabulação!B12:CW12))=0,"", SUM(Tabulação!B12:CN12,Tabulação!CP12:CW12)) | CP12: =IF((SUM(Tabulação!B12:CW12))=0,"", SUM(Tabulação!B12:CO12,Tabulação!CQ12:CW12)) | CQ12: =IF((SUM(Tabulação!B12:CW12))=0,"", SUM(Tabulação!B12:CP12,Tabulação!CR12:CW12)) | CR12: =IF((SUM(Tabulação!B12:CW12))=0,"", SUM(Tabulação!B12:CQ12,Tabulação!CS12:CW12)) | CS12: =IF((SUM(Tabulação!B12:CW12))=0,"", SUM(Tabulação!B12:CR12,Tabulação!CT12:CW12)) | CT12: =IF((SUM(Tabulação!B12:CW12))=0,"", SUM(Tabulação!B12:CS12,Tabulação!CU12:CW12)) | CU12: =IF((SUM(Tabulação!B12:CW12))=0,"", SUM(Tabulação!B12:CT12,Tabulação!CV12:CW12)) | CV12: =IF((SUM(Tabulação!B12:CW12))=0,"", SUM(Tabulação!B12:CU12,Tabulação!CW12:CW12)) | CW12: =IF((SUM(Tabulação!B12:CW12))=0,"", SUM(Tabulação!B12:CV12)) | CY12: =IF((COUNTBLANK(Tabulação!B12:CW12))>=99,"", SUM(Tabulação!B12:CW12))
A13: 12 | B13: =IF((SUM(Tabulação!B13:CW13))=0,"", SUM(Tabulação!C13:CW13)) | C13: =IF((SUM(Tabulação!B13:CW13))=0,"", SUM(Tabulação!B13,Tabulação!D13:CW13)) | D13: =IF((SUM(Tabulação!B13:CW13))=0,"", SUM(Tabulação!B13:C13,Tabulação!E13:CW13)) | E13: =IF((SUM(Tabulação!B13:CW13))=0,"", SUM(Tabulação!B13:D13,Tabulação!F13:CW13)) | F13: =IF((SUM(Tabulação!B13:CW13))=0,"", SUM(Tabulação!B13:E13,Tabulação!G13:CW13)) | G13: =IF((SUM(Tabulação!B13:CW13))=0,"", SUM(Tabulação!B13:F13,Tabulação!H13:CW13)) | H13: =IF((SUM(Tabulação!B13:CW13))=0,"", SUM(Tabulação!B13:G13,Tabulação!I13:CW13)) | I13: =IF((SUM(Tabulação!B13:CW13))=0,"", SUM(Tabulação!B13:H13,Tabulação!J13:CW13)) | J13: =IF((SUM(Tabulação!B13:CW13))=0,"", SUM(Tabulação!B13:I13,Tabulação!K13:CW13)) | K13: =IF((SUM(Tabulação!B13:CW13))=0,"", SUM(Tabulação!B13:J13,Tabulação!L13:CW13)) | L13: =IF((SUM(Tabulação!B13:CW13))=0,"", SUM(Tabulação!B13:K13,Tabulação!M13:CW13)) | M13: =IF((SUM(Tabulação!B13:CW13))=0,"", SUM(Tabulação!B13:L13,Tabulação!N13:CW13)) | N13: =IF((SUM(Tabulação!B13:CW13))=0,"", SUM(Tabulação!B13:M13,Tabulação!O13:CW13)) | O13: =IF((SUM(Tabulação!B13:CW13))=0,"", SUM(Tabulação!B13:N13,Tabulação!P13:CW13)) | P13: =IF((SUM(Tabulação!B13:CW13))=0,"", SUM(Tabulação!B13:O13,Tabulação!Q13:CW13)) | Q13: =IF((SUM(Tabulação!B13:CW13))=0,"", SUM(Tabulação!B13:P13,Tabulação!R13:CW13)) | R13: =IF((SUM(Tabulação!B13:CW13))=0,"", SUM(Tabulação!B13:Q13,Tabulação!S13:CW13)) | S13: =IF((SUM(Tabulação!B13:CW13))=0,"", SUM(Tabulação!B13:R13,Tabulação!T13:CW13)) | T13: =IF((SUM(Tabulação!B13:CW13))=0,"", SUM(Tabulação!B13:S13,Tabulação!U13:CW13)) | U13: =IF((SUM(Tabulação!B13:CW13))=0,"", SUM(Tabulação!B13:T13,Tabulação!V13:CW13)) | V13: =IF((SUM(Tabulação!B13:CW13))=0,"", SUM(Tabulação!B13:U13,Tabulação!W13:CW13)) | W13: =IF((SUM(Tabulação!B13:CW13))=0,"", SUM(Tabulação!B13:V13,Tabulação!X13:CW13)) | X13: =IF((SUM(Tabulação!B13:CW13))=0,"", SUM(Tabulação!B13:W13,Tabulação!Y13:CW13)) | Y13: =IF((SUM(Tabulação!B13:CW13))=0,"", SUM(Tabulação!B13:X13,Tabulação!Z13:CW13)) | Z13: =IF((SUM(Tabulação!B13:CW13))=0,"", SUM(Tabulação!B13:Y13,Tabulação!AA13:CW13)) | AA13: =IF((SUM(Tabulação!B13:CW13))=0,"", SUM(Tabulação!B13:Z13,Tabulação!AB13:CW13)) | AB13: =IF((SUM(Tabulação!B13:CW13))=0,"", SUM(Tabulação!B13:AA13,Tabulação!AC13:CW13)) | AC13: =IF((SUM(Tabulação!B13:CW13))=0,"", SUM(Tabulação!B13:AB13,Tabulação!AD13:CW13)) | AD13: =IF((SUM(Tabulação!B13:CW13))=0,"", SUM(Tabulação!B13:AC13,Tabulação!AE13:CW13)) | AE13: =IF((SUM(Tabulação!B13:CW13))=0,"", SUM(Tabulação!B13:AD13,Tabulação!AF13:CW13)) | AF13: =IF((SUM(Tabulação!B13:CW13))=0,"", SUM(Tabulação!B13:AE13,Tabulação!AG13:CW13)) | AG13: =IF((SUM(Tabulação!B13:CW13))=0,"", SUM(Tabulação!B13:AF13,Tabulação!AH13:CW13)) | AH13: =IF((SUM(Tabulação!B13:CW13))=0,"", SUM(Tabulação!B13:AG13,Tabulação!AI13:CW13)) | AI13: =IF((SUM(Tabulação!B13:CW13))=0,"", SUM(Tabulação!B13:AH13,Tabulação!AJ13:CW13)) | AJ13: =IF((SUM(Tabulação!B13:CW13))=0,"", SUM(Tabulação!B13:AI13,Tabulação!AK13:CW13)) | AK13: =IF((SUM(Tabulação!B13:CW13))=0,"", SUM(Tabulação!B13:AJ13,Tabulação!AL13:CW13)) | AL13: =IF((SUM(Tabulação!B13:CW13))=0,"", SUM(Tabulação!B13:AK13,Tabulação!AM13:CW13)) | AM13: =IF((SUM(Tabulação!B13:CW13))=0,"", SUM(Tabulação!B13:AL13,Tabulação!AN13:CW13)) | AN13: =IF((SUM(Tabulação!B13:CW13))=0,"", SUM(Tabulação!B13:AM13,Tabulação!AO13:CW13)) | AO13: =IF((SUM(Tabulação!B13:CW13))=0,"", SUM(Tabulação!B13:AN13,Tabulação!AP13:CW13)) | AP13: =IF((SUM(Tabulação!B13:CW13))=0,"", SUM(Tabulação!B13:AO13,Tabulação!AQ13:CW13)) | AQ13: =IF((SUM(Tabulação!B13:CW13))=0,"", SUM(Tabulação!B13:AP13,Tabulação!AR13:CW13)) | AR13: =IF((SUM(Tabulação!B13:CW13))=0,"", SUM(Tabulação!B13:AQ13,Tabulação!AS13:CW13)) | AS13: =IF((SUM(Tabulação!B13:CW13))=0,"", SUM(Tabulação!B13:AR13,Tabulação!AT13:CW13)) | AT13: =IF((SUM(Tabulação!B13:CW13))=0,"", SUM(Tabulação!B13:AS13,Tabulação!AU13:CW13)) | AU13: =IF((SUM(Tabulação!B13:CW13))=0,"", SUM(Tabulação!B13:AT13,Tabulação!AV13:CW13)) | AV13: =IF((SUM(Tabulação!B13:CW13))=0,"", SUM(Tabulação!B13:AU13,Tabulação!AW13:CW13)) | AW13: =IF((SUM(Tabulação!B13:CW13))=0,"", SUM(Tabulação!B13:AV13,Tabulação!AX13:CW13)) | AX13: =IF((SUM(Tabulação!B13:CW13))=0,"", SUM(Tabulação!B13:AW13,Tabulação!AY13:CW13)) | AY13: =IF((SUM(Tabulação!B13:CW13))=0,"", SUM(Tabulação!B13:AX13,Tabulação!AZ13:CW13)) | AZ13: =IF((SUM(Tabulação!B13:CW13))=0,"", SUM(Tabulação!B13:AY13,Tabulação!BA13:CW13)) | BA13: =IF((SUM(Tabulação!B13:CW13))=0,"", SUM(Tabulação!B13:AZ13,Tabulação!BB13:CW13)) | BB13: =IF((SUM(Tabulação!B13:CW13))=0,"", SUM(Tabulação!B13:BA13,Tabulação!BC13:CW13)) | BC13: =IF((SUM(Tabulação!B13:CW13))=0,"", SUM(Tabulação!B13:BB13,Tabulação!BD13:CW13)) | BD13: =IF((SUM(Tabulação!B13:CW13))=0,"", SUM(Tabulação!B13:BC13,Tabulação!BE13:CW13)) | BE13: =IF((SUM(Tabulação!B13:CW13))=0,"", SUM(Tabulação!B13:BD13,Tabulação!BF13:CW13)) | BF13: =IF((SUM(Tabulação!B13:CW13))=0,"", SUM(Tabulação!B13:BE13,Tabulação!BG13:CW13)) | BG13: =IF((SUM(Tabulação!B13:CW13))=0,"", SUM(Tabulação!B13:BF13,Tabulação!BH13:CW13)) | BH13: =IF((SUM(Tabulação!B13:CW13))=0,"", SUM(Tabulação!B13:BG13,Tabulação!BI13:CW13)) | BI13: =IF((SUM(Tabulação!B13:CW13))=0,"", SUM(Tabulação!B13:BH13,Tabulação!BJ13:CW13)) | BJ13: =IF((SUM(Tabulação!B13:CW13))=0,"", SUM(Tabulação!B13:BI13,Tabulação!BK13:CW13)) | BK13: =IF((SUM(Tabulação!B13:CW13))=0,"", SUM(Tabulação!B13:BJ13,Tabulação!BL13:CW13)) | BL13: =IF((SUM(Tabulação!B13:CW13))=0,"", SUM(Tabulação!B13:BK13,Tabulação!BM13:CW13)) | BM13: =IF((SUM(Tabulação!B13:CW13))=0,"", SUM(Tabulação!B13:BL13,Tabulação!BN13:CW13)) | BN13: =IF((SUM(Tabulação!B13:CW13))=0,"", SUM(Tabulação!B13:BM13,Tabulação!BO13:CW13)) | BO13: =IF((SUM(Tabulação!B13:CW13))=0,"", SUM(Tabulação!B13:BN13,Tabulação!BP13:CW13)) | BP13: =IF((SUM(Tabulação!B13:CW13))=0,"", SUM(Tabulação!B13:BO13,Tabulação!BQ13:CW13)) | BQ13: =IF((SUM(Tabulação!B13:CW13))=0,"", SUM(Tabulação!B13:BP13,Tabulação!BR13:CW13)) | BR13: =IF((SUM(Tabulação!B13:CW13))=0,"", SUM(Tabulação!B13:BQ13,Tabulação!BS13:CW13)) | BS13: =IF((SUM(Tabulação!B13:CW13))=0,"", SUM(Tabulação!B13:BR13,Tabulação!BT13:CW13)) | BT13: =IF((SUM(Tabulação!B13:CW13))=0,"", SUM(Tabulação!B13:BS13,Tabulação!BU13:CW13)) | BU13: =IF((SUM(Tabulação!B13:CW13))=0,"", SUM(Tabulação!B13:BT13,Tabulação!BV13:CW13)) | BV13: =IF((SUM(Tabulação!B13:CW13))=0,"", SUM(Tabulação!B13:BU13,Tabulação!BW13:CW13)) | BW13: =IF((SUM(Tabulação!B13:CW13))=0,"", SUM(Tabulação!B13:BV13,Tabulação!BX13:CW13)) | BX13: =IF((SUM(Tabulação!B13:CW13))=0,"", SUM(Tabulação!B13:BW13,Tabulação!BY13:CW13)) | BY13: =IF((SUM(Tabulação!B13:CW13))=0,"", SUM(Tabulação!B13:BX13,Tabulação!BZ13:CW13)) | BZ13: =IF((SUM(Tabulação!B13:CW13))=0,"", SUM(Tabulação!B13:BY13,Tabulação!CA13:CW13)) | CA13: =IF((SUM(Tabulação!B13:CW13))=0,"", SUM(Tabulação!B13:BZ13,Tabulação!CB13:CW13)) | CB13: =IF((SUM(Tabulação!B13:CW13))=0,"", SUM(Tabulação!B13:CA13,Tabulação!CC13:CW13)) | CC13: =IF((SUM(Tabulação!B13:CW13))=0,"", SUM(Tabulação!B13:CB13,Tabulação!CD13:CW13)) | CD13: =IF((SUM(Tabulação!B13:CW13))=0,"", SUM(Tabulação!B13:CC13,Tabulação!CE13:CW13)) | CE13: =IF((SUM(Tabulação!B13:CW13))=0,"", SUM(Tabulação!B13:CD13,Tabulação!CF13:CW13)) | CF13: =IF((SUM(Tabulação!B13:CW13))=0,"", SUM(Tabulação!B13:CE13,Tabulação!CG13:CW13)) | CG13: =IF((SUM(Tabulação!B13:CW13))=0,"", SUM(Tabulação!B13:CF13,Tabulação!CH13:CW13)) | CH13: =IF((SUM(Tabulação!B13:CW13))=0,"", SUM(Tabulação!B13:CG13,Tabulação!CI13:CW13)) | CI13: =IF((SUM(Tabulação!B13:CW13))=0,"", SUM(Tabulação!B13:CH13,Tabulação!CJ13:CW13)) | CJ13: =IF((SUM(Tabulação!B13:CW13))=0,"", SUM(Tabulação!B13:CI13,Tabulação!CK13:CW13)) | CK13: =IF((SUM(Tabulação!B13:CW13))=0,"", SUM(Tabulação!B13:CJ13,Tabulação!CL13:CW13)) | CL13: =IF((SUM(Tabulação!B13:CW13))=0,"", SUM(Tabulação!B13:CK13,Tabulação!CM13:CW13)) | CM13: =IF((SUM(Tabulação!B13:CW13))=0,"", SUM(Tabulação!B13:CL13,Tabulação!CN13:CW13)) | CN13: =IF((SUM(Tabulação!B13:CW13))=0,"", SUM(Tabulação!B13:CM13,Tabulação!CO13:CW13)) | CO13: =IF((SUM(Tabulação!B13:CW13))=0,"", SUM(Tabulação!B13:CN13,Tabulação!CP13:CW13)) | CP13: =IF((SUM(Tabulação!B13:CW13))=0,"", SUM(Tabulação!B13:CO13,Tabulação!CQ13:CW13)) | CQ13: =IF((SUM(Tabulação!B13:CW13))=0,"", SUM(Tabulação!B13:CP13,Tabulação!CR13:CW13)) | CR13: =IF((SUM(Tabulação!B13:CW13))=0,"", SUM(Tabulação!B13:CQ13,Tabulação!CS13:CW13)) | CS13: =IF((SUM(Tabulação!B13:CW13))=0,"", SUM(Tabulação!B13:CR13,Tabulação!CT13:CW13)) | CT13: =IF((SUM(Tabulação!B13:CW13))=0,"", SUM(Tabulação!B13:CS13,Tabulação!CU13:CW13)) | CU13: =IF((SUM(Tabulação!B13:CW13))=0,"", SUM(Tabulação!B13:CT13,Tabulação!CV13:CW13)) | CV13: =IF((SUM(Tabulação!B13:CW13))=0,"", SUM(Tabulação!B13:CU13,Tabulação!CW13:CW13)) | CW13: =IF((SUM(Tabulação!B13:CW13))=0,"", SUM(Tabulação!B13:CV13)) | CY13: =IF((COUNTBLANK(Tabulação!B13:CW13))>=99,"", SUM(Tabulação!B13:CW13))
... A1001: 1000 | B1001: =IF((SUM(Tabulação!B1001:CW1001))=0,"", SUM(Tabulação!C1001:CW1001)) | C1001: =IF((SUM(Tabulação!B1001:CW1001))=0,"", SUM(Tabulação!B1001,Tabulação!D1001:CW1001)) | D1001: =IF((SUM(Tabulação!B1001:CW1001))=0,"", SUM(Tabulação!B1001:C1001,Tabulação!E1001:CW1001)) | E1001: =IF((SUM(Tabulação!B1001:CW1001))=0,"", SUM(Tabulação!B1001:D1001,Tabulação!F1001:CW1001)) | F1001: =IF((SUM(Tabulação!B1001:CW1001))=0,"", SUM(Tabulação!B1001:E1001,Tabulação!G1001:CW1001)) | G1001: =IF((SUM(Tabulação!B1001:CW1001))=0,"", SUM(Tabulação!B1001:F1001,Tabulação!H1001:CW1001)) | H1001: =IF((SUM(Tabulação!B1001:CW1001))=0,"", SUM(Tabulação!B1001:G1001,Tabulação!I1001:CW1001)) | I1001: =IF((SUM(Tabulação!B1001:CW1001))=0,"", SUM(Tabulação!B1001:H1001,Tabulação!J1001:CW1001)) | J1001: =IF((SUM(Tabulação!B1001:CW1001))=0,"", SUM(Tabulação!B1001:I1001,Tabulação!K1001:CW1001)) | K1001: =IF((SUM(Tabulação!B1001:CW1001))=0,"", SUM(Tabulação!B1001:J1001,Tabulação!L1001:CW1001)) | L1001: =IF((SUM(Tabulação!B1001:CW1001))=0,"", SUM(Tabulação!B1001:K1001,Tabulação!M1001:CW1001)) | M1001: =IF((SUM(Tabulação!B1001:CW1001))=0,"", SUM(Tabulação!B1001:L1001,Tabulação!N1001:CW1001)) | N1001: =IF((SUM(Tabulação!B1001:CW1001))=0,"", SUM(Tabulação!B1001:M1001,Tabulação!O1001:CW1001)) | O1001: =IF((SUM(Tabulação!B1001:CW1001))=0,"", SUM(Tabulação!B1001:N1001,Tabulação!P1001:CW1001)) | P1001: =IF((SUM(Tabulação!B1001:CW1001))=0,"", SUM(Tabulação!B1001:O1001,Tabulação!Q1001:CW1001)) | Q1001: =IF((SUM(Tabulação!B1001:CW1001))=0,"", SUM(Tabulação!B1001:P1001,Tabulação!R1001:CW1001)) | R1001: =IF((SUM(Tabulação!B1001:CW1001))=0,"", SUM(Tabulação!B1001:Q1001,Tabulação!S1001:CW1001)) | S1001: =IF((SUM(Tabulação!B1001:CW1001))=0,"", SUM(Tabulação!B1001:R1001,Tabulação!T1001:CW1001)) | T1001: =IF((SUM(Tabulação!B1001:CW1001))=0,"", SUM(Tabulação!B1001:S1001,Tabulação!U1001:CW1001)) | U1001: =IF((SUM(Tabulação!B1001:CW1001))=0,"", SUM(Tabulação!B1001:T1001,Tabulação!V1001:CW1001)) | V1001: =IF((SUM(Tabulação!B1001:CW1001))=0,"", SUM(Tabulação!B1001:U1001,Tabulação!W1001:CW1001)) | W1001: =IF((SUM(Tabulação!B1001:CW1001))=0,"", SUM(Tabulação!B1001:V1001,Tabulação!X1001:CW1001)) | X1001: =IF((SUM(Tabulação!B1001:CW1001))=0,"", SUM(Tabulação!B1001:W1001,Tabulação!Y1001:CW1001)) | Y1001: =IF((SUM(Tabulação!B1001:CW1001))=0,"", SUM(Tabulação!B1001:X1001,Tabulação!Z1001:CW1001)) | Z1001: =IF((SUM(Tabulação!B1001:CW1001))=0,"", SUM(Tabulação!B1001:Y1001,Tabulação!AA1001:CW1001)) | AA1001: =IF((SUM(Tabulação!B1001:CW1001))=0,"", SUM(Tabulação!B1001:Z1001,Tabulação!AB1001:CW1001)) | AB1001: =IF((SUM(Tabulação!B1001:CW1001))=0,"", SUM(Tabulação!B1001:AA1001,Tabulação!AC1001:CW1001)) | AC1001: =IF((SUM(Tabulação!B1001:CW1001))=0,"", SUM(Tabulação!B1001:AB1001,Tabulação!AD1001:CW1001)) | AD1001: =IF((SUM(Tabulação!B1001:CW1001))=0,"", SUM(Tabulação!B1001:AC1001,Tabulação!AE1001:CW1001)) | AE1001: =IF((SUM(Tabulação!B1001:CW1001))=0,"", SUM(Tabulação!B1001:AD1001,Tabulação!AF1001:CW1001)) | AF1001: =IF((SUM(Tabulação!B1001:CW1001))=0,"", SUM(Tabulação!B1001:AE1001,Tabulação!AG1001:CW1001)) | AG1001: =IF((SUM(Tabulação!B1001:CW1001))=0,"", SUM(Tabulação!B1001:AF1001,Tabulação!AH1001:CW1001)) | AH1001: =IF((SUM(Tabulação!B1001:CW1001))=0,"", SUM(Tabulação!B1001:AG1001,Tabulação!AI1001:CW1001)) | AI1001: =IF((SUM(Tabulação!B1001:CW1001))=0,"", SUM(Tabulação!B1001:AH1001,Tabulação!AJ1001:CW1001)) | AJ1001: =IF((SUM(Tabulação!B1001:CW1001))=0,"", SUM(Tabulação!B1001:AI1001,Tabulação!AK1001:CW1001)) | AK1001: =IF((SUM(Tabulação!B1001:CW1001))=0,"", SUM(Tabulação!B1001:AJ1001,Tabulação!AL1001:CW1001)) | AL1001: =IF((SUM(Tabulação!B1001:CW1001))=0,"", SUM(Tabulação!B1001:AK1001,Tabulação!AM1001:CW1001)) | AM1001: =IF((SUM(Tabulação!B1001:CW1001))=0,"", SUM(Tabulação!B1001:AL1001,Tabulação!AN1001:CW1001)) | AN1001: =IF((SUM(Tabulação!B1001:CW1001))=0,"", SUM(Tabulação!B1001:AM1001,Tabulação!AO1001:CW1001)) | AO1001: =IF((SUM(Tabulação!B1001:CW1001))=0,"", SUM(Tabulação!B1001:AN1001,Tabulação!AP1001:CW1001)) | AP1001: =IF((SUM(Tabulação!B1001:CW1001))=0,"", SUM(Tabulação!B1001:AO1001,Tabulação!AQ1001:CW1001)) | AQ1001: =IF((SUM(Tabulação!B1001:CW1001))=0,"", SUM(Tabulação!B1001:AP1001,Tabulação!AR1001:CW1001)) | AR1001: =IF((SUM(Tabulação!B1001:CW1001))=0,"", SUM(Tabulação!B1001:AQ1001,Tabulação!AS1001:CW1001)) | AS1001: =IF((SUM(Tabulação!B1001:CW1001))=0,"", SUM(Tabulação!B1001:AR1001,Tabulação!AT1001:CW1001)) | AT1001: =IF((SUM(Tabulação!B1001:CW1001))=0,"", SUM(Tabulação!B1001:AS1001,Tabulação!AU1001:CW1001)) | AU1001: =IF((SUM(Tabulação!B1001:CW1001))=0,"", SUM(Tabulação!B1001:AT1001,Tabulação!AV1001:CW1001)) | AV1001: =IF((SUM(Tabulação!B1001:CW1001))=0,"", SUM(Tabulação!B1001:AU1001,Tabulação!AW1001:CW1001)) | AW1001: =IF((SUM(Tabulação!B1001:CW1001))=0,"", SUM(Tabulação!B1001:AV1001,Tabulação!AX1001:CW1001)) | AX1001: =IF((SUM(Tabulação!B1001:CW1001))=0,"", SUM(Tabulação!B1001:AW1001,Tabulação!AY1001:CW1001)) | AY1001: =IF((SUM(Tabulação!B1001:CW1001))=0,"", SUM(Tabulação!B1001:AX1001,Tabulação!AZ1001:CW1001)) | AZ1001: =IF((SUM(Tabulação!B1001:CW1001))=0,"", SUM(Tabulação!B1001:AY1001,Tabulação!BA1001:CW1001)) | BA1001: =IF((SUM(Tabulação!B1001:CW1001))=0,"", SUM(Tabulação!B1001:AZ1001,Tabulação!BB1001:CW1001)) | BB1001: =IF((SUM(Tabulação!B1001:CW1001))=0,"", SUM(Tabulação!B1001:BA1001,Tabulação!BC1001:CW1001)) | BC1001: =IF((SUM(Tabulação!B1001:CW1001))=0,"", SUM(Tabulação!B1001:BB1001,Tabulação!BD1001:CW1001)) | BD1001: =IF((SUM(Tabulação!B1001:CW1001))=0,"", SUM(Tabulação!B1001:BC1001,Tabulação!BE1001:CW1001)) | BE1001: =IF((SUM(Tabulação!B1001:CW1001))=0,"", SUM(Tabulação!B1001:BD1001,Tabulação!BF1001:CW1001)) | BF1001: =IF((SUM(Tabulação!B1001:CW1001))=0,"", SUM(Tabulação!B1001:BE1001,Tabulação!BG1001:CW1001)) | BG1001: =IF((SUM(Tabulação!B1001:CW1001))=0,"", SUM(Tabulação!B1001:BF1001,Tabulação!BH1001:CW1001)) | BH1001: =IF((SUM(Tabulação!B1001:CW1001))=0,"", SUM(Tabulação!B1001:BG1001,Tabulação!BI1001:CW1001)) | BI1001: =IF((SUM(Tabulação!B1001:CW1001))=0,"", SUM(Tabulação!B1001:BH1001,Tabulação!BJ1001:CW1001)) | BJ1001: =IF((SUM(Tabulação!B1001:CW1001))=0,"", SUM(Tabulação!B1001:BI1001,Tabulação!BK1001:CW1001)) | BK1001: =IF((SUM(Tabulação!B1001:CW1001))=0,"", SUM(Tabulação!B1001:BJ1001,Tabulação!BL1001:CW1001)) | BL1001: =IF((SUM(Tabulação!B1001:CW1001))=0,"", SUM(Tabulação!B1001:BK1001,Tabulação!BM1001:CW1001)) | BM1001: =IF((SUM(Tabulação!B1001:CW1001))=0,"", SUM(Tabulação!B1001:BL1001,Tabulação!BN1001:CW1001)) | BN1001: =IF((SUM(Tabulação!B1001:CW1001))=0,"", SUM(Tabulação!B1001:BM1001,Tabulação!BO1001:CW1001)) | BO1001: =IF((SUM(Tabulação!B1001:CW1001))=0,"", SUM(Tabulação!B1001:BN1001,Tabulação!BP1001:CW1001)) | BP1001: =IF((SUM(Tabulação!B1001:CW1001))=0,"", SUM(Tabulação!B1001:BO1001,Tabulação!BQ1001:CW1001)) | BQ1001: =IF((SUM(Tabulação!B1001:CW1001))=0,"", SUM(Tabulação!B1001:BP1001,Tabulação!BR1001:CW1001)) | BR1001: =IF((SUM(Tabulação!B1001:CW1001))=0,"", SUM(Tabulação!B1001:BQ1001,Tabulação!BS1001:CW1001)) | BS1001: =IF((SUM(Tabulação!B1001:CW1001))=0,"", SUM(Tabulação!B1001:BR1001,Tabulação!BT1001:CW1001)) | BT1001: =IF((SUM(Tabulação!B1001:CW1001))=0,"", SUM(Tabulação!B1001:BS1001,Tabulação!BU1001:CW1001)) | BU1001: =IF((SUM(Tabulação!B1001:CW1001))=0,"", SUM(Tabulação!B1001:BT1001,Tabulação!BV1001:CW1001)) | BV1001: =IF((SUM(Tabulação!B1001:CW1001))=0,"", SUM(Tabulação!B1001:BU1001,Tabulação!BW1001:CW1001)) | BW1001: =IF((SUM(Tabulação!B1001:CW1001))=0,"", SUM(Tabulação!B1001:BV1001,Tabulação!BX1001:CW1001)) | BX1001: =IF((SUM(Tabulação!B1001:CW1001))=0,"", SUM(Tabulação!B1001:BW1001,Tabulação!BY1001:CW1001)) | BY1001: =IF((SUM(Tabulação!B1001:CW1001))=0,"", SUM(Tabulação!B1001:BX1001,Tabulação!BZ1001:CW1001)) | BZ1001: =IF((SUM(Tabulação!B1001:CW1001))=0,"", SUM(Tabulação!B1001:BY1001,Tabulação!CA1001:CW1001)) | CA1001: =IF((SUM(Tabulação!B1001:CW1001))=0,"", SUM(Tabulação!B1001:BZ1001,Tabulação!CB1001:CW1001)) | CB1001: =IF((SUM(Tabulação!B1001:CW1001))=0,"", SUM(Tabulação!B1001:CA1001,Tabulação!CC1001:CW1001)) | CC1001: =IF((SUM(Tabulação!B1001:CW1001))=0,"", SUM(Tabulação!B1001:CB1001,Tabulação!CD1001:CW1001)) | CD1001: =IF((SUM(Tabulação!B1001:CW1001))=0,"", SUM(Tabulação!B1001:CC1001,Tabulação!CE1001:CW1001)) | CE1001: =IF((SUM(Tabulação!B1001:CW1001))=0,"", SUM(Tabulação!B1001:CD1001,Tabulação!CF1001:CW1001)) | CF1001: =IF((SUM(Tabulação!B1001:CW1001))=0,"", SUM(Tabulação!B1001:CE1001,Tabulação!CG1001:CW1001)) | CG1001: =IF((SUM(Tabulação!B1001:CW1001))=0,"", SUM(Tabulação!B1001:CF1001,Tabulação!CH1001:CW1001)) | CH1001: =IF((SUM(Tabulação!B1001:CW1001))=0,"", SUM(Tabulação!B1001:CG1001,Tabulação!CI1001:CW1001)) | CI1001: =IF((SUM(Tabulação!B1001:CW1001))=0,"", SUM(Tabulação!B1001:CH1001,Tabulação!CJ1001:CW1001)) | CJ1001: =IF((SUM(Tabulação!B1001:CW1001))=0,"", SUM(Tabulação!B1001:CI1001,Tabulação!CK1001:CW1001)) | CK1001: =IF((SUM(Tabulação!B1001:CW1001))=0,"", SUM(Tabulação!B1001:CJ1001,Tabulação!CL1001:CW1001)) | CL1001: =IF((SUM(Tabulação!B1001:CW1001))=0,"", SUM(Tabulação!B1001:CK1001,Tabulação!CM1001:CW1001)) | CM1001: =IF((SUM(Tabulação!B1001:CW1001))=0,"", SUM(Tabulação!B1001:CL1001,Tabulação!CN1001:CW1001)) | CN1001: =IF((SUM(Tabulação!B1001:CW1001))=0,"", SUM(Tabulação!B1001:CM1001,Tabulação!CO1001:CW1001)) | CO1001: =IF((SUM(Tabulação!B1001:CW1001))=0,"", SUM(Tabulação!B1001:CN1001,Tabulação!CP1001:CW1001)) | CP1001: =IF((SUM(Tabulação!B1001:CW1001))=0,"", SUM(Tabulação!B1001:CO1001,Tabulação!CQ1001:CW1001)) | CQ1001: =IF((SUM(Tabulação!B1001:CW1001))=0,"", SUM(Tabulação!B1001:CP1001,Tabulação!CR1001:CW1001)) | CR1001: =IF((SUM(Tabulação!B1001:CW1001))=0,"", SUM(Tabulação!B1001:CQ1001,Tabulação!CS1001:CW1001)) | CS1001: =IF((SUM(Tabulação!B1001:CW1001))=0,"", SUM(Tabulação!B1001:CR1001,Tabulação!CT1001:CW1001)) | CT1001: =IF((SUM(Tabulação!B1001:CW1001))=0,"", SUM(Tabulação!B1001:CS1001,Tabulação!CU1001:CW1001)) | CU1001: =IF((SUM(Tabulação!B1001:CW1001))=0,"", SUM(Tabulação!B1001:CT1001,Tabulação!CV1001:CW1001)) | CV1001: =IF((SUM(Tabulação!B1001:CW1001))=0,"", SUM(Tabulação!B1001:CU1001,Tabulação!CW1001:CW1001)) | CW1001: =IF((SUM(Tabulação!B1001:CW1001))=0,"", SUM(Tabulação!B1001:CV1001)) | CY1001: =IF((COUNTBLANK(Tabulação!B1001:CW1001))>=99,"", SUM(Tabulação!B1001:CW1001))

Sheet Cálculos
B1: Q1 | C1: Q2 | D1: Q3 | E1: Q4 | F1: Q5 | G1: Q6 | H1: Q7 | I1: Q8 | J1: Q9 | K1: Q10 | L1: Q11 | M1: Q12 | N1: Q13 | O1: Q14 | P1: Q15 | Q1: Q16 | R1: Q17 | S1: Q18 | T1: Q19 | U1: Q20 | V1: Q21 | W1: Q22 | X1: Q23 | Y1: Q24 | Z1: Q25 | AA1: Q26 | AB1: Q27 | AC1: Q28 | AD1: Q29 | AE1: Q30 | AF1: Q31 | AG1: Q32 | AH1: Q33 | AI1: Q34 | AJ1: Q35 | AK1: Q36 | AL1: Q37 | AM1: Q38 | AN1: Q39 | AO1: Q40 | AP1: Q41 | AQ1: Q42 | AR1: Q43 | AS1: Q44 | AT1: Q45 | AU1: Q46 | AV1: Q47 | AW1: Q48 | AX1: Q49 | AY1: Q50 | AZ1: Q51 | BA1: Q52 | BB1: Q53 | BC1: Q54 | BD1: Q55 | BE1: Q56 | BF1: Q57 | BG1: Q58 | BH1: Q59 | BI1: Q60 | BJ1: Q61 | BK1: Q62 | BL1: Q63 | BM1: Q64 | BN1: Q65 | BO1: Q66 | BP1: Q67 | BQ1: Q68 | BR1: Q69 | BS1: Q70 | BT1: Q71 | BU1: Q72 | BV1: Q73 | BW1: Q74 | BX1: Q75 | BY1: Q76 | BZ1: Q77 | CA1: Q78 | CB1: Q79 | CC1: Q80 | CD1: Q81 | CE1: Q82 | CF1: Q83 | CG1: Q84 | CH1: Q85 | CI1: Q86 | CJ1: Q87 | CK1: Q88 | CL1: Q89 | CM1: Q90 | CN1: Q91 | CO1: Q92 | CP1: Q93 | CQ1: Q94 | CR1: Q95 | CS1: Q96 | CT1: Q97 | CU1: Q98 | CV1: Q99 | CW1: Q100
A2: Variâncias: | B2: =IF((COUNTBLANK(Tabulação!B2:B1001))>=999,"", VAR(Tabulação!B2:B1001)) | C2: =IF((COUNTBLANK(Tabulação!C2:C1001))>=999,"", VAR(Tabulação!C2:C1001)) | D2: =IF((COUNTBLANK(Tabulação!D2:D1001))>=999,"", VAR(Tabulação!D2:D1001)) | E2: =IF((COUNTBLANK(Tabulação!E2:E1001))>=999,"", VAR(Tabulação!E2:E1001)) | F2: =IF((COUNTBLANK(Tabulação!F2:F1001))>=999,"", VAR(Tabulação!F2:F1001)) | G2: =IF((COUNTBLANK(Tabulação!G2:G1001))>=999,"", VAR(Tabulação!G2:G1001)) | H2: =IF((COUNTBLANK(Tabulação!H2:H1001))>=999,"", VAR(Tabulação!H2:H1001)) | I2: =IF((COUNTBLANK(Tabulação!I2:I1001))>=999,"", VAR(Tabulação!I2:I1001)) | ... CW2: =IF((COUNTBLANK(Tabulação!CW2:CW1001))>=999,"", VAR(Tabulação!CW2:CW1001))
A5: Soma das variâncias -Qx | B5: =IF(B2="","",(SUM(B2:CW2)-B2)) | C5: =IF(C2="","",(SUM(B2:CW2)-C2)) | D5: =IF(D2="","",(SUM(B2:CW2)-D2)) | E5: =IF(E2="","",(SUM(B2:CW2)-E2)) | F5: =IF(F2="","",(SUM(B2:CW2)-F2)) | G5: =IF(G2="","",(SUM(B2:CW2)-G2)) | H5: =IF(H2="","",(SUM(B2:CW2)-H2)) | I5: =IF(I2="","",(SUM(B2:CW2)-I2)) | J5: =IF(J2="","",(SUM(B2:CW2)-J2)) | K5: =IF(K2="","",(SUM(B2:CW2)-K2)) | L5: =IF(L2="","",(SUM(B2:CW2)-L2)) | M5: =IF(M2="","",(SUM(B2:CW2)-M2)) | N5: =IF(N2="","",(SUM(B2:CW2)-N2)) | O5: =IF(O2="","",(SUM(B2:CW2)-O2)) | P5: =IF(P2="","",(SUM(B2:CW2)-P2)) | Q5: =IF(Q2="","",(SUM(B2:CW2)-Q2)) | R5: =IF(R2="","",(SUM(B2:CW2)-R2)) | S5: =IF(S2="","",(SUM(B2:CW2)-S2)) | T5: =IF(T2="","",(SUM(B2:CW2)-T2)) | U5: =IF(U2="","",(SUM(B2:CW2)-U2)) | V5: =IF(V2="","",(SUM(B2:CW2)-V2)) | W5: =IF(W2="","",(SUM(B2:CW2)-W2)) | X5: =IF(X2="","",(SUM(B2:CW2)-X2)) | Y5: =IF(Y2="","",(SUM(B2:CW2)-Y2)) | Z5: =IF(Z2="","",(SUM(B2:CW2)-Z2)) | AA5: =IF(AA2="","",(SUM(B2:CW2)-AA2)) | AB5: =IF(AB2="","",(SUM(B2:CW2)-AB2)) | AC5: =IF(AC2="","",(SUM(B2:CW2)-AC2)) | AD5: =IF(AD2="","",(SUM(B2:CW2)-AD2)) | AE5: =IF(AE2="","",(SUM(B2:CW2)-AE2)) | AF5: =IF(AF2="","",(SUM(B2:CW2)-AF2)) | AG5: =IF(AG2="","",(SUM(B2:CW2)-AG2)) | AH5: =IF(AH2="","",(SUM(B2:CW2)-AH2)) | AI5: =IF(AI2="","",(SUM(B2:CW2)-AI2)) | AJ5: =IF(AJ2="","",(SUM(B2:CW2)-AJ2)) | AK5: =IF(AK2="","",(SUM(B2:CW2)-AK2)) | AL5: =IF(AL2="","",(SUM(B2:CW2)-AL2)) | AM5: =IF(AM2="","",(SUM(B2:CW2)-AM2)) | AN5: =IF(AN2="","",(SUM(B2:CW2)-AN2)) | AO5: =IF(AO2="","",(SUM(B2:CW2)-AO2)) | AP5: =IF(AP2="","",(SUM(B2:CW2)-AP2)) | AQ5: =IF(AQ2="","",(SUM(B2:CW2)-AQ2)) | AR5: =IF(AR2="","",(SUM(B2:CW2)-AR2)) | AS5: =IF(AS2="","",(SUM(B2:CW2)-AS2)) | AT5: =IF(AT2="","",(SUM(B2:CW2)-AT2)) | AU5: =IF(AU2="","",(SUM(B2:CW2)-AU2)) | AV5: =IF(AV2="","",(SUM(B2:CW2)-AV2)) | AW5: =IF(AW2="","",(SUM(B2:CW2)-AW2)) | AX5: =IF(AX2="","",(SUM(B2:CW2)-AX2)) | AY5: =IF(AY2="","",(SUM(B2:CW2)-AY2)) | AZ5: =IF(AZ2="","",(SUM(B2:CW2)-AZ2)) | BA5: =IF(BA2="","",(SUM(B2:CW2)-BA2)) | BB5: =IF(BB2="","",(SUM(B2:CW2)-BB2)) | BC5: =IF(BC2="","",(SUM(B2:CW2)-BC2)) | BD5: =IF(BD2="","",(SUM(B2:CW2)-BD2)) | BE5: =IF(BE2="","",(SUM(B2:CW2)-BE2)) | BF5: =IF(BF2="","",(SUM(B2:CW2)-BF2)) | BG5: =IF(BG2="","",(SUM(B2:CW2)-BG2)) | BH5: =IF(BH2="","",(SUM(B2:CW2)-BH2)) | BI5: =IF(BI2="","",(SUM(B2:CW2)-BI2)) | BJ5: =IF(BJ2="","",(SUM(B2:CW2)-BJ2)) | BK5: =IF(BK2="","",(SUM(B2:CW2)-BW2)) | BL5: =IF(BL2="","",(SUM(B2:CW2)-BL2)) | BM5: =IF(BM2="","",(SUM(B2:CW2)-BM2)) | BN5: =IF(BN2="","",(SUM(B2:CW2)-BN2)) | BO5: =IF(BO2="","",(SUM(B2:CW2)-BO2)) | BP5: =IF(BP2="","",(SUM(B2:CW2)-BP2)) | BQ5: =IF(BQ2="","",(SUM(B2:CW2)-BQ2)) | BR5: =IF(BR2="","",(SUM(B2:CW2)-BR2)) | BS5: =IF(BS2="","",(SUM(B2:CW2)-BS2)) | BT5: =IF(BT2="","",(SUM(B2:CW2)-BT2)) | BU5: =IF(BU2="","",(SUM(B2:CW2)-BU2)) | BV5: =IF(BV2="","",(SUM(B2:CW2)-BV2)) | BW5: =IF(BW2="","",(SUM(B2:CW2)-BW2)) | BX5: =IF(BX2="","",(SUM(B2:CW2)-BX2)) | BY5: =IF(BY2="","",(SUM(B2:CW2)-BY2)) | BZ5: =IF(BZ2="","",(SUM(B2:CW2)-BZ2)) | CA5: =IF(CA2="","",(SUM(B2:CW2)-CA2)) | CB5: =IF(CB2="","",(SUM(B2:CW2)-CB2)) | CC5: =IF(CC2="","",(SUM(B2:CW2)-CC2)) | CD5: =IF(CD2="","",(SUM(B2:CW2)-CD2)) | CE5: =IF(CE2="","",(SUM(B2:CW2)-CE2)) | CF5: =IF(CF2="","",(SUM(B2:CW2)-CF2)) | CG5: =IF(CG2="","",(SUM(B2:CW2)-CG2)) | CH5: =IF(CH2="","",(SUM(B2:CW2)-CH2)) | CI5: =IF(CI2="","",(SUM(B2:CW2)-CI2)) | CJ5: =IF(CJ2="","",(SUM(B2:CW2)-CJ2)) | CK5: =IF(CK2="","",(SUM(B2:CW2)-CK2)) | CL5: =IF(CL2="","",(SUM(B2:CW2)-CL2)) | CM5: =IF(CM2="","",(SUM(B2:CW2)-CM2)) | CN5: =IF(CN2="","",(SUM(B2:CW2)-CN2)) | CO5: =IF(CO2="","",(SUM(B2:CW2)-CO2)) | CP5: =IF(CP2="","",(SUM(B2:CW2)-CP2)) | CQ5: =IF(CQ2="","",(SUM(B2:CW2)-CQ2)) | CR5: =IF(CR2="","",(SUM(B2:CW2)-CR2)) | CS5: =IF(CS2="","",(SUM(B2:CW2)-CS2)) | CT5: =IF(CT2="","",(SUM(B2:CW2)-CT2)) | CU5: =IF(CU2="","",(SUM(B2:CW2)-CU2)) | CV5: =IF(CV2="","",(SUM(B2:CW2)-CV2)) | CW5: =IF(CW2="","",(SUM(B2:CW2)-CW2))
A8: Variável omitida: | B8: =IF(COUNTBLANK(Tabulação!B2:B1001)=1000,"",((Cálculos!F11-1)/(Cálculos!F11-2))*(1-(B5)/(VAR(Somas!B2:B1001)))) | C8: =IF(COUNTBLANK(Tabulação!C2:C1001)=1000,"",((Cálculos!F11-1)/(Cálculos!F11-2))*(1-(C5)/(VAR(Somas!C2:C1001)))) | D8: =IF(COUNTBLANK(Tabulação!D2:D1001)=1000,"",((Cálculos!F11-1)/(Cálculos!F11-2))*(1-(D5)/(VAR(Somas!D2:D1001)))) | E8: =IF(COUNTBLANK(Tabulação!E2:E1001)=1000,"",((Cálculos!F11-1)/(Cálculos!F11-2))*(1-(E5)/(VAR(Somas!E2:E1001)))) | F8: =IF(COUNTBLANK(Tabulação!F2:F1001)=1000,"",((Cálculos!F11-1)/(Cálculos!F11-2))*(1-(F5)/(VAR(Somas!F2:F1001)))) | G8: =IF(COUNTBLANK(Tabulação!G2:G1001)=1000,"",((Cálculos!F11-1)/(Cálculos!F11-2))*(1-(G5)/(VAR(Somas!G2:G1001)))) | H8: =IF(COUNTBLANK(Tabulação!H2:H1001)=1000,"",((Cálculos!F11-1)/(Cálculos!F11-2))*(1-(H5)/(VAR(Somas!H2:H1001)))) | I8: =IF(COUNTBLANK(Tabulação!I2:I1001)=1000,"",((Cálculos!F11-1)/(Cálculos!F11-2))*(1-(I5)/(VAR(Somas!I2:I1001)))) | J8: =IF(COUNTBLANK(Tabulação!J2:J1001)=1000,"",((Cálculos!F11-1)/(Cálculos!F11-2))*(1-(J5)/(VAR(Somas!J2:J1001)))) | K8: =IF(COUNTBLANK(Tabulação!K2:K1001)=1000,"",((Cálculos!F11-1)/(Cálculos!F11-2))*(1-(K5)/(VAR(Somas!K2:K1001)))) | L8: =IF(COUNTBLANK(Tabulação!L2:L1001)=1000,"",((Cálculos!F11-1)/(Cálculos!F11-2))*(1-(L5)/(VAR(Somas!L2:L1001)))) | M8: =IF(COUNTBLANK(Tabulação!M2:M1001)=1000,"",((Cálculos!F11-1)/(Cálculos!F11-2))*(1-(M5)/(VAR(Somas!M2:M1001)))) | N8: =IF(COUNTBLANK(Tabulação!N2:N1001)=1000,"",((Cálculos!F11-1)/(Cálculos!F11-2))*(1-(N5)/(VAR(Somas!N2:N1001)))) | O8: =IF(COUNTBLANK(Tabulação!O2:O1001)=1000,"",((Cálculos!F11-1)/(Cálculos!F11-2))*(1-(O5)/(VAR(Somas!O2:O1001)))) | P8: =IF(COUNTBLANK(Tabulação!P2:P1001)=1000,"",((Cálculos!F11-1)/(Cálculos!F11-2))*(1-(P5)/(VAR(Somas!P2:P1001)))) | Q8: =IF(COUNTBLANK(Tabulação!Q2:Q1001)=1000,"",((Cálculos!F11-1)/(Cálculos!F11-2))*(1-(Q5)/(VAR(Somas!Q2:Q1001)))) | R8: =IF(COUNTBLANK(Tabulação!R2:R1001)=1000,"",((Cálculos!F11-1)/(Cálculos!F11-2))*(1-(R5)/(VAR(Somas!R2:R1001)))) | S8: =IF(COUNTBLANK(Tabulação!S2:S1001)=1000,"",((Cálculos!F11-1)/(Cálculos!F11-2))*(1-(S5)/(VAR(Somas!S2:S1001)))) | T8: =IF(COUNTBLANK(Tabulação!T2:T1001)=1000,"",((Cálculos!F11-1)/(Cálculos!F11-2))*(1-(T5)/(VAR(Somas!T2:T1001)))) | U8: =IF(COUNTBLANK(Tabulação!U2:U1001)=1000,"",((Cálculos!F11-1)/(Cálculos!F11-2))*(1-(U5)/(VAR(Somas!U2:U1001)))) | V8: =IF(COUNTBLANK(Tabulação!V2:V1001)=1000,"",((Cálculos!F11-1)/(Cálculos!F11-2))*(1-(V5)/(VAR(Somas!V2:V1001)))) | W8: =IF(COUNTBLANK(Tabulação!W2:W1001)=1000,"",((Cálculos!F11-1)/(Cálculos!F11-2))*(1-(W5)/(VAR(Somas!W2:W1001)))) | X8: =IF(COUNTBLANK(Tabulação!X2:X1001)=1000,"",((Cálculos!F11-1)/(Cálculos!F11-2))*(1-(X5)/(VAR(Somas!X2:X1001)))) | Y8: =IF(COUNTBLANK(Tabulação!Y2:Y1001)=1000,"",((Cálculos!F11-1)/(Cálculos!F11-2))*(1-(Y5)/(VAR(Somas!Y2:Y1001)))) | Z8: =IF(COUNTBLANK(Tabulação!Z2:Z1001)=1000,"",((Cálculos!F11-1)/(Cálculos!F11-2))*(1-(Z5)/(VAR(Somas!Z2:Z1001)))) | AA8: =IF(COUNTBLANK(Tabulação!AA2:AA1001)=1000,"",((Cálculos!F11-1)/(Cálculos!F11-2))*(1-(AA5)/(VAR(Somas!AA2:AA1001)))) | AB8: =IF(COUNTBLANK(Tabulação!AB2:AB1001)=1000,"",((Cálculos!F11-1)/(Cálculos!F11-2))*(1-(AB5)/(VAR(Somas!AB2:AB1001)))) | AC8: =IF(COUNTBLANK(Tabulação!AC2:AC1001)=1000,"",((Cálculos!F11-1)/(Cálculos!F11-2))*(1-(AC5)/(VAR(Somas!AC2:AC1001)))) | AD8: =IF(COUNTBLANK(Tabulação!AD2:AD1001)=1000,"",((Cálculos!F11-1)/(Cálculos!F11-2))*(1-(AD5)/(VAR(Somas!AD2:AD1001)))) | AE8: =IF(COUNTBLANK(Tabulação!AE2:AE1001)=1000,"",((Cálculos!F11-1)/(Cálculos!F11-2))*(1-(AE5)/(VAR(Somas!AE2:AE1001)))) | AF8: =IF(COUNTBLANK(Tabulação!AF2:AF1001)=1000,"",((Cálculos!F11-1)/(Cálculos!F11-2))*(1-(AF5)/(VAR(Somas!AF2:AF1001)))) | AG8: =IF(COUNTBLANK(Tabulação!AG2:AG1001)=1000,"",((Cálculos!F11-1)/(Cálculos!F11-2))*(1-(AG5)/(VAR(Somas!AG2:AG1001)))) | AH8: =IF(COUNTBLANK(Tabulação!AH2:AH1001)=1000,"",((Cálculos!F11-1)/(Cálculos!F11-2))*(1-(AH5)/(VAR(Somas!AH2:AH1001)))) | AI8: =IF(COUNTBLANK(Tabulação!AI2:AI1001)=1000,"",((Cálculos!F11-1)/(Cálculos!F11-2))*(1-(AI5)/(VAR(Somas!AI2:AI1001)))) | AJ8: =IF(COUNTBLANK(Tabulação!AJ2:AJ1001)=1000,"",((Cálculos!F11-1)/(Cálculos!F11-2))*(1-(AJ5)/(VAR(Somas!AJ2:AJ1001)))) | AK8: =IF(COUNTBLANK(Tabulação!AK2:AK1001)=1000,"",((Cálculos!F11-1)/(Cálculos!F11-2))*(1-(AK5)/(VAR(Somas!AK2:AK1001)))) | AL8: =IF(COUNTBLANK(Tabulação!AL2:AL1001)=1000,"",((Cálculos!F11-1)/(Cálculos!F11-2))*(1-(AL5)/(VAR(Somas!AL2:AL1001)))) | AM8: =IF(COUNTBLANK(Tabulação!AM2:AM1001)=1000,"",((Cálculos!F11-1)/(Cálculos!F11-2))*(1-(AM5)/(VAR(Somas!AM2:AM1001)))) | AN8: =IF(COUNTBLANK(Tabulação!AN2:AN1001)=1000,"",((Cálculos!F11-1)/(Cálculos!F11-2))*(1-(AN5)/(VAR(Somas!AN2:AN1001)))) | AO8: =IF(COUNTBLANK(Tabulação!AO2:AO1001)=1000,"",((Cálculos!F11-1)/(Cálculos!F11-2))*(1-(AO5)/(VAR(Somas!AO2:AO1001)))) | AP8: =IF(COUNTBLANK(Tabulação!AP2:AP1001)=1000,"",((Cálculos!F11-1)/(Cálculos!F11-2))*(1-(AP5)/(VAR(Somas!AP2:AP1001)))) | AQ8: =IF(COUNTBLANK(Tabulação!AQ2:AQ1001)=1000,"",((Cálculos!F11-1)/(Cálculos!F11-2))*(1-(AQ5)/(VAR(Somas!AQ2:AQ1001)))) | AR8: =IF(COUNTBLANK(Tabulação!AR2:AR1001)=1000,"",((Cálculos!F11-1)/(Cálculos!F11-2))*(1-(AR5)/(VAR(Somas!AR2:AR1001)))) | AS8: =IF(COUNTBLANK(Tabulação!AS2:AS1001)=1000,"",((Cálculos!F11-1)/(Cálculos!F11-2))*(1-(AS5)/(VAR(Somas!AS2:AS1001)))) | AT8: =IF(COUNTBLANK(Tabulação!AT2:AT1001)=1000,"",((Cálculos!F11-1)/(Cálculos!F11-2))*(1-(AT5)/(VAR(Somas!AT2:AT1001)))) | AU8: =IF(COUNTBLANK(Tabulação!AU2:AU1001)=1000,"",((Cálculos!F11-1)/(Cálculos!F11-2))*(1-(AU5)/(VAR(Somas!AU2:AU1001)))) | AV8: =IF(COUNTBLANK(Tabulação!AV2:AV1001)=1000,"",((Cálculos!F11-1)/(Cálculos!F11-2))*(1-(AV5)/(VAR(Somas!AV2:AV1001)))) | AW8: =IF(COUNTBLANK(Tabulação!AW2:AW1001)=1000,"",((Cálculos!F11-1)/(Cálculos!F11-2))*(1-(AW5)/(VAR(Somas!AW2:AW1001)))) | AX8: =IF(COUNTBLANK(Tabulação!AX2:AX1001)=1000,"",((Cálculos!F11-1)/(Cálculos!F11-2))*(1-(AX5)/(VAR(Somas!AX2:AX1001)))) | AY8: =IF(COUNTBLANK(Tabulação!AY2:AY1001)=1000,"",((Cálculos!F11-1)/(Cálculos!F11-2))*(1-(AY5)/(VAR(Somas!AY2:AY1001)))) | AZ8: =IF(COUNTBLANK(Tabulação!AZ2:AZ1001)=1000,"",((Cálculos!F11-1)/(Cálculos!F11-2))*(1-(AZ5)/(VAR(Somas!AZ2:AZ1001)))) | BA8: =IF(COUNTBLANK(Tabulação!BA2:BA1001)=1000,"",((Cálculos!F11-1)/(Cálculos!F11-2))*(1-(BA5)/(VAR(Somas!BA2:BA1001)))) | BB8: =IF(COUNTBLANK(Tabulação!BB2:BB1001)=1000,"",((Cálculos!F11-1)/(Cálculos!F11-2))*(1-(BB5)/(VAR(Somas!BB2:BB1001)))) | BC8: =IF(COUNTBLANK(Tabulação!BC2:BC1001)=1000,"",((Cálculos!F11-1)/(Cálculos!F11-2))*(1-(BC5)/(VAR(Somas!BC2:BC1001)))) | BD8: =IF(COUNTBLANK(Tabulação!BD2:BD1001)=1000,"",((Cálculos!F11-1)/(Cálculos!F11-2))*(1-(BD5)/(VAR(Somas!BD2:BD1001)))) | BE8: =IF(COUNTBLANK(Tabulação!BE2:BE1001)=1000,"",((Cálculos!F11-1)/(Cálculos!F11-2))*(1-(BE5)/(VAR(Somas!BE2:BE1001)))) | BF8: =IF(COUNTBLANK(Tabulação!BF2:BF1001)=1000,"",((Cálculos!F11-1)/(Cálculos!F11-2))*(1-(BF5)/(VAR(Somas!BF2:BF1001)))) | BG8: =IF(COUNTBLANK(Tabulação!BG2:BG1001)=1000,"",((Cálculos!F11-1)/(Cálculos!F11-2))*(1-(BG5)/(VAR(Somas!BG2:BG1001)))) | BH8: =IF(COUNTBLANK(Tabulação!BH2:BH1001)=1000,"",((Cálculos!F11-1)/(Cálculos!F11-2))*(1-(BH5)/(VAR(Somas!BH2:BH1001)))) | BI8: =IF(COUNTBLANK(Tabulação!BI2:BI1001)=1000,"",((Cálculos!F11-1)/(Cálculos!F11-2))*(1-(BI5)/(VAR(Somas!BI2:BI1001)))) | BJ8: =IF(COUNTBLANK(Tabulação!BJ2:BJ1001)=1000,"",((Cálculos!F11-1)/(Cálculos!F11-2))*(1-(BJ5)/(VAR(Somas!BJ2:BJ1001)))) | BK8: =IF(COUNTBLANK(Tabulação!BK2:BK1001)=1000,"",((Cálculos!F11-1)/(Cálculos!F11-2))*(1-(BK5)/(VAR(Somas!BK2:BK1001)))) | BL8: =IF(COUNTBLANK(Tabulação!BL2:BL1001)=1000,"",((Cálculos!F11-1)/(Cálculos!F11-2))*(1-(BL5)/(VAR(Somas!BL2:BL1001)))) | BM8: =IF(COUNTBLANK(Tabulação!BM2:BM1001)=1000,"",((Cálculos!F11-1)/(Cálculos!F11-2))*(1-(BM5)/(VAR(Somas!BM2:BM1001)))) | BN8: =IF(COUNTBLANK(Tabulação!BN2:BN1001)=1000,"",((Cálculos!F11-1)/(Cálculos!F11-2))*(1-(BN5)/(VAR(Somas!BN2:BN1001)))) | BO8: =IF(COUNTBLANK(Tabulação!BO2:BO1001)=1000,"",((Cálculos!F11-1)/(Cálculos!F11-2))*(1-(BO5)/(VAR(Somas!BO2:BO1001)))) | BP8: =IF(COUNTBLANK(Tabulação!BP2:BP1001)=1000,"",((Cálculos!F11-1)/(Cálculos!F11-2))*(1-(BP5)/(VAR(Somas!BP2:BP1001)))) | BQ8: =IF(COUNTBLANK(Tabulação!BQ2:BQ1001)=1000,"",((Cálculos!F11-1)/(Cálculos!F11-2))*(1-(BQ5)/(VAR(Somas!BQ2:BQ1001)))) | BR8: =IF(COUNTBLANK(Tabulação!BR2:BR1001)=1000,"",((Cálculos!F11-1)/(Cálculos!F11-2))*(1-(BR5)/(VAR(Somas!BR2:BR1001)))) | BS8: =IF(COUNTBLANK(Tabulação!BS2:BS1001)=1000,"",((Cálculos!F11-1)/(Cálculos!F11-2))*(1-(BS5)/(VAR(Somas!BS2:BS1001)))) | BT8: =IF(COUNTBLANK(Tabulação!BT2:BT1001)=1000,"",((Cálculos!F11-1)/(Cálculos!F11-2))*(1-(BT5)/(VAR(Somas!BT2:BT1001)))) | BU8: =IF(COUNTBLANK(Tabulação!BU2:BU1001)=1000,"",((Cálculos!F11-1)/(Cálculos!F11-2))*(1-(BU5)/(VAR(Somas!BU2:BU1001)))) | BV8: =IF(COUNTBLANK(Tabulação!BV2:BV1001)=1000,"",((Cálculos!F11-1)/(Cálculos!F11-2))*(1-(BV5)/(VAR(Somas!BV2:BV1001)))) | BW8: =IF(COUNTBLANK(Tabulação!BW2:BW1001)=1000,"",((Cálculos!F11-1)/(Cálculos!F11-2))*(1-(BW5)/(VAR(Somas!BW2:BW1001)))) | BX8: =IF(COUNTBLANK(Tabulação!BX2:BX1001)=1000,"",((Cálculos!F11-1)/(Cálculos!F11-2))*(1-(BX5)/(VAR(Somas!BX2:BX1001)))) | BY8: =IF(COUNTBLANK(Tabulação!BY2:BY1001)=1000,"",((Cálculos!F11-1)/(Cálculos!F11-2))*(1-(BY5)/(VAR(Somas!BY2:BY1001)))) | BZ8: =IF(COUNTBLANK(Tabulação!BZ2:BZ1001)=1000,"",((Cálculos!F11-1)/(Cálculos!F11-2))*(1-(BZ5)/(VAR(Somas!BZ2:BZ1001)))) | CA8: =IF(COUNTBLANK(Tabulação!CA2:CA1001)=1000,"",((Cálculos!F11-1)/(Cálculos!F11-2))*(1-(CA5)/(VAR(Somas!CA2:CA1001)))) | CB8: =IF(COUNTBLANK(Tabulação!CB2:CB1001)=1000,"",((Cálculos!F11-1)/(Cálculos!F11-2))*(1-(CB5)/(VAR(Somas!CB2:CB1001)))) | CC8: =IF(COUNTBLANK(Tabulação!CC2:CC1001)=1000,"",((Cálculos!F11-1)/(Cálculos!F11-2))*(1-(CC5)/(VAR(Somas!CC2:CC1001)))) | CD8: =IF(COUNTBLANK(Tabulação!CD2:CD1001)=1000,"",((Cálculos!F11-1)/(Cálculos!F11-2))*(1-(CD5)/(VAR(Somas!CD2:CD1001)))) | CE8: =IF(COUNTBLANK(Tabulação!CE2:CE1001)=1000,"",((Cálculos!F11-1)/(Cálculos!F11-2))*(1-(CE5)/(VAR(Somas!CE2:CE1001)))) | CF8: =IF(COUNTBLANK(Tabulação!CF2:CF1001)=1000,"",((Cálculos!F11-1)/(Cálculos!F11-2))*(1-(CF5)/(VAR(Somas!CF2:CF1001)))) | CG8: =IF(COUNTBLANK(Tabulação!CG2:CG1001)=1000,"",((Cálculos!F11-1)/(Cálculos!F11-2))*(1-(CG5)/(VAR(Somas!CG2:CG1001)))) | CH8: =IF(COUNTBLANK(Tabulação!CH2:CH1001)=1000,"",((Cálculos!F11-1)/(Cálculos!F11-2))*(1-(CH5)/(VAR(Somas!CH2:CH1001)))) | CI8: =IF(COUNTBLANK(Tabulação!CI2:CI1001)=1000,"",((Cálculos!F11-1)/(Cálculos!F11-2))*(1-(CI5)/(VAR(Somas!CI2:CI1001)))) | CJ8: =IF(COUNTBLANK(Tabulação!CJ2:CJ1001)=1000,"",((Cálculos!F11-1)/(Cálculos!F11-2))*(1-(CJ5)/(VAR(Somas!CJ2:CJ1001)))) | CK8: =IF(COUNTBLANK(Tabulação!CK2:CK1001)=1000,"",((Cálculos!F11-1)/(Cálculos!F11-2))*(1-(CK5)/(VAR(Somas!CK2:CK1001)))) | CL8: =IF(COUNTBLANK(Tabulação!CL2:CL1001)=1000,"",((Cálculos!F11-1)/(Cálculos!F11-2))*(1-(CL5)/(VAR(Somas!CL2:CL1001)))) | CM8: =IF(COUNTBLANK(Tabulação!CM2:CM1001)=1000,"",((Cálculos!F11-1)/(Cálculos!F11-2))*(1-(CM5)/(VAR(Somas!CM2:CM1001)))) | CN8: =IF(COUNTBLANK(Tabulação!CN2:CN1001)=1000,"",((Cálculos!F11-1)/(Cálculos!F11-2))*(1-(CN5)/(VAR(Somas!CN2:CN1001)))) | CO8: =IF(COUNTBLANK(Tabulação!CO2:CO1001)=1000,"",((Cálculos!F11-1)/(Cálculos!F11-2))*(1-(CO5)/(VAR(Somas!CO2:CO1001)))) | CP8: =IF(COUNTBLANK(Tabulação!CP2:CP1001)=1000,"",((Cálculos!F11-1)/(Cálculos!F11-2))*(1-(CP5)/(VAR(Somas!CP2:CP1001)))) | CQ8: =IF(COUNTBLANK(Tabulação!CQ2:CQ1001)=1000,"",((Cálculos!F11-1)/(Cálculos!F11-2))*(1-(CQ5)/(VAR(Somas!CQ2:CQ1001)))) | CR8: =IF(COUNTBLANK(Tabulação!CR2:CR1001)=1000,"",((Cálculos!F11-1)/(Cálculos!F11-2))*(1-(CR5)/(VAR(Somas!CR2:CR1001)))) | CS8: =IF(COUNTBLANK(Tabulação!CS2:CS1001)=1000,"",((Cálculos!F11-1)/(Cálculos!F11-2))*(1-(CS5)/(VAR(Somas!CS2:CS1001)))) | CT8: =IF(COUNTBLANK(Tabulação!CT2:CT1001)=1000,"",((Cálculos!F11-1)/(Cálculos!F11-2))*(1-(CT5)/(VAR(Somas!CT2:CT1001)))) | CU8: =IF(COUNTBLANK(Tabulação!CU2:CU1001)=1000,"",((Cálculos!F11-1)/(Cálculos!F11-2))*(1-(CU5)/(VAR(Somas!CU2:CU1001)))) | CV8: =IF(COUNTBLANK(Tabulação!CV2:CV1001)=1000,"",((Cálculos!F11-1)/(Cálculos!F11-2))*(1-(CV5)/(VAR(Somas!CV2:CV1001)))) | CW8: =IF(COUNTBLANK(Tabulação!CW2:CW1001)=1000,"",((Cálculos!F11-1)/(Cálculos!F11-2))*(1-(CW5)/(VAR(Somas!CW2:CW1001))))
B11: Número de itens: | F11: =MODE(C18:C67) -> #N/A
B12: Somatória das variâncias: | F12: =SUM(B2:CW2) -> 0
B13: Variância da somatória dos itens: | F13: =VAR(Somas!CY2:CY1001) -> #DIV/0!
B14: Coeficiente alfa de Cronbach: | F14: =(Cálculos!F11/(Cálculos!F11-1))*(1-(F12/F13)) -> #N/A
B18: 1 | C18: =IF(COUNTBLANK(Tabulação!B2:CW2)=100,"",COUNTIF(Tabulação!B2:CW2,"<>"))
B19: 2 | C19: =IF(COUNTBLANK(Tabulação!B3:CW3)=100,"",COUNTIF(Tabulação!B3:CW3,"<>"))
B20: 3 | C20: =IF(COUNTBLANK(Tabulação!B4:CW4)=100,"",COUNTIF(Tabulação!B4:CW4,"<>"))
B21: 4 | C21: =IF(COUNTBLANK(Tabulação!B5:CW5)=100,"",COUNTIF(Tabulação!B5:CW5,"<>"))
B22: 5 | C22: =IF(COUNTBLANK(Tabulação!B6:CW6)=100,"",COUNTIF(Tabulação!B6:CW6,"<>"))
B23: 6 | C23: =IF(COUNTBLANK(Tabulação!B7:CW7)=100,"",COUNTIF(Tabulação!B7:CW7,"<>"))
B24: 7 | C24: =IF(COUNTBLANK(Tabulação!B8:CW8)=100,"",COUNTIF(Tabulação!B8:CW8,"<>"))
B25: 8 | C25: =IF(COUNTBLANK(Tabulação!B9:CW9)=100,"",COUNTIF(Tabulação!B9:CW9,"<>"))
B26: 9 | C26: =IF(COUNTBLANK(Tabulação!B10:CW10)=100,"",COUNTIF(Tabulação!B10:CW10,"<>"))
B27: 10 | C27: =IF(COUNTBLANK(Tabulação!B11:CW11)=100,"",COUNTIF(Tabulação!B11:CW11,"<>"))
B28: 11 | C28: =IF(COUNTBLANK(Tabulação!B12:CW12)=100,"",COUNTIF(Tabulação!B12:CW12,"<>"))
B29: 12 | C29: =IF(COUNTBLANK(Tabulação!B13:CW13)=100,"",COUNTIF(Tabulação!B13:CW13,"<>"))
... B67: 50 | C67: =IF(COUNTBLANK(Tabulação!B51:CW51)=100,"",COUNTIF(Tabulação!B51:CW51,"<>"))

Sheet Resultados
A1: Coeficiente alfa de Cronbach: | D1: =Cálculos!F14 -> #N/A
A5: OMISSÃO DE VARIÁVEIS
A6: VARIÁVEL | B6: VALOR DE ALFA
A7: =IF(B7="","","Q1") | B7: =Cálculos!B8
A8: =IF(B8="","","Q2") | B8: =Cálculos!C8
A9: =IF(B9="","","Q3") | B9: =Cálculos!D8
A10: =IF(B10="","","Q4") | B10: =Cálculos!E8
A11: =IF(B11="","","Q5") | B11: =Cálculos!F8
A12: =IF(B12="","","Q6") | B12: =Cálculos!G8
A13: =IF(B13="","","Q7") | B13: =Cálculos!H8
A14: =IF(B14="","","Q8") | B14: =Cálculos!I8
A15: =IF(B15="","","Q9") | B15: =Cálculos!J8
A16: =IF(B16="","","Q10") | B16: =Cálculos!K8
A17: =IF(B17="","","Q11") | B17: =Cálculos!L8
A18: =IF(B18="","","Q12") | B18: =Cálculos!M8
A19: =IF(B19="","","Q13") | B19: =Cálculos!N8
A20: =IF(B20="","","Q14") | B20: =Cálculos!O8
A21: =IF(B21="","","Q15") | B21: =Cálculos!P8
A22: =IF(B22="","","Q16") | B22: =Cálculos!Q8
A23: =IF(B23="","","Q17") | B23: =Cálculos!R8
A24: =IF(B24="","","Q18") | B24: =Cálculos!S8
A25: =IF(B25="","","Q19") | B25: =Cálculos!T8
A26: =IF(B26="","","Q20") | B26: =Cálculos!U8
A27: =IF(B27="","","Q21") | B27: =Cálculos!V8
A28: =IF(B28="","","Q22") | B28: =Cálculos!W8
A29: =IF(B29="","","Q23") | B29: =Cálculos!X8
A30: =IF(B30="","","Q24") | B30: =Cálculos!Y8
A31: =IF(B31="","","Q25") | B31: =Cálculos!Z8
A32: =IF(B32="","","Q26") | B32: =Cálculos!AA8
A33: =IF(B33="","","Q27") | B33: =Cálculos!AB8
A34: =IF(B34="","","Q28") | B34: =Cálculos!AC8
A35: =IF(B35="","","Q29") | B35: =Cálculos!AD8
A36: =IF(B36="","","Q30") | B36: =Cálculos!AE8
A37: =IF(B37="","","Q31") | B37: =Cálculos!AF8
A38: =IF(B38="","","Q32") | B38: =Cálculos!AG8
A39: =IF(B39="","","Q33") | B39: =Cálculos!AH8
A40: =IF(B40="","","Q34") | B40: =Cálculos!AI8
A41: =IF(B41="","","Q35") | B41: =Cálculos!AJ8
A42: =IF(B42="","","Q36") | B42: =Cálculos!AK8
A43: =IF(B43="","","Q37") | B43: =Cálculos!AL8
A44: =IF(B44="","","Q38") | B44: =Cálculos!AM8
A45: =IF(B45="","","Q39") | B45: =Cálculos!AN8
A46: =IF(B46="","","Q40") | B46: =Cálculos!AO8
A47: =IF(B47="","","Q41") | B47: =Cálculos!AP8
A48: =IF(B48="","","Q42") | B48: =Cálculos!AQ8
A49: =IF(B49="","","Q43") | B49: =Cálculos!AR8
A50: =IF(B50="","","Q44") | B50: =Cálculos!AS8
A51: =IF(B51="","","Q45") | B51: =Cálculos!AT8
A52: =IF(B52="","","Q46") | B52: =Cálculos!AU8
A53: =IF(B53="","","Q47") | B53: =Cálculos!AV8
A54: =IF(B54="","","Q48") | B54: =Cálculos!AW8
A55: =IF(B55="","","Q49") | B55: =Cálculos!AX8
A56: =IF(B56="","","Q50") | B56: =Cálculos!AY8
A57: =IF(B57="","","Q51") | B57: =Cálculos!AZ8
A58: =IF(B58="","","Q52") | B58: =Cálculos!BA8
A59: =IF(B59="","","Q53") | B59: =Cálculos!BB8
A60: =IF(B60="","","Q54") | B60: =Cálculos!BC8
A61: =IF(B61="","","Q55") | B61: =Cálculos!BD8
A62: =IF(B62="","","Q56") | B62: =Cálculos!BE8
A63: =IF(B63="","","Q57") | B63: =Cálculos!BF8
A64: =IF(B64="","","Q58") | B64: =Cálculos!BG8
A65: =IF(B65="","","Q59") | B65: =Cálculos!BH8
A66: =IF(B66="","","Q60") | B66: =Cálculos!BI8
A67: =IF(B67="","","Q61") | B67: =Cálculos!BJ8
A68: =IF(B68="","","Q62") | B68: =Cálculos!BK8
A69: =IF(B69="","","Q63") | B69: =Cálculos!BL8
A70: =IF(B70="","","Q64") | B70: =Cálculos!BM8
A71: =IF(B71="","","Q65") | B71: =Cálculos!BN8
A72: =IF(B72="","","Q66") | B72: =Cálculos!BO8
A73: =IF(B73="","","Q67") | B73: =Cálculos!BP8
A74: =IF(B74="","","Q68") | B74: =Cálculos!BQ8
A75: =IF(B75="","","Q69") | B75: =Cálculos!BR8
A76: =IF(B76="","","Q70") | B76: =Cálculos!BS8
A77: =IF(B77="","","Q71") | B77: =Cálculos!BT8
A78: =IF(B78="","","Q72") | B78: =Cálculos!BU8
A79: =IF(B79="","","Q73") | B79: =Cálculos!BV8
A80: =IF(B80="","","Q74") | B80: =Cálculos!BW8
A81: =IF(B81="","","Q75") | B81: =Cálculos!BX8
A82: =IF(B82="","","Q76") | B82: =Cálculos!BY8
A83: =IF(B83="","","Q77") | B83: =Cálculos!BZ8
A84: =IF(B84="","","Q78") | B84: =Cálculos!CA8
A85: =IF(B85="","","Q79") | B85: =Cálculos!CB8
A86: =IF(B86="","","Q80") | B86: =Cálculos!CC8
A87: =IF(B87="","","Q81") | B87: =Cálculos!CD8
A88: =IF(B88="","","Q82") | B88: =Cálculos!CE8
A89: =IF(B89="","","Q83") | B89: =Cálculos!CF8
A90: =IF(B90="","","Q84") | B90: =Cálculos!CG8
A91: =IF(B91="","","Q85") | B91: =Cálculos!CH8
A92: =IF(B92="","","Q86") | B92: =Cálculos!CI8
A93: =IF(B93="","","Q87") | B93: =Cálculos!CJ8
A94: =IF(B94="","","Q88") | B94: =Cálculos!CK8
A95: =IF(B95="","","Q89") | B95: =Cálculos!CL8
A96: =IF(B96="","","Q90") | B96: =Cálculos!CM8
A97: =IF(B97="","","Q91") | B97: =Cálculos!CN8
A98: =IF(B98="","","Q92") | B98: =Cálculos!CO8
A99: =IF(B99="","","Q93") | B99: =Cálculos!CP8
A100: =IF(B100="","","Q94") | B100: =Cálculos!CQ8
A101: =IF(B101="","","Q95") | B101: =Cálculos!CR8
A102: =IF(B102="","","Q96") | B102: =Cálculos!CS8
A103: =IF(B103="","","Q97") | B103: =Cálculos!CT8
...
