Workbook

Sheet Parte B_Global_Percentagem_A
A1: PARTE B
B2: Nº Respostas | J2: Nº Respostas
B3: Coluna1 | C3: Dimensões da qualidade do trabalho | D3: Nada Importante | E3: Pouco Importante | F3: Mais ou Menos Importante | G3: Importante | H3: Muito Importante | J3: Coluna1 | K3: Dimensões da qualidade do trabalho | L3: Nada Importante + Pouco Importante | M3: Mais ou Menos Importante | N3: Importante + Muito Importante
B4: 1 | C4: Autonomia | D4: 10 | E4: 3 | F4: 41 | G4: 384 | H4: 387 | J4: 1 | K4: Autonomia | L4: 13 | M4: 41 | N4: 771
B5: 2 | C5: Aprendizagem/Formação | D5: 6 | E5: 11 | F5: 22 | G5: 203 | H5: 587 | J5: 2 | K5: Aprendizagem/Formação | L5: 17 | M5: 22 | N5: 790
B6: 3 | C6: Condições físicas de trabalho | D6: 9 | E6: 12 | F6: 64 | G6: 344 | H6: 399 | J6: 3 | K6: Condições físicas de trabalho | L6: 21 | M6: 64 | N6: 743
B7: 4 | C7: Equilíbrio vida profissional / pessoal | D7: 4 | E7: 6 | F7: 40 | G7: 219 | H7: 556 | J7: 4 | K7: Equilíbrio vida profissional / pessoal | L7: 10 | M7: 40 | N7: 775
B8: 5 | C8: Independência | D8: 5 | E8: 10 | F8: 83 | G8: 389 | H8: 337 | J8: 5 | K8: Independência | L8: 15 | M8: 83 | N8: 726
B9: 6 | C9: Possibilidade de progressão na carreira | D9: 18 | E9: 9 | F9: 42 | G9: 248 | H9: 509 | J9: 6 | K9: Possibilidade de progressão na carreira | L9: 27 | M9: 42 | N9: 757
B10: 7 | C10: Recompensas intrínsecas | D10: 21 | E10: 17 | F10: 103 | G10: 341 | H10: 334 | J10: 7 | K10: Recompensas intrínsecas | L10: 38 | M10: 103 | N10: 675
B11: 8 | C11: Relações interpessoais/ambiente social | D11: 5 | E11: 9 | F11: 43 | G11: 270 | H11: 499 | J11: 8 | K11: Relações interpessoais/ambiente social | L11: 14 | M11: 43 | N11: 769
B12: 9 | C12: Remuneração | D12: 13 | E12: 10 | F12: 33 | G12: 276 | H12: 491 | J12: 9 | K12: Remuneração | L12: 23 | M12: 33 | N12: 767
B13: 10 | C13: Saúde | D13: 6 | E13: 4 | F13: 21 | G13: 138 | H13: 661 | J13: 10 | K13: Saúde | L13: 10 | M13: 21 | N13: 799
B14: 11 | C14: Segurança | D14: 8 | E14: 3 | F14: 25 | G14: 187 | H14: 607 | J14: 11 | K14: Segurança | L14: 11 | M14: 25 | N14: 794
B17: Percentagem de respostas | J17: Percentagem de respostas
B18: Coluna1 | C18: Dimensões da qualidade do trabalho | D18: Nada Importante | E18: Pouco Importante | F18: Mais ou Menos Importante | G18: Importante | H18: Muito Importante | J18: Coluna1 | K18: Dimensões da qualidade do trabalho | L18: Nada Importante + Pouco Importante % | M18: Mais ou Menos Importante % | N18: Importante + Muito Importante %
B19: 1 | C19: Autonomia | D19: =SUM(D4/SUM($D4:$H4)) -> 0.012121212 | E19: =SUM(E4/SUM($D4:$H4)) -> 0.0036363636 | F19: =SUM(F4/SUM($D4:$H4)) -> 0.04969697 | G19: =SUM(G4/SUM($D4:$H4)) -> 0.46545455 | H19: =SUM(H4/SUM($D4:$H4)) -> 0.46909091 | J19: 1 | K19: Autonomia | L19: =SUM(L4/SUM($L4:$N4)) -> 0.015757576 | M19: =SUM(M4/SUM($L4:$N4)) -> 0.04969697 | N19: =SUM(N4/SUM($L4:$N4)) -> 0.93454545
B20: 2 | C20: Aprendizagem/Formação | D20: =SUM(D5/SUM($D5:$H5)) -> 0.0072376357 | E20: =SUM(E5/SUM($D5:$H5)) -> 0.013268999 | F20: =SUM(F5/SUM($D5:$H5)) -> 0.026537998 | G20: =SUM(G5/SUM($D5:$H5)) -> 0.24487334 | H20: =SUM(H5/SUM($D5:$H5)) -> 0.70808203 | J20: 2 | K20: Aprendizagem/Formação | L20: =SUM(L5/SUM($L5:$N5)) -> 0.020506634 | M20: =SUM(M5/SUM($L5:$N5)) -> 0.026537998 | N20: =SUM(N5/SUM($L5:$N5)) -> 0.95295537
B21: 3 | C21: Condições físicas de trabalho | D21: =SUM(D6/SUM($D6:$H6)) -> 0.010869565 | E21: =SUM(E6/SUM($D6:$H6)) -> 0.014492754 | F21: =SUM(F6/SUM($D6:$H6)) -> 0.077294686 | G21: =SUM(G6/SUM($D6:$H6)) -> 0.41545894 | H21: =SUM(H6/SUM($D6:$H6)) -> 0.48188406 | J21: 3 | K21: Condições físicas de trabalho | L21: =SUM(L6/SUM($L6:$N6)) -> 0.025362319 | M21: =SUM(M6/SUM($L6:$N6)) -> 0.077294686 | N21: =SUM(N6/SUM($L6:$N6)) -> 0.897343
B22: 4 | C22: Equilíbrio vida profissional / pessoal | D22: =SUM(D7/SUM($D7:$H7)) -> 0.0048484848 | E22: =SUM(E7/SUM($D7:$H7)) -> 0.0072727273 | F22: =SUM(F7/SUM($D7:$H7)) -> 0.048484848 | G22: =SUM(G7/SUM($D7:$H7)) -> 0.26545455 | H22: =SUM(H7/SUM($D7:$H7)) -> 0.67393939 | J22: 4 | K22: Equilíbrio vida profissional / pessoal | L22: =SUM(L7/SUM($L7:$N7)) -> 0.012121212 | M22: =SUM(M7/SUM($L7:$N7)) -> 0.048484848 | N22: =SUM(N7/SUM($L7:$N7)) -> 0.93939394
B23: 5 | C23: Independência | D23: =SUM(D8/SUM($D8:$H8)) -> 0.0060679612 | E23: =SUM(E8/SUM($D8:$H8)) -> 0.012135922 | F23: =SUM(F8/SUM($D8:$H8)) -> 0.10072816 | G23: =SUM(G8/SUM($D8:$H8)) -> 0.47208738 | H23: =SUM(H8/SUM($D8:$H8)) -> 0.40898058 | J23: 5 | K23: Independência | L23: =SUM(L8/SUM($L8:$N8)) -> 0.018203883 | M23: =SUM(M8/SUM($L8:$N8)) -> 0.10072816 | N23: =SUM(N8/SUM($L8:$N8)) -> 0.88106796
B24: 6 | C24: Possibilidade de progressão na carreira | D24: =SUM(D9/SUM($D9:$H9)) -> 0.021791768 | E24: =SUM(E9/SUM($D9:$H9)) -> 0.010895884 | F24: =SUM(F9/SUM($D9:$H9)) -> 0.050847458 | G24: =SUM(G9/SUM($D9:$H9)) -> 0.30024213 | H24: =SUM(H9/SUM($D9:$H9)) -> 0.61622276 | J24: 6 | K24: Possibilidade de progressão na carreira | L24: =SUM(L9/SUM($L9:$N9)) -> 0.032687651 | M24: =SUM(M9/SUM($L9:$N9)) -> 0.050847458 | N24: =SUM(N9/SUM($L9:$N9)) -> 0.91646489
B25: 7 | C25: Recompensas intrínsecas | D25: =SUM(D10/SUM($D10:$H10)) -> 0.025735294 | E25: =SUM(E10/SUM($D10:$H10)) -> 0.020833333 | F25: =SUM(F10/SUM($D10:$H10)) -> 0.12622549 | G25: =SUM(G10/SUM($D10:$H10)) -> 0.41789216 | H25: =SUM(H10/SUM($D10:$H10)) -> 0.40931373 | J25: 7 | K25: Recompensas intrínsecas | L25: =SUM(L10/SUM($L10:$N10)) -> 0.046568627 | M25: =SUM(M10/SUM($L10:$N10)) -> 0.12622549 | N25: =SUM(N10/SUM($L10:$N10)) -> 0.82720588
B26: 8 | C26: Relações interpessoais/ambiente social | D26: =SUM(D11/SUM($D11:$H11)) -> 0.0060532688 | E26: =SUM(E11/SUM($D11:$H11)) -> 0.010895884 | F26: =SUM(F11/SUM($D11:$H11)) -> 0.052058111 | G26: =SUM(G11/SUM($D11:$H11)) -> 0.32687651 | H26: =SUM(H11/SUM($D11:$H11)) -> 0.60411622 | J26: 8 | K26: Relações interpessoais/ambiente social | L26: =SUM(L11/SUM($L11:$N11)) -> 0.016949153 | M26: =SUM(M11/SUM($L11:$N11)) -> 0.052058111 | N26: =SUM(N11/SUM($L11:$N11)) -> 0.93099274
B27: 9 | C27: Remuneração | D27: =SUM(D12/SUM($D12:$H12)) -> 0.015795869 | E27: =SUM(E12/SUM($D12:$H12)) -> 0.012150668 | F27: =SUM(F12/SUM($D12:$H12)) -> 0.040097205 | G27: =SUM(G12/SUM($D12:$H12)) -> 0.33535844 | H27: =SUM(H12/SUM($D12:$H12)) -> 0.59659781 | J27: 9 | K27: Remuneração | L27: =SUM(L12/SUM($L12:$N12)) -> 0.027946537 | M27: =SUM(M12/SUM($L12:$N12)) -> 0.040097205 | N27: =SUM(N12/SUM($L12:$N12)) -> 0.93195626
B28: 10 | C28: Saúde | D28: =SUM(D13/SUM($D13:$H13)) -> 0.0072289157 | E28: =SUM(E13/SUM($D13:$H13)) -> 0.0048192771 | F28: =SUM(F13/SUM($D13:$H13)) -> 0.025301205 | G28: =SUM(G13/SUM($D13:$H13)) -> 0.16626506 | H28: =SUM(H13/SUM($D13:$H13)) -> 0.79638554 | J28: 10 | K28: Saúde | L28: =SUM(L13/SUM($L13:$N13)) -> 0.012048193 | M28: =SUM(M13/SUM($L13:$N13)) -> 0.025301205 | N28: =SUM(N13/SUM($L13:$N13)) -> 0.9626506
B29: 11 | C29: Segurança | D29: =SUM(D14/SUM($D14:$H14)) -> 0.0096385542 | E29: =SUM(E14/SUM($D14:$H14)) -> 0.0036144578 | F29: =SUM(F14/SUM($D14:$H14)) -> 0.030120482 | G29: =SUM(G14/SUM($D14:$H14)) -> 0.2253012 | H29: =SUM(H14/SUM($D14:$H14)) -> 0.7313253 | J29: 11 | K29: Segurança | L29: =SUM(L14/SUM($L14:$N14)) -> 0.013253012 | M29: =SUM(M14/SUM($L14:$N14)) -> 0.030120482 | N29: =SUM(N14/SUM($L14:$N14)) -> 0.95662651
C31: Desvio Padrão | D31: =STDEV(D19:E29)*100 -> 0.59851294 | E31: =STDEV(E19:F29)*100 -> 3.2731339 | F31: =STDEV(F19:G29)*100 -> 15.813736 | G31: =STDEV(G19:H29)*100 -> 17.618352 | H31: =STDEV(H19:I29)*100 -> 13.274331 | K31: Desvio Padrão | L31: =STDEV(L19:M29)*100 -> 2.9387487 | M31: =STDEV(M19:N29)*100 -> 44.355426 | N31: =STDEV(N19:O29)*100 -> 3.9672407
C32: Variância | D32: =VAR(D19:E29)*10000 -> 0.35821774 | E32: =VAR(E19:F29)*10000 -> 10.713405 | F32: =VAR(F19:G29)*10000 -> 250.07425 | G32: =VAR(G19:H29)*10000 -> 310.40632 | H32: =VAR(H19:I29)*10000 -> 176.20787 | K32: Variância | L32: =VAR(L19:M29)*10000 -> 8.6362439 | M32: =VAR(M19:N29)*10000 -> 1967.4039 | N32: =VAR(N19:O29)*10000 -> 15.738998
C33: Média | D33: =AVERAGE(D19:E29) -> 0.010972945 | E33: =AVERAGE(E19:F29) -> 0.033700404 | F33: =AVERAGE(F19:G29) -> 0.19375713 | G33: =AVERAGE(G19:H29) -> 0.46050921 | H33: =AVERAGE(H19:I29) -> 0.59053985 | K33: Média | L33: =AVERAGE(L19:M29) -> 0.039490791 | M33: =AVERAGE(M19:N29) -> 0.48902705 | N33: =AVERAGE(N19:O29) -> 0.92101842

Sheet Parte B_Global_Percentagem_B
A1: PARTE B
B3: Dimensões da qualidade do trabalho | D3: Nada Importante + Pouco Importante | F3: Mais ou Menos Importante | H3: Importante + Muito Importante
D4: Nº | E4: % | F4: Nº | G4: % | H4: Nº | I4: %
B5: 1 | C5: Autonomia | D5: 13 | E5: =SUM(SUM(D5*100)/SUM(D5+F5+H5)) -> 1.5757576 | F5: 41 | G5: =SUM(SUM(F5*100)/SUM(D5+F5+H5)) -> 4.969697 | H5: 771 | I5: =SUM(SUM(H5*100)/SUM(D5+F5+H5)) -> 93.454545
B6: 2 | C6: Aprendizagem/Formação | D6: 17 | E6: =SUM(SUM(D6*100)/SUM(D6+F6+H6)) -> 2.0506634 | F6: 22 | G6: =SUM(SUM(F6*100)/SUM(D6+F6+H6)) -> 2.6537998 | H6: 790 | I6: =SUM(SUM(H6*100)/SUM(D6+F6+H6)) -> 95.295537
B7: 3 | C7: Condições físicas de trabalho | D7: 21 | E7: =SUM(SUM(D7*100)/SUM(D7+F7+H7)) -> 2.5362319 | F7: 64 | G7: =SUM(SUM(F7*100)/SUM(D7+F7+H7)) -> 7.7294686 | H7: 743 | I7: =SUM(SUM(H7*100)/SUM(D7+F7+H7)) -> 89.7343
B8: 4 | C8: Equilíbrio vida profissional / pessoal | D8: 10 | E8: =SUM(SUM(D8*100)/SUM(D8+F8+H8)) -> 1.2121212 | F8: 40 | G8: =SUM(SUM(F8*100)/SUM(D8+F8+H8)) -> 4.8484848 | H8: 775 | I8: =SUM(SUM(H8*100)/SUM(D8+F8+H8)) -> 93.939394
B9: 5 | C9: Independência | D9: 15 | E9: =SUM(SUM(D9*100)/SUM(D9+F9+H9)) -> 1.8203883 | F9: 83 | G9: =SUM(SUM(F9*100)/SUM(D9+F9+H9)) -> 10.072816 | H9: 726 | I9: =SUM(SUM(H9*100)/SUM(D9+F9+H9)) -> 88.106796
B10: 6 | C10: Possibilidade de progressão na carreira | D10: 27 | E10: =SUM(SUM(D10*100)/SUM(D10+F10+H10)) -> 3.2687651 | F10: 42 | G10: =SUM(SUM(F10*100)/SUM(D10+F10+H10)) -> 5.0847458 | H10: 757 | I10: =SUM(SUM(H10*100)/SUM(D10+F10+H10)) -> 91.646489
B11: 7 | C11: Recompensas intrínsecas | D11: 38 | E11: =SUM(SUM(D11*100)/SUM(D11+F11+H11)) -> 4.6568627 | F11: 103 | G11: =SUM(SUM(F11*100)/SUM(D11+F11+H11)) -> 12.622549 | H11: 675 | I11: =SUM(SUM(H11*100)/SUM(D11+F11+H11)) -> 82.720588
B12: 8 | C12: Relações interpessoais/ambiente social | D12: 14 | E12: =SUM(SUM(D12*100)/SUM(D12+F12+H12)) -> 1.6949153 | F12: 43 | G12: =SUM(SUM(F12*100)/SUM(D12+F12+H12)) -> 5.2058111 | H12: 769 | I12: =SUM(SUM(H12*100)/SUM(D12+F12+H12)) -> 93.099274
B13: 9 | C13: Remuneração | D13: 23 | E13: =SUM(SUM(D13*100)/SUM(D13+F13+H13)) -> 2.7946537 | F13: 33 | G13: =SUM(SUM(F13*100)/SUM(D13+F13+H13)) -> 4.0097205 | H13: 767 | I13: =SUM(SUM(H13*100)/SUM(D13+F13+H13)) -> 93.195626
B14: 10 | C14: Saúde | D14: 10 | E14: =SUM(SUM(D14*100)/SUM(D14+F14+H14)) -> 1.2048193 | F14: 21 | G14: =SUM(SUM(F14*100)/SUM(D14+F14+H14)) -> 2.5301205 | H14: 799 | I14: =SUM(SUM(H14*100)/SUM(D14+F14+H14)) -> 96.26506
B15: 11 | C15: Segurança | D15: 11 | E15: =SUM(SUM(D15*100)/SUM(D15+F15+H15)) -> 1.3253012 | F15: 25 | G15: =SUM(SUM(F15*100)/SUM(D15+F15+H15)) -> 3.0120482 | H15: 794 | I15: =SUM(SUM(H15*100)/SUM(D15+F15+H15)) -> 95.662651
C17: Média | E17: 3.9 | G17: 49 | I17: 92
C18: Desvio Padrão | E18: 2.9387487 | G18: 44.355426 | I18: 3.9672407

Sheet Gráf_Global_Parte B1

Sheet Gráf_Global_Parte B2

Sheet Gráf_Global_Parte B21

Sheet Gráf_Global_Parte B3

Sheet Gráf_Global_Parte B31

Sheet Parte B_Mascul_Percentagem
A1: PARTE B
C2: Nº Respostas | K2: Nº Respostas
B3: Coluna1 | C3: Dimensões da qualidade do trabalho | D3: Nada Importante | E3: Pouco Importante | F3: Mais ou Menos Importante | G3: Importante | H3: Muito Importante | J3: Coluna1 | K3: Dimensões da qualidade do trabalho | L3: Nada Importante + Pouco Importante | M3: Mais ou Menos Importante | N3: Importante + Muito Importante
B4: 1 | C4: Autonomia | D4: 3 | E4: 0 | F4: 17 | G4: 69 | H4: 85 | J4: 1 | K4: Autonomia | L4: 3 | M4: 17 | N4: 154
B5: 2 | C5: Aprendizagem/Formação | D5: 2 | E5: 6 | F5: 5 | G5: 59 | H5: 102 | J5: 2 | K5: Aprendizagem/Formação | L5: 8 | M5: 5 | N5: 161
B6: 3 | C6: Condições físicas de trabalho | D6: 2 | E6: 4 | F6: 25 | G6: 66 | H6: 77 | J6: 3 | K6: Condições físicas de trabalho | L6: 6 | M6: 25 | N6: 143
B7: 4 | C7: Equilíbrio vida profissional / pessoal | D7: 0 | E7: 1 | F7: 17 | G7: 46 | H7: 109 | J7: 4 | K7: Equilíbrio vida profissional / pessoal | L7: 1 | M7: 17 | N7: 155
B8: 5 | C8: Independência | D8: 0 | E8: 6 | F8: 22 | G8: 77 | H8: 69 | J8: 5 | K8: Independência | L8: 6 | M8: 22 | N8: 146
B9: 6 | C9: Possibilidade de progressão na carreira | D9: 7 | E9: 2 | F9: 14 | G9: 54 | H9: 96 | J9: 6 | K9: Possibilidade de progressão na carreira | L9: 9 | M9: 14 | N9: 150
B10: 7 | C10: Recompensas intrínsecas | D10: 4 | E10: 4 | F10: 36 | G10: 62 | H10: 65 | J10: 7 | K10: Recompensas intrínsecas | L10: 8 | M10: 36 | N10: 127
B11: 8 | C11: Relações interpessoais/ambiente social | D11: 1 | E11: 1 | F11: 14 | G11: 69 | H11: 89 | J11: 8 | K11: Relações interpessoais/ambiente social | L11: 2 | M11: 14 | N11: 158
B12: 9 | C12: Remuneração | D12: 3 | E12: 1 | F12: 12 | G12: 71 | H12: 86 | J12: 9 | K12: Remuneração | L12: 4 | M12: 12 | N12: 157
B13: 10 | C13: Saúde | D13: 0 | E13: 0 | F13: 11 | G13: 41 | H13: 122 | J13: 10 | K13: Saúde | L13: 0 | M13: 11 | N13: 163
B14: 11 | C14: Segurança | D14: 0 | E14: 1 | F14: 11 | G14: 58 | H14: 104 | J14: 11 | K14: Segurança | L14: 1 | M14: 11 | N14: 162
C17: Percentagem de respostas | K17: Percentagem de respostas
B18: Coluna1 | C18: Dimensões da qualidade do trabalho | D18: Nada Importante | E18: Pouco Importante | F18: Mais ou Menos Importante | G18: Importante | H18: Muito Importante | J18: Coluna1 | K18: Dimensões da qualidade do trabalho | L18: Nada Importante + Pouco Importante | M18: Mais ou Menos Importante | N18: Importante + Muito Importante
B19: 1 | C19: Autonomia | D19: 0.017241379 | E19: 0 | F19: 0.097701149 | G19: 0.39655172 | H19: 0.48850575 | J19: 1 | K19: Autonomia | L19: 0.017241379 | M19: 0.097701149 | N19: 0.88505747
B20: 2 | C20: Aprendizagem/Formação | D20: 0.011494253 | E20: 0.034482759 | F20: 0.028735632 | G20: 0.33908046 | H20: 0.5862069 | J20: 2 | K20: Aprendizagem/Formação | L20: 0.045977011 | M20: 0.028735632 | N20: 0.92528736
B21: 3 | C21: Condições físicas de trabalho | D21: 0.011494253 | E21: 0.022988506 | F21: 0.14367816 | G21: 0.37931034 | H21: 0.44252874 | J21: 3 | K21: Condições físicas de trabalho | L21: 0.034482759 | M21: 0.14367816 | N21: 0.82183908
B22: 4 | C22: Equilíbrio vida profissional / pessoal | D22: 0 | E22: 0.0057803468 | F22: 0.098265896 | G22: 0.26589595 | H22: 0.6300578 | J22: 4 | K22: Equilíbrio vida profissional / pessoal | L22: 0.0057803468 | M22: 0.098265896 | N22: 0.89595376
B23: 5 | C23: Independência | D23: 0 | E23: 0.034482759 | F23: 0.12643678 | G23: 0.44252874 | H23: 0.39655172 | J23: 5 | K23: Independência | L23: 0.034482759 | M23: 0.12643678 | N23: 0.83908046
B24: 6 | C24: Possibilidade de progressão na carreira | D24: 0.040462428 | E24: 0.011560694 | F24: 0.080924855 | G24: 0.31213873 | H24: 0.55491329 | J24: 6 | K24: Possibilidade de progressão na carreira | L24: 0.052023121 | M24: 0.080924855 | N24: 0.86705202
B25: 7 | C25: Recompensas intrínsecas | D25: 0.023391813 | E25: 0.023391813 | F25: 0.21052632 | G25: 0.3625731 | H25: 0.38011696 | J25: 7 | K25: Recompensas intrínsecas | L25: 0.046783626 | M25: 0.21052632 | N25: 0.74269006
B26: 8 | C26: Relações interpessoais/ambiente social | D26: 0.0057471264 | E26: 0.0057471264 | F26: 0.08045977 | G26: 0.39655172 | H26: 0.51149425 | J26: 8 | K26: Relações interpessoais/ambiente social | L26: 0.011494253 | M26: 0.08045977 | N26: 0.90804598
B27: 9 | C27: Remuneração | D27: 0.01734104 | E27: 0.0057803468 | F27: 0.069364162 | G27: 0.41040462 | H27: 0.49710983 | J27: 9 | K27: Remuneração | L27: 0.023121387 | M27: 0.069364162 | N27: 0.90751445
B28: 10 | C28: Saúde | D28: 0 | E28: 0 | F28: 0.063218391 | G28: 0.23563218 | H28: 0.70114943 | J28: 10 | K28: Saúde | L28: 0 | M28: 0.063218391 | N28: 0.93678161
B29: 11 | C29: Segurança | D29: 0 | E29: 0.0057471264 | F29: 0.063218391 | G29: 0.33333333 | H29: 0.59770115 | J29: 11 | K29: Segurança | L29: 0.0057471264 | M29: 0.063218391 | N29: 0.93103448
C31: Desvio Padrão | D31: =STDEV(D19:E29)*100 -> 1.2552516 | E31: =STDEV(E19:F29)*100 -> 5.5076387 | F31: =STDEV(F19:G29)*100 -> 14.191796 | G31: =STDEV(G19:H29)*100 -> 12.03736 | H31: =STDEV(H19:I29)*100 -> 9.9279549 | K31: Desvio Padrão | L31: =STDEV(L19:M29)*100 -> 5.1476273 | M31: =STDEV(M19:N29)*100 -> 40.343897 | N31: =STDEV(N19:O29)*100 -> 5.8092132
C32: Variância | D32: =VAR(D19:E29)*10000 -> 1.5756566 | E32: =VAR(E19:F29)*10000 -> 30.334085 | F32: =VAR(F19:G29)*10000 -> 201.40707 | G32: =VAR(G19:H29)*10000 -> 144.89804 | H32: =VAR(H19:I29)*10000 -> 98.564289 | K32: Variância | L32: =VAR(L19:M29)*10000 -> 26.498067 | M32: =VAR(M19:N29)*10000 -> 1627.63 | N32: =VAR(N19:O29)*10000 -> 33.746958
C33: Média | D33: =AVERAGE(D19:E29) -> 0.012596989 | E33: =AVERAGE(E19:F29) -> 0.055113226 | F33: =AVERAGE(F19:G29) -> 0.22438775 | G33: =AVERAGE(G19:H29) -> 0.43910621 | H33: =AVERAGE(H19:I29) -> 0.52603053 | K33: Média | L33: =AVERAGE(L19:M29) -> 0.060893785 | M33: =AVERAGE(M19:N29) -> 0.48740301 | N33: =AVERAGE(N19:O29) -> 0.87821243

Sheet Gráf_Mascul_Parte B1

Sheet Gráf_Mascul_Parte B2

Sheet Gráf_Mascul_Parte B21

Sheet Gráf_Mascul_Parte B3

Sheet Gráf_Mascul_Parte B31

Sheet Femin_Parte B_Percentagem
A1: PARTE B
C2: Nº Respostas | K2: Nº Respostas
B3: Coluna1 | C3: Dimensões da qualidade do trabalho | D3: Nada Importante | E3: Pouco Importante | F3: Mais ou Menos Importante | G3: Importante | H3: Muito Importante | J3: Coluna1 | K3: Dimensões da qualidade do trabalho | L3: Nada Importante + Pouco Importante | M3: Mais ou Menos Importante | N3: Importante + Muito Importante
B4: 1 | C4: Autonomia | D4: 7 | E4: 3 | F4: 24 | G4: 315 | H4: 302 | J4: 1 | K4: Autonomia | L4: 10 | M4: 24 | N4: 617
B5: 2 | C5: Aprendizagem/Formação | D5: 4 | E5: 5 | F5: 17 | G5: 144 | H5: 485 | J5: 2 | K5: Aprendizagem/Formação | L5: 9 | M5: 17 | N5: 629
B6: 3 | C6: Condições físicas de trabalho | D6: 7 | E6: 8 | F6: 39 | G6: 278 | H6: 322 | J6: 3 | K6: Condições físicas de trabalho | L6: 15 | M6: 39 | N6: 600
B7: 4 | C7: Equilíbrio vida profissional / pessoal | D7: 4 | E7: 5 | F7: 23 | G7: 173 | H7: 447 | J7: 4 | K7: Equilíbrio vida profissional / pessoal | L7: 9 | M7: 23 | N7: 620
B8: 5 | C8: Independência | D8: 5 | E8: 4 | F8: 61 | G8: 312 | H8: 268 | J8: 5 | K8: Independência | L8: 9 | M8: 61 | N8: 580
B9: 6 | C9: Possibilidade de progressão na carreira | D9: 11 | E9: 7 | F9: 28 | G9: 194 | H9: 413 | J9: 6 | K9: Possibilidade de progressão na carreira | L9: 18 | M9: 28 | N9: 607
B10: 7 | C10: Recompensas intrínsecas | D10: 17 | E10: 13 | F10: 67 | G10: 279 | H10: 269 | J10: 7 | K10: Recompensas intrínsecas | L10: 30 | M10: 67 | N10: 548
B11: 8 | C11: Relações interpessoais/ambiente social | D11: 4 | E11: 8 | F11: 29 | G11: 201 | H11: 410 | J11: 8 | K11: Relações interpessoais/ambiente social | L11: 12 | M11: 29 | N11: 611
B12: 9 | C12: Remuneração | D12: 10 | E12: 9 | F12: 21 | G12: 205 | H12: 405 | J12: 9 | K12: Remuneração | L12: 19 | M12: 21 | N12: 610
B13: 10 | C13: Saúde | D13: 6 | E13: 4 | F13: 10 | G13: 97 | H13: 539 | J13: 10 | K13: Saúde | L13: 10 | M13: 10 | N13: 636
B14: 11 | C14: Segurança | D14: 8 | E14: 2 | F14: 14 | G14: 129 | H14: 503 | J14: 11 | K14: Segurança | L14: 10 | M14: 14 | N14: 632
C17: Percentagem de respostas | K17: Percentagem de respostas
B18: Coluna1 | C18: Dimensões da qualidade do trabalho | D18: Nada Importante | E18: Pouco Importante | F18: Mais ou Menos Importante | G18: Importante | H18: Muito Importante | J18: Coluna1 | K18: Dimensões da qualidade do trabalho | L18: Nada Importante + Pouco Importante | M18: Mais ou Menos Importante | N18: Importante + Muito Importante
B19: 1 | C19: Autonomia | D19: 0.010752688 | E19: 0.0046082949 | F19: 0.036866359 | G19: 0.48387097 | H19: 0.46390169 | J19: 1 | K19: Autonomia | L19: 0.015360983 | M19: 0.036866359 | N19: 0.94777266
B20: 2 | C20: Aprendizagem/Formação | D20: 0.0061068702 | E20: 0.0076335878 | F20: 0.025954198 | G20: 0.21984733 | H20: 0.74045802 | J20: 2 | K20: Aprendizagem/Formação | L20: 0.013740458 | M20: 0.025954198 | N20: 0.96030534
B21: 3 | C21: Condições físicas de trabalho | D21: 0.010703364 | E21: 0.012232416 | F21: 0.059633028 | G21: 0.42507645 | H21: 0.49235474 | J21: 3 | K21: Condições físicas de trabalho | L21: 0.02293578 | M21: 0.059633028 | N21: 0.91743119
B22: 4 | C22: Equilíbrio vida profissional / pessoal | D22: 0.0061349693 | E22: 0.0076687117 | F22: 0.035276074 | G22: 0.26533742 | H22: 0.68558282 | J22: 4 | K22: Equilíbrio vida profissional / pessoal | L22: 0.013803681 | M22: 0.035276074 | N22: 0.95092025
B23: 5 | C23: Independência | D23: 0.0076923077 | E23: 0.0061538462 | F23: 0.093846154 | G23: 0.48 | H23: 0.41230769 | J23: 5 | K23: Independência | L23: 0.013846154 | M23: 0.093846154 | N23: 0.89230769
B24: 6 | C24: Possibilidade de progressão na carreira | D24: 0.016845329 | E24: 0.010719755 | F24: 0.04287902 | G24: 0.29709035 | H24: 0.63246554 | J24: 6 | K24: Possibilidade de progressão na carreira | L24: 0.027565084 | M24: 0.04287902 | N24: 0.9295559
B25: 7 | C25: Recompensas intrínsecas | D25: 0.026356589 | E25: 0.020155039 | F25: 0.10387597 | G25: 0.43255814 | H25: 0.41705426 | J25: 7 | K25: Recompensas intrínsecas | L25: 0.046511628 | M25: 0.10387597 | N25: 0.8496124
B26: 8 | C26: Relações interpessoais/ambiente social | D26: 0.0061349693 | E26: 0.012269939 | F26: 0.044478528 | G26: 0.30828221 | H26: 0.62883436 | J26: 8 | K26: Relações interpessoais/ambiente social | L26: 0.018404908 | M26: 0.044478528 | N26: 0.93711656
B27: 9 | C27: Remuneração | D27: 0.015384615 | E27: 0.013846154 | F27: 0.032307692 | G27: 0.31538462 | H27: 0.62307692 | J27: 9 | K27: Remuneração | L27: 0.029230769 | M27: 0.032307692 | N27: 0.93846154
B28: 10 | C28: Saúde | D28: 0.0091463415 | E28: 0.006097561 | F28: 0.015243902 | G28: 0.14786585 | H28: 0.82164634 | J28: 10 | K28: Saúde | L28: 0.015243902 | M28: 0.015243902 | N28: 0.9695122
B29: 11 | C29: Segurança | D29: 0.012195122 | E29: 0.0030487805 | F29: 0.021341463 | G29: 0.19664634 | H29: 0.76676829 | J29: 11 | K29: Segurança | L29: 0.015243902 | M29: 0.021341463 | N29: 0.96341463
C31: Desvio Padrão | D31: =STDEV(D19:E29)*100 -> 0.55246362 | E31: =STDEV(E19:F29)*100 -> 2.7567402 | F31: =STDEV(F19:G29)*100 -> 16.45097 | G31: =STDEV(G19:H29)*100 -> 19.264839 | H31: =STDEV(H19:I29)*100 -> 14.302764 | K31: Desvio Padrão | L31: =STDEV(L19:M29)*100 -> 2.4650241 | M31: =STDEV(M19:N29)*100 -> 45.444673 | N31: =STDEV(N19:O29)*100 -> 3.5283949
C32: Variância | D32: =VAR(D19:E29)*10000 -> 0.30521605 | E32: =VAR(E19:F29)*10000 -> 7.5996163 | F32: =VAR(F19:G29)*10000 -> 270.63442 | G32: =VAR(G19:H29)*10000 -> 371.13404 | H32: =VAR(H19:I29)*10000 -> 204.56905 | K32: Variância | L32: =VAR(L19:M29)*10000 -> 6.0763439 | M32: =VAR(M19:N29)*10000 -> 2065.2183 | N32: =VAR(N19:O29)*10000 -> 12.449571
C33: Média | D33: =AVERAGE(D19:E29) -> 0.01054033 | E33: =AVERAGE(E19:F29) -> 0.028006203 | F33: =AVERAGE(F19:G29) -> 0.185621 | G33: =AVERAGE(G19:H29) -> 0.46620047 | H33: =AVERAGE(H19:I29) -> 0.60767733 | K33: Média | L33: =AVERAGE(L19:M29) -> 0.033799529 | M33: =AVERAGE(M19:N29) -> 0.48945967 | N33: =AVERAGE(N19:O29) -> 0.93240094

Sheet Gráf_Femin_Parte B1

Sheet Gráf_Femin_Parte B2

Sheet Gráf_Femin_Parte B21

Sheet Gráf_Femin_Parte B3

Sheet Gráf_Femin_Parte B31

Sheet Casado_Parte B_Percentagem
A1: PARTE B
C2: Nº Respostas | K2: Nº Respostas
B3: Coluna1 | C3: Dimensões da qualidade do trabalho | D3: Nada Importante | E3: Pouco Importante | F3: Mais ou Menos Importante | G3: Importante | H3: Muito Importante | J3: Coluna1 | K3: Dimensões da qualidade do trabalho | L3: Nada Importante + Pouco Importante | M3: Mais ou Menos Importante | N3: Importante + Muito Importante
B4: 1 | C4: Autonomia | D4: 6 | E4: 1 | F4: 17 | G4: 223 | H4: 234 | J4: 1 | K4: Autonomia | L4: 7 | M4: 17 | N4: 457
B5: 2 | C5: Aprendizagem/Formação | D5: 4 | E5: 3 | F5: 7 | G5: 118 | H5: 354 | J5: 2 | K5: Aprendizagem/Formação | L5: 7 | M5: 7 | N5: 472
B6: 3 | C6: Condições físicas de trabalho | D6: 6 | E6: 2 | F6: 31 | G6: 212 | H6: 234 | J6: 3 | K6: Condições físicas de trabalho | L6: 8 | M6: 31 | N6: 446
B7: 4 | C7: Equilíbrio vida profissional / pessoal | D7: 2 | E7: 4 | F7: 20 | G7: 124 | H7: 333 | J7: 4 | K7: Equilíbrio vida profissional / pessoal | L7: 6 | M7: 20 | N7: 457
B8: 5 | C8: Independência | D8: 2 | E8: 6 | F8: 51 | G8: 224 | H8: 199 | J8: 5 | K8: Independência | L8: 8 | M8: 51 | N8: 423
B9: 6 | C9: Possibilidade de progressão na carreira | D9: 10 | E9: 4 | F9: 21 | G9: 138 | H9: 311 | J9: 6 | K9: Possibilidade de progressão na carreira | L9: 14 | M9: 21 | N9: 449
B10: 7 | C10: Recompensas intrínsecas | D10: 12 | E10: 8 | F10: 56 | G10: 191 | H10: 213 | J10: 7 | K10: Recompensas intrínsecas | L10: 20 | M10: 56 | N10: 404
B11: 8 | C11: Relações interpessoais/ambiente social | D11: 3 | E11: 6 | F11: 25 | G11: 150 | H11: 298 | J11: 8 | K11: Relações interpessoais/ambiente social | L11: 9 | M11: 25 | N11: 448
B12: 9 | C12: Remuneração | D12: 7 | E12: 4 | F12: 16 | G12: 161 | H12: 296 | J12: 9 | K12: Remuneração | L12: 11 | M12: 16 | N12: 457
B13: 10 | C13: Saúde | D13: 3 | E13: 1 | F13: 11 | G13: 76 | H13: 395 | J13: 10 | K13: Saúde | L13: 4 | M13: 11 | N13: 471
B14: 11 | C14: Segurança | D14: 4 | E14: 2 | F14: 12 | G14: 95 | H14: 372 | J14: 11 | K14: Segurança | L14: 6 | M14: 12 | N14: 467
C17: Percentagem de respostas | K17: Percentagem de respostas
B18: Coluna1 | C18: Dimensões da qualidade do trabalho | D18: Nada Importante | E18: Pouco Importante | F18: Mais ou Menos Importante | G18: Importante | H18: Muito Importante | J18: Coluna1 | K18: Dimensões da qualidade do trabalho | L18: Nada Importante + Pouco Importante | M18: Mais ou Menos Importante | N18: Importante + Muito Importante
B19: 1 | C19: Autonomia | D19: 0.012474012 | E19: 0.0020790021 | F19: 0.035343035 | G19: 0.46361746 | H19: 0.48648649 | J19: 1 | K19: Autonomia | L19: 0.014553015 | M19: 0.035343035 | N19: 0.95010395
B20: 2 | C20: Aprendizagem/Formação | D20: 0.0082304527 | E20: 0.0061728395 | F20: 0.014403292 | G20: 0.24279835 | H20: 0.72839506 | J20: 2 | K20: Aprendizagem/Formação | L20: 0.014403292 | M20: 0.014403292 | N20: 0.97119342
B21: 3 | C21: Condições físicas de trabalho | D21: 0.012371134 | E21: 0.0041237113 | F21: 0.063917526 | G21: 0.4371134 | H21: 0.48247423 | J21: 3 | K21: Condições físicas de trabalho | L21: 0.016494845 | M21: 0.063917526 | N21: 0.91958763
B22: 4 | C22: Equilíbrio vida profissional / pessoal | D22: 0.0041407867 | E22: 0.0082815735 | F22: 0.041407867 | G22: 0.25672878 | H22: 0.68944099 | J22: 4 | K22: Equilíbrio vida profissional / pessoal | L22: 0.01242236 | M22: 0.041407867 | N22: 0.94616977
B23: 5 | C23: Independência | D23: 0.0041493776 | E23: 0.012448133 | F23: 0.10580913 | G23: 0.46473029 | H23: 0.41286307 | J23: 5 | K23: Independência | L23: 0.01659751 | M23: 0.10580913 | N23: 0.87759336
B24: 6 | C24: Possibilidade de progressão na carreira | D24: 0.020661157 | E24: 0.0082644628 | F24: 0.04338843 | G24: 0.28512397 | H24: 0.64256198 | J24: 6 | K24: Possibilidade de progressão na carreira | L24: 0.02892562 | M24: 0.04338843 | N24: 0.92768595
B25: 7 | C25: Recompensas intrínsecas | D25: 0.025 | E25: 0.016666667 | F25: 0.11666667 | G25: 0.39791667 | H25: 0.44375 | J25: 7 | K25: Recompensas intrínsecas | L25: 0.041666667 | M25: 0.11666667 | N25: 0.84166667
B26: 8 | C26: Relações interpessoais/ambiente social | D26: 0.0062240664 | E26: 0.012448133 | F26: 0.05186722 | G26: 0.31120332 | H26: 0.61825726 | J26: 8 | K26: Relações interpessoais/ambiente social | L26: 0.018672199 | M26: 0.05186722 | N26: 0.92946058
B27: 9 | C27: Remuneração | D27: 0.01446281 | E27: 0.0082644628 | F27: 0.033057851 | G27: 0.33264463 | H27: 0.61157025 | J27: 9 | K27: Remuneração | L27: 0.022727273 | M27: 0.033057851 | N27: 0.94421488
B28: 10 | C28: Saúde | D28: 0.0061728395 | E28: 0.0020576132 | F28: 0.022633745 | G28: 0.1563786 | H28: 0.8127572 | J28: 10 | K28: Saúde | L28: 0.0082304527 | M28: 0.022633745 | N28: 0.9691358
B29: 11 | C29: Segurança | D29: 0.0082474227 | E29: 0.0041237113 | F29: 0.024742268 | G29: 0.19587629 | H29: 0.76701031 | J29: 11 | K29: Segurança | L29: 0.012371134 | M29: 0.024742268 | N29: 0.9628866
C31: Desvio Padrão | D31: =STDEV(D19:E29)*100 -> 0.59414708 | E31: =STDEV(E19:F29)*100 -> 3.1784409 | F31: =STDEV(F19:G29)*100 -> 15.924557 | G31: =STDEV(G19:H29)*100 -> 18.917858 | H31: =STDEV(H19:I29)*100 -> 13.609681 | K31: Desvio Padrão | L31: =STDEV(L19:M29)*100 -> 2.8750067 | M31: =STDEV(M19:N29)*100 -> 45.207191 | N31: =STDEV(N19:O29)*100 -> 3.9790043
C32: Variância | D32: =VAR(D19:E29)*10000 -> 0.35301075 | E32: =VAR(E19:F29)*10000 -> 10.102486 | F32: =VAR(F19:G29)*10000 -> 253.59152 | G32: =VAR(G19:H29)*10000 -> 357.88536 | H32: =VAR(H19:I29)*10000 -> 185.22342 | K32: Variância | L32: =VAR(L19:M29)*10000 -> 8.2656635 | M32: =VAR(M19:N29)*10000 -> 2043.6901 | N32: =VAR(N19:O29)*10000 -> 15.832476
C33: Média | D33: =AVERAGE(D19:E29) -> 0.0094120167 | E33: =AVERAGE(E19:F29) -> 0.029007606 | F33: =AVERAGE(F19:G29) -> 0.18624404 | G33: =AVERAGE(G19:H29) -> 0.46544085 | H33: =AVERAGE(H19:I29) -> 0.60868789 | K33: Média | L33: =AVERAGE(L19:M29) -> 0.034559154 | M33: =AVERAGE(M19:N29) -> 0.49058798 | N33: =AVERAGE(N19:O29) -> 0.93088169

Sheet Gráf_Casado_Parte B1

Sheet Gráf_Casado_Parte B2

Sheet Gráf_Casado_Parte B21

Sheet Gráf_Casado_Parte B3

Sheet Gráf_Casado_Parte B31

Sheet Não Casado_Parte B_Percentagem
A1: PARTE B
C2: Nº Respostas | K2: Nº Respostas
B3: Coluna1 | C3: Dimensões da qualidade do trabalho | D3: Nada Importante | E3: Pouco Importante | F3: Mais ou Menos Importante | G3: Importante | H3: Muito Importante | J3: Coluna1 | K3: Dimensões da qualidade do trabalho | L3: Nada Importante + Pouco Importante | M3: Mais ou Menos Importante | N3: Importante + Muito Importante
B4: 1 | C4: Autonomia | D4: 4 | E4: 2 | F4: 24 | G4: 161 | H4: 153 | J4: 1 | K4: Autonomia | L4: 6 | M4: 24 | N4: 314
B5: 2 | C5: Aprendizagem/Formação | D5: 2 | E5: 8 | F5: 15 | G5: 85 | H5: 233 | J5: 2 | K5: Aprendizagem/Formação | L5: 10 | M5: 15 | N5: 318
B6: 3 | C6: Condições físicas de trabalho | D6: 3 | E6: 10 | F6: 33 | G6: 132 | H6: 165 | J6: 3 | K6: Condições físicas de trabalho | L6: 13 | M6: 33 | N6: 297
B7: 4 | C7: Equilíbrio vida profissional / pessoal | D7: 2 | E7: 2 | F7: 20 | G7: 95 | H7: 223 | J7: 4 | K7: Equilíbrio vida profissional / pessoal | L7: 4 | M7: 20 | N7: 318
B8: 5 | C8: Independência | D8: 3 | E8: 4 | F8: 32 | G8: 165 | H8: 138 | J8: 5 | K8: Independência | L8: 7 | M8: 32 | N8: 303
B9: 6 | C9: Possibilidade de progressão na carreira | D9: 8 | E9: 5 | F9: 21 | G9: 110 | H9: 198 | J9: 6 | K9: Possibilidade de progressão na carreira | L9: 13 | M9: 21 | N9: 308
B10: 7 | C10: Recompensas intrínsecas | D10: 9 | E10: 9 | F10: 47 | G10: 150 | H10: 121 | J10: 7 | K10: Recompensas intrínsecas | L10: 18 | M10: 47 | N10: 271
B11: 8 | C11: Relações interpessoais/ambiente social | D11: 2 | E11: 3 | F11: 18 | G11: 120 | H11: 201 | J11: 8 | K11: Relações interpessoais/ambiente social | L11: 5 | M11: 18 | N11: 321
B12: 9 | C12: Remuneração | D12: 6 | E12: 6 | F12: 17 | G12: 115 | H12: 195 | J12: 9 | K12: Remuneração | L12: 12 | M12: 17 | N12: 310
B13: 10 | C13: Saúde | D13: 3 | E13: 3 | F13: 10 | G13: 62 | H13: 266 | J13: 10 | K13: Saúde | L13: 6 | M13: 10 | N13: 328
B14: 11 | C14: Segurança | D14: 4 | E14: 1 | F14: 13 | G14: 92 | H14: 235 | J14: 11 | K14: Segurança | L14: 5 | M14: 13 | N14: 327
C17: Percentagem de respostas | K17: Percentagem de respostas
B18: Coluna1 | C18: Dimensões da qualidade do trabalho | D18: Nada Importante | E18: Pouco Importante | F18: Mais ou Menos Importante | G18: Importante | H18: Muito Importante | J18: Coluna1 | K18: Dimensões da qualidade do trabalho | L18: Nada Importante + Pouco Importante | M18: Mais ou Menos Importante | N18: Importante + Muito Importante
B19: 1 | C19: Autonomia | D19: 0.011627907 | E19: 0.0058139535 | F19: 0.069767442 | G19: 0.46802326 | H19: 0.44476744 | J19: 1 | K19: Autonomia | L19: 0.01744186 | M19: 0.069767442 | N19: 0.9127907
B20: 2 | C20: Aprendizagem/Formação | D20: 0.0058309038 | E20: 0.023323615 | F20: 0.043731778 | G20: 0.24781341 | H20: 0.67930029 | J20: 2 | K20: Aprendizagem/Formação | L20: 0.029154519 | M20: 0.043731778 | N20: 0.9271137
B21: 3 | C21: Condições físicas de trabalho | D21: 0.0087463557 | E21: 0.029154519 | F21: 0.096209913 | G21: 0.38483965 | H21: 0.48104956 | J21: 3 | K21: Condições físicas de trabalho | L21: 0.037900875 | M21: 0.096209913 | N21: 0.86588921
B22: 4 | C22: Equilíbrio vida profissional / pessoal | D22: 0.0058479532 | E22: 0.0058479532 | F22: 0.058479532 | G22: 0.27777778 | H22: 0.65204678 | J22: 4 | K22: Equilíbrio vida profissional / pessoal | L22: 0.011695906 | M22: 0.058479532 | N22: 0.92982456
B23: 5 | C23: Independência | D23: 0.0087719298 | E23: 0.011695906 | F23: 0.093567251 | G23: 0.48245614 | H23: 0.40350877 | J23: 5 | K23: Independência | L23: 0.020467836 | M23: 0.093567251 | N23: 0.88596491
B24: 6 | C24: Possibilidade de progressão na carreira | D24: 0.023391813 | E24: 0.014619883 | F24: 0.061403509 | G24: 0.32163743 | H24: 0.57894737 | J24: 6 | K24: Possibilidade de progressão na carreira | L24: 0.038011696 | M24: 0.061403509 | N24: 0.9005848
B25: 7 | C25: Recompensas intrínsecas | D25: 0.026785714 | E25: 0.026785714 | F25: 0.13988095 | G25: 0.44642857 | H25: 0.36011905 | J25: 7 | K25: Recompensas intrínsecas | L25: 0.053571429 | M25: 0.13988095 | N25: 0.80654762
B26: 8 | C26: Relações interpessoais/ambiente social | D26: 0.0058139535 | E26: 0.0087209302 | F26: 0.052325581 | G26: 0.34883721 | H26: 0.58430233 | J26: 8 | K26: Relações interpessoais/ambiente social | L26: 0.014534884 | M26: 0.052325581 | N26: 0.93313953
B27: 9 | C27: Remuneração | D27: 0.017699115 | E27: 0.017699115 | F27: 0.050147493 | G27: 0.33923304 | H27: 0.57522124 | J27: 9 | K27: Remuneração | L27: 0.03539823 | M27: 0.050147493 | N27: 0.91445428
B28: 10 | C28: Saúde | D28: 0.0087209302 | E28: 0.0087209302 | F28: 0.029069767 | G28: 0.18023256 | H28: 0.77325581 | J28: 10 | K28: Saúde | L28: 0.01744186 | M28: 0.029069767 | N28: 0.95348837
B29: 11 | C29: Segurança | D29: 0.011594203 | E29: 0.0028985507 | F29: 0.037681159 | G29: 0.26666667 | H29: 0.68115942 | J29: 11 | K29: Segurança | L29: 0.014492754 | M29: 0.037681159 | N29: 0.94782609
C31: Desvio Padrão | D31: =STDEV(D19:E29)*100 -> 0.80389653 | E31: =STDEV(E19:F29)*100 -> 3.5364269 | F31: =STDEV(F19:G29)*100 -> 15.762442 | G31: =STDEV(G19:H29)*100 -> 15.94896 | H31: =STDEV(H19:I29)*100 -> 12.951285 | K31: Desvio Padrão | L31: =STDEV(L19:M29)*100 -> 3.1618237 | M31: =STDEV(M19:N29)*100 -> 43.168621 | N31: =STDEV(N19:O29)*100 -> 4.2178437
C32: Variância | D32: =VAR(D19:E29)*10000 -> 0.64624964 | E32: =VAR(E19:F29)*10000 -> 12.506315 | F32: =VAR(F19:G29)*10000 -> 248.45458 | G32: =VAR(G19:H29)*10000 -> 254.36931 | H32: =VAR(H19:I29)*10000 -> 167.73578 | K32: Variância | L32: =VAR(L19:M29)*10000 -> 9.9971294 | M32: =VAR(M19:N29)*10000 -> 1863.5298 | N32: =VAR(N19:O29)*10000 -> 17.790206
C33: Média | D33: =AVERAGE(D19:E29) -> 0.013186902 | E33: =AVERAGE(E19:F29) -> 0.040342975 | F33: =AVERAGE(F19:G29) -> 0.20437319 | G33: =AVERAGE(G19:H29) -> 0.45352835 | H33: =AVERAGE(H19:I29) -> 0.56487982 | K33: Média | L33: =AVERAGE(L19:M29) -> 0.046471647 | M33: =AVERAGE(M19:N29) -> 0.4868131 | N33: =AVERAGE(N19:O29) -> 0.90705671

Sheet Gráf_Não Casado_Parte B1

Sheet Gráf_Não Casado_Parte B2

Sheet Gráf_Não Casado_Parte B21

Sheet Gráf_Não Casado_Parte B3

Sheet Gráf_Não Casado_Parte B31

Sheet Mais 39a_Parte B_Percentagem
A1: PARTE B
C2: Nº Respostas | K2: Nº Respostas
B3: Coluna1 | C3: Dimensões da qualidade do trabalho | D3: Nada Importante | E3: Pouco Importante | F3: Mais ou Menos Importante | G3: Importante | H3: Muito Importante | J3: Coluna1 | K3: Dimensões da qualidade do trabalho | L3: Nada Importante + Pouco Importante | M3: Mais ou Menos Importante | N3: Importante + Muito Importante
B4: 1 | C4: Autonomia | D4: 8 | E4: 2 | F4: 23 | G4: 168 | H4: 180 | J4: 1 | K4: Autonomia | L4: 8 | M4: 14 | N4: 360
B5: 2 | C5: Aprendizagem/Formação | D5: 4 | E5: 6 | F5: 10 | G5: 108 | H5: 254 | J5: 2 | K5: Aprendizagem/Formação | L5: 8 | M5: 8 | N5: 367
B6: 3 | C6: Condições físicas de trabalho | D6: 6 | E6: 8 | F6: 32 | G6: 154 | H6: 182 | J6: 3 | K6: Condições físicas de trabalho | L6: 15 | M6: 18 | N6: 347
B7: 4 | C7: Equilíbrio vida profissional / pessoal | D7: 4 | E7: 2 | F7: 22 | G7: 108 | H7: 241 | J7: 4 | K7: Equilíbrio vida profissional / pessoal | L7: 11 | M7: 18 | N7: 352
B8: 5 | C8: Independência | D8: 5 | E8: 6 | F8: 39 | G8: 162 | H8: 166 | J8: 5 | K8: Independência | L8: 25 | M8: 43 | N8: 307
B9: 6 | C9: Possibilidade de progressão na carreira | D9: 11 | E9: 4 | F9: 22 | G9: 132 | H9: 212 | J9: 6 | K9: Possibilidade de progressão na carreira | L9: 15 | M9: 22 | N9: 344
B10: 7 | C10: Recompensas intrínsecas | D10: 15 | E10: 10 | F10: 43 | G10: 152 | H10: 155 | J10: 7 | K10: Recompensas intrínsecas | L10: 11 | M10: 39 | N10: 328
B11: 8 | C11: Relações interpessoais/ambiente social | D11: 4 | E11: 7 | F11: 18 | G11: 113 | H11: 239 | J11: 8 | K11: Relações interpessoais/ambiente social | L11: 6 | M11: 22 | N11: 349
B12: 9 | C12: Remuneração | D12: 9 | E12: 6 | F12: 18 | G12: 125 | H12: 222 | J12: 9 | K12: Remuneração | L12: 14 | M12: 32 | N12: 336
B13: 10 | C13: Saúde | D13: 5 | E13: 3 | F13: 8 | G13: 60 | H13: 307 | J13: 10 | K13: Saúde | L13: 10 | M13: 10 | N13: 362
B14: 11 | C14: Segurança | D14: 6 | E14: 2 | F14: 14 | G14: 85 | H14: 275 | J14: 11 | K14: Segurança | L14: 10 | M14: 23 | N14: 348
C17: Percentagem de respostas | K17: Percentagem de respostas
B18: Coluna1 | C18: Dimensões da qualidade do trabalho | D18: Nada Importante | E18: Pouco Importante | F18: Mais ou Menos Importante | G18: Importante | H18: Muito Importante | J18: Coluna1 | K18: Dimensões da qualidade do trabalho | L18: Nada Importante + Pouco Importante | M18: Mais ou Menos Importante | N18: Importante + Muito Importante
B19: 1 | C19: Autonomia | D19: =SUM(D4/SUM($D4:$H4)) -> 0.020997375 | E19: =SUM(E4/SUM($D4:$H4)) -> 0.0052493438 | F19: =SUM(F4/SUM($D4:$H4)) -> 0.060367454 | G19: =SUM(G4/SUM($D4:$H4)) -> 0.44094488 | H19: =SUM(H4/SUM($D4:$H4)) -> 0.47244094 | J19: 1 | K19: Autonomia | L19: =SUM(L4/SUM($L4:$N4)) -> 0.020942408 | M19: =SUM(M4/SUM($L4:$N4)) -> 0.036649215 | N19: =SUM(N4/SUM($L4:$N4)) -> 0.94240838
B20: 2 | C20: Aprendizagem/Formação | D20: =SUM(D5/SUM($D5:$H5)) -> 0.010471204 | E20: =SUM(E5/SUM($D5:$H5)) -> 0.015706806 | F20: =SUM(F5/SUM($D5:$H5)) -> 0.02617801 | G20: =SUM(G5/SUM($D5:$H5)) -> 0.28272251 | H20: =SUM(H5/SUM($D5:$H5)) -> 0.66492147 | J20: 2 | K20: Aprendizagem/Formação | L20: =SUM(L5/SUM($L5:$N5)) -> 0.020887728 | M20: =SUM(M5/SUM($L5:$N5)) -> 0.020887728 | N20: =SUM(N5/SUM($L5:$N5)) -> 0.95822454
B21: 3 | C21: Condições físicas de trabalho | D21: =SUM(D6/SUM($D6:$H6)) -> 0.015706806 | E21: =SUM(E6/SUM($D6:$H6)) -> 0.020942408 | F21: =SUM(F6/SUM($D6:$H6)) -> 0.083769634 | G21: =SUM(G6/SUM($D6:$H6)) -> 0.40314136 | H21: =SUM(H6/SUM($D6:$H6)) -> 0.47643979 | J21: 3 | K21: Condições físicas de trabalho | L21: =SUM(L6/SUM($L6:$N6)) -> 0.039473684 | M21: =SUM(M6/SUM($L6:$N6)) -> 0.047368421 | N21: =SUM(N6/SUM($L6:$N6)) -> 0.91315789
B22: 4 | C22: Equilíbrio vida profissional / pessoal | D22: =SUM(D7/SUM($D7:$H7)) -> 0.01061008 | E22: =SUM(E7/SUM($D7:$H7)) -> 0.0053050398 | F22: =SUM(F7/SUM($D7:$H7)) -> 0.058355438 | G22: =SUM(G7/SUM($D7:$H7)) -> 0.28647215 | H22: =SUM(H7/SUM($D7:$H7)) -> 0.63925729 | J22: 4 | K22: Equilíbrio vida profissional / pessoal | L22: =SUM(L7/SUM($L7:$N7)) -> 0.028871391 | M22: =SUM(M7/SUM($L7:$N7)) -> 0.047244094 | N22: =SUM(N7/SUM($L7:$N7)) -> 0.92388451
B23: 5 | C23: Independência | D23: =SUM(D8/SUM($D8:$H8)) -> 0.013227513 | E23: =SUM(E8/SUM($D8:$H8)) -> 0.015873016 | F23: =SUM(F8/SUM($D8:$H8)) -> 0.1031746 | G23: =SUM(G8/SUM($D8:$H8)) -> 0.42857143 | H23: =SUM(H8/SUM($D8:$H8)) -> 0.43915344 | J23: 5 | K23: Independência | L23: =SUM(L8/SUM($L8:$N8)) -> 0.066666667 | M23: =SUM(M8/SUM($L8:$N8)) -> 0.11466667 | N23: =SUM(N8/SUM($L8:$N8)) -> 0.81866667
B24: 6 | C24: Possibilidade de progressão na carreira | D24: =SUM(D9/SUM($D9:$H9)) -> 0.028871391 | E24: =SUM(E9/SUM($D9:$H9)) -> 0.010498688 | F24: =SUM(F9/SUM($D9:$H9)) -> 0.057742782 | G24: =SUM(G9/SUM($D9:$H9)) -> 0.34645669 | H24: =SUM(H9/SUM($D9:$H9)) -> 0.55643045 | J24: 6 | K24: Possibilidade de progressão na carreira | L24: =SUM(L9/SUM($L9:$N9)) -> 0.039370079 | M24: =SUM(M9/SUM($L9:$N9)) -> 0.057742782 | N24: =SUM(N9/SUM($L9:$N9)) -> 0.90288714
B25: 7 | C25: Recompensas intrínsecas | D25: =SUM(D10/SUM($D10:$H10)) -> 0.04 | E25: =SUM(E10/SUM($D10:$H10)) -> 0.026666667 | F25: =SUM(F10/SUM($D10:$H10)) -> 0.11466667 | G25: =SUM(G10/SUM($D10:$H10)) -> 0.40533333 | H25: =SUM(H10/SUM($D10:$H10)) -> 0.41333333 | J25: 7 | K25: Recompensas intrínsecas | L25: =SUM(L10/SUM($L10:$N10)) -> 0.029100529 | M25: =SUM(M10/SUM($L10:$N10)) -> 0.1031746 | N25: =SUM(N10/SUM($L10:$N10)) -> 0.86772487
B26: 8 | C26: Relações interpessoais/ambiente social | D26: =SUM(D11/SUM($D11:$H11)) -> 0.010498688 | E26: =SUM(E11/SUM($D11:$H11)) -> 0.018372703 | F26: =SUM(F11/SUM($D11:$H11)) -> 0.047244094 | G26: =SUM(G11/SUM($D11:$H11)) -> 0.29658793 | H26: =SUM(H11/SUM($D11:$H11)) -> 0.62729659 | J26: 8 | K26: Relações interpessoais/ambiente social | L26: =SUM(L11/SUM($L11:$N11)) -> 0.015915119 | M26: =SUM(M11/SUM($L11:$N11)) -> 0.058355438 | N26: =SUM(N11/SUM($L11:$N11)) -> 0.92572944
B27: 9 | C27: Remuneração | D27: =SUM(D12/SUM($D12:$H12)) -> 0.023684211 | E27: =SUM(E12/SUM($D12:$H12)) -> 0.015789474 | F27: =SUM(F12/SUM($D12:$H12)) -> 0.047368421 | G27: =SUM(G12/SUM($D12:$H12)) -> 0.32894737 | H27: =SUM(H12/SUM($D12:$H12)) -> 0.58421053 | J27: 9 | K27: Remuneração | L27: =SUM(L12/SUM($L12:$N12)) -> 0.036649215 | M27: =SUM(M12/SUM($L12:$N12)) -> 0.083769634 | N27: =SUM(N12/SUM($L12:$N12)) -> 0.87958115
B28: 10 | C28: Saúde | D28: =SUM(D13/SUM($D13:$H13)) -> 0.01305483 | E28: =SUM(E13/SUM($D13:$H13)) -> 0.0078328982 | F28: =SUM(F13/SUM($D13:$H13)) -> 0.020887728 | G28: =SUM(G13/SUM($D13:$H13)) -> 0.15665796 | H28: =SUM(H13/SUM($D13:$H13)) -> 0.80156658 | J28: 10 | K28: Saúde | L28: =SUM(L13/SUM($L13:$N13)) -> 0.02617801 | M28: =SUM(M13/SUM($L13:$N13)) -> 0.02617801 | N28: =SUM(N13/SUM($L13:$N13)) -> 0.94764398
B29: 11 | C29: Segurança | D29: =SUM(D14/SUM($D14:$H14)) -> 0.015706806 | E29: =SUM(E14/SUM($D14:$H14)) -> 0.0052356021 | F29: =SUM(F14/SUM($D14:$H14)) -> 0.036649215 | G29: =SUM(G14/SUM($D14:$H14)) -> 0.22251309 | H29: =SUM(H14/SUM($D14:$H14)) -> 0.71989529 | J29: 11 | K29: Segurança | L29: =SUM(L14/SUM($L14:$N14)) -> 0.026246719 | M29: =SUM(M14/SUM($L14:$N14)) -> 0.060367454 | N29: =SUM(N14/SUM($L14:$N14)) -> 0.91338583
C31: Desvio Padrão | D31: =STDEV(D19:E29)*100 -> 0.85042193 | E31: =STDEV(E19:F29)*100 -> 3.1811575 | F31: =STDEV(F19:G29)*100 -> 15.157179 | G31: =STDEV(G19:H29)*100 -> 16.728368 | H31: =STDEV(H19:I29)*100 -> 12.33226 | K31: Desvio Padrão | L31: =STDEV(L19:M29)*100 -> 2.6857186 | M31: =STDEV(M19:N29)*100 -> 43.577595 | N31: =STDEV(N19:O29)*100 -> 4.0415471
C32: Variância | D32: =VAR(D19:E29)*10000 -> 0.72321746 | E32: =VAR(E19:F29)*10000 -> 10.119763 | F32: =VAR(F19:G29)*10000 -> 229.74006 | G32: =VAR(G19:H29)*10000 -> 279.83828 | H32: =VAR(H19:I29)*10000 -> 152.08463 | K32: Variância | L32: =VAR(L19:M29)*10000 -> 7.2130842 | M32: =VAR(M19:N29)*10000 -> 1899.0068 | N32: =VAR(N19:O29)*10000 -> 16.334103
C33: Média | D33: =AVERAGE(D19:E29) -> 0.015922798 | E33: =AVERAGE(E19:F29) -> 0.03653985 | F33: =AVERAGE(F19:G29) -> 0.19339785 | G33: =AVERAGE(G19:H29) -> 0.45424065 | H33: =AVERAGE(H19:I29) -> 0.5813587 | K33: Média | L33: =AVERAGE(L19:M29) -> 0.045759345 | M33: =AVERAGE(M19:N29) -> 0.4840772 | N33: =AVERAGE(N19:O29) -> 0.90848131

Sheet Gráf_Mais 39a_Parte B1

Sheet Gráf_Mais 39a_Parte B2

Sheet Gráf_Mais 39a_Parte B21

Sheet Gráf_Mais 39a_Parte B3

Sheet Gráf_Mais 39a_Parte B31

Sheet Menos 39a_Parte B_Percentagem
A1: PARTE B
C2: Nº Respostas | K2: Nº Respostas
B3: Coluna1 | C3: Dimensões da qualidade do trabalho | D3: Nada Importante | E3: Pouco Importante | F3: Mais ou Menos Importante | G3: Importante | H3: Muito Importante | J3: Coluna1 | K3: Dimensões da qualidade do trabalho | L3: Nada Importante + Pouco Importante | M3: Mais ou Menos Importante | N3: Importante + Muito Importante
B4: 1 | C4: Autonomia | D4: 1 | E4: 1 | F4: 18 | G4: 207 | H4: 201 | J4: 1 | K4: Autonomia | L4: 2 | M4: 18 | N4: 408
B5: 2 | C5: Aprendizagem/Formação | D5: 1 | E5: 5 | F5: 11 | G5: 88 | H5: 324 | J5: 2 | K5: Aprendizagem/Formação | L5: 6 | M5: 11 | N5: 412
B6: 3 | C6: Condições físicas de trabalho | D6: 2 | E6: 4 | F6: 28 | G6: 185 | H6: 209 | J6: 3 | K6: Condições físicas de trabalho | L6: 6 | M6: 28 | N6: 394
B7: 4 | C7: Equilíbrio vida profissional / pessoal | D7: 0 | E7: 3 | F7: 16 | G7: 108 | H7: 303 | J7: 4 | K7: Equilíbrio vida profissional / pessoal | L7: 3 | M7: 16 | N7: 411
B8: 5 | C8: Independência | D8: 0 | E8: 3 | F8: 42 | G8: 217 | H8: 166 | J8: 5 | K8: Independência | L8: 3 | M8: 42 | N8: 383
B9: 6 | C9: Possibilidade de progressão na carreira | D9: 6 | E9: 5 | F9: 19 | G9: 109 | H9: 288 | J9: 6 | K9: Possibilidade de progressão na carreira | L9: 11 | M9: 19 | N9: 397
B10: 7 | C10: Recompensas intrínsecas | D10: 6 | E10: 5 | F10: 57 | G10: 184 | H10: 172 | J10: 7 | K10: Recompensas intrínsecas | L10: 11 | M10: 57 | N10: 356
B11: 8 | C11: Relações interpessoais/ambiente social | D11: 0 | E11: 2 | F11: 22 | G11: 152 | H11: 252 | J11: 8 | K11: Relações interpessoais/ambiente social | L11: 2 | M11: 22 | N11: 404
B12: 9 | C12: Remuneração | D12: 3 | E12: 4 | F12: 15 | G12: 144 | H12: 260 | J12: 9 | K12: Remuneração | L12: 7 | M12: 15 | N12: 404
B13: 10 | C13: Saúde | D13: 1 | E13: 1 | F13: 13 | G13: 75 | H13: 339 | J13: 10 | K13: Saúde | L13: 2 | M13: 13 | N13: 414
B14: 11 | C14: Segurança | D14: 2 | E14: 1 | F14: 11 | G14: 99 | H14: 317 | J14: 11 | K14: Segurança | L14: 3 | M14: 11 | N14: 416
C17: Percentagem de respostas | K17: Percentagem de respostas
B18: Coluna1 | C18: Dimensões da qualidade do trabalho | D18: Nada Importante | E18: Pouco Importante | F18: Mais ou Menos Importante | G18: Importante | H18: Muito Importante | J18: Coluna1 | K18: Dimensões da qualidade do trabalho | L18: Nada Importante + Pouco Importante | M18: Mais ou Menos Importante | N18: Importante + Muito Importante
B19: 1 | C19: Autonomia | D19: =SUM(D4/SUM($D4:$H4)) -> 0.0023364486 | E19: =SUM(E4/SUM($D4:$H4)) -> 0.0023364486 | F19: =SUM(F4/SUM($D4:$H4)) -> 0.042056075 | G19: =SUM(G4/SUM($D4:$H4)) -> 0.48364486 | H19: =SUM(H4/SUM($D4:$H4)) -> 0.46962617 | J19: 1 | K19: Autonomia | L19: =SUM(L4/SUM($L4:$N4)) -> 0.0046728972 | M19: =SUM(M4/SUM($L4:$N4)) -> 0.042056075 | N19: =SUM(N4/SUM($L4:$N4)) -> 0.95327103
B20: 2 | C20: Aprendizagem/Formação | D20: =SUM(D5/SUM($D5:$H5)) -> 0.0023310023 | E20: =SUM(E5/SUM($D5:$H5)) -> 0.011655012 | F20: =SUM(F5/SUM($D5:$H5)) -> 0.025641026 | G20: =SUM(G5/SUM($D5:$H5)) -> 0.20512821 | H20: =SUM(H5/SUM($D5:$H5)) -> 0.75524476 | J20: 2 | K20: Aprendizagem/Formação | L20: =SUM(L5/SUM($L5:$N5)) -> 0.013986014 | M20: =SUM(M5/SUM($L5:$N5)) -> 0.025641026 | N20: =SUM(N5/SUM($L5:$N5)) -> 0.96037296
B21: 3 | C21: Condições físicas de trabalho | D21: =SUM(D6/SUM($D6:$H6)) -> 0.0046728972 | E21: =SUM(E6/SUM($D6:$H6)) -> 0.0093457944 | F21: =SUM(F6/SUM($D6:$H6)) -> 0.065420561 | G21: =SUM(G6/SUM($D6:$H6)) -> 0.43224299 | H21: =SUM(H6/SUM($D6:$H6)) -> 0.48831776 | J21: 3 | K21: Condições físicas de trabalho | L21: =SUM(L6/SUM($L6:$N6)) -> 0.014018692 | M21: =SUM(M6/SUM($L6:$N6)) -> 0.065420561 | N21: =SUM(N6/SUM($L6:$N6)) -> 0.92056075
B22: 4 | C22: Equilíbrio vida profissional / pessoal | D22: =SUM(D7/SUM($D7:$H7)) -> 0 | E22: =SUM(E7/SUM($D7:$H7)) -> 0.0069767442 | F22: =SUM(F7/SUM($D7:$H7)) -> 0.037209302 | G22: =SUM(G7/SUM($D7:$H7)) -> 0.25116279 | H22: =SUM(H7/SUM($D7:$H7)) -> 0.70465116 | J22: 4 | K22: Equilíbrio vida profissional / pessoal | L22: =SUM(L7/SUM($L7:$N7)) -> 0.0069767442 | M22: =SUM(M7/SUM($L7:$N7)) -> 0.037209302 | N22: =SUM(N7/SUM($L7:$N7)) -> 0.95581395
B23: 5 | C23: Independência | D23: =SUM(D8/SUM($D8:$H8)) -> 0 | E23: =SUM(E8/SUM($D8:$H8)) -> 0.0070093458 | F23: =SUM(F8/SUM($D8:$H8)) -> 0.098130841 | G23: =SUM(G8/SUM($D8:$H8)) -> 0.50700935 | H23: =SUM(H8/SUM($D8:$H8)) -> 0.38785047 | J23: 5 | K23: Independência | L23: =SUM(L8/SUM($L8:$N8)) -> 0.0070093458 | M23: =SUM(M8/SUM($L8:$N8)) -> 0.098130841 | N23: =SUM(N8/SUM($L8:$N8)) -> 0.89485981
B24: 6 | C24: Possibilidade de progressão na carreira | D24: =SUM(D9/SUM($D9:$H9)) -> 0.014051522 | E24: =SUM(E9/SUM($D9:$H9)) -> 0.011709602 | F24: =SUM(F9/SUM($D9:$H9)) -> 0.044496487 | G24: =SUM(G9/SUM($D9:$H9)) -> 0.25526932 | H24: =SUM(H9/SUM($D9:$H9)) -> 0.67447307 | J24: 6 | K24: Possibilidade de progressão na carreira | L24: =SUM(L9/SUM($L9:$N9)) -> 0.025761124 | M24: =SUM(M9/SUM($L9:$N9)) -> 0.044496487 | N24: =SUM(N9/SUM($L9:$N9)) -> 0.92974239
B25: 7 | C25: Recompensas intrínsecas | D25: =SUM(D10/SUM($D10:$H10)) -> 0.014150943 | E25: =SUM(E10/SUM($D10:$H10)) -> 0.011792453 | F25: =SUM(F10/SUM($D10:$H10)) -> 0.13443396 | G25: =SUM(G10/SUM($D10:$H10)) -> 0.43396226 | H25: =SUM(H10/SUM($D10:$H10)) -> 0.40566038 | J25: 7 | K25: Recompensas intrínsecas | L25: =SUM(L10/SUM($L10:$N10)) -> 0.025943396 | M25: =SUM(M10/SUM($L10:$N10)) -> 0.13443396 | N25: =SUM(N10/SUM($L10:$N10)) -> 0.83962264
B26: 8 | C26: Relações interpessoais/ambiente social | D26: =SUM(D11/SUM($D11:$H11)) -> 0 | E26: =SUM(E11/SUM($D11:$H11)) -> 0.0046728972 | F26: =SUM(F11/SUM($D11:$H11)) -> 0.051401869 | G26: =SUM(G11/SUM($D11:$H11)) -> 0.35514019 | H26: =SUM(H11/SUM($D11:$H11)) -> 0.58878505 | J26: 8 | K26: Relações interpessoais/ambiente social | L26: =SUM(L11/SUM($L11:$N11)) -> 0.0046728972 | M26: =SUM(M11/SUM($L11:$N11)) -> 0.051401869 | N26: =SUM(N11/SUM($L11:$N11)) -> 0.94392523
B27: 9 | C27: Remuneração | D27: =SUM(D12/SUM($D12:$H12)) -> 0.0070422535 | E27: =SUM(E12/SUM($D12:$H12)) -> 0.0093896714 | F27: =SUM(F12/SUM($D12:$H12)) -> 0.035211268 | G27: =SUM(G12/SUM($D12:$H12)) -> 0.33802817 | H27: =SUM(H12/SUM($D12:$H12)) -> 0.61032864 | J27: 9 | K27: Remuneração | L27: =SUM(L12/SUM($L12:$N12)) -> 0.016431925 | M27: =SUM(M12/SUM($L12:$N12)) -> 0.035211268 | N27: =SUM(N12/SUM($L12:$N12)) -> 0.94835681
B28: 10 | C28: Saúde | D28: =SUM(D13/SUM($D13:$H13)) -> 0.0023310023 | E28: =SUM(E13/SUM($D13:$H13)) -> 0.0023310023 | F28: =SUM(F13/SUM($D13:$H13)) -> 0.03030303 | G28: =SUM(G13/SUM($D13:$H13)) -> 0.17482517 | H28: =SUM(H13/SUM($D13:$H13)) -> 0.79020979 | J28: 10 | K28: Saúde | L28: =SUM(L13/SUM($L13:$N13)) -> 0.0046620047 | M28: =SUM(M13/SUM($L13:$N13)) -> 0.03030303 | N28: =SUM(N13/SUM($L13:$N13)) -> 0.96503497
B29: 11 | C29: Segurança | D29: =SUM(D14/SUM($D14:$H14)) -> 0.0046511628 | E29: =SUM(E14/SUM($D14:$H14)) -> 0.0023255814 | F29: =SUM(F14/SUM($D14:$H14)) -> 0.025581395 | G29: =SUM(G14/SUM($D14:$H14)) -> 0.23023256 | H29: =SUM(H14/SUM($D14:$H14)) -> 0.7372093 | J29: 11 | K29: Segurança | L29: =SUM(L14/SUM($L14:$N14)) -> 0.0069767442 | M29: =SUM(M14/SUM($L14:$N14)) -> 0.025581395 | N29: =SUM(N14/SUM($L14:$N14)) -> 0.96744186
C31: Desvio Padrão | D31: =STDEV(D19:E29)*100 -> 0.46248528 | E31: =STDEV(E19:F29)*100 -> 3.3509713 | F31: =STDEV(F19:G29)*100 -> 16.620245 | G31: =STDEV(G19:H29)*100 -> 18.78055 | H31: =STDEV(H19:I29)*100 -> 14.424609 | K31: Desvio Padrão | L31: =STDEV(L19:M29)*100 -> 3.2226178 | M31: =STDEV(M19:N29)*100 -> 45.215805 | N31: =STDEV(N19:O29)*100 -> 3.8163353
C32: Variância | D32: =VAR(D19:E29)*10000 -> 0.21389263 | E32: =VAR(E19:F29)*10000 -> 11.229009 | F32: =VAR(F19:G29)*10000 -> 276.23254 | G32: =VAR(G19:H29)*10000 -> 352.70904 | H32: =VAR(H19:I29)*10000 -> 208.06934 | K32: Variância | L32: =VAR(L19:M29)*10000 -> 10.385266 | M32: =VAR(M19:N29)*10000 -> 2044.469 | N32: =VAR(N19:O29)*10000 -> 14.564415
C33: Média | D33: =AVERAGE(D19:E29) -> 0.0059596265 | E33: =AVERAGE(E19:F29) -> 0.030428653 | F33: =AVERAGE(F19:G29) -> 0.19347871 | G33: =AVERAGE(G19:H29) -> 0.46722738 | H33: =AVERAGE(H19:I29) -> 0.60112332 | K33: Média | L33: =AVERAGE(L19:M29) -> 0.032772618 | M33: =AVERAGE(M19:N29) -> 0.49404037 | N33: =AVERAGE(N19:O29) -> 0.93445476

Sheet Gráf_Menos 39a_Parte B1

Sheet Gráf_Menos 39a_Parte B2

Sheet Gráf_Menos 39a_Parte B21

Sheet Gráf_Menos 39a_Parte B3

Sheet Gráf_Menos 39a_Parte B31

Sheet Mais 12a Sv_Parte B_Percentagem
A1: PARTE B
C2: Nº Respostas | K2: Nº Respostas
B3: Coluna1 | C3: Dimensões da qualidade do trabalho | D3: Nada Importante | E3: Pouco Importante | F3: Mais ou Menos Importante | G3: Importante | H3: Muito Importante | J3: Coluna1 | K3: Dimensões da qualidade do trabalho | L3: Nada Importante + Pouco Importante | M3: Mais ou Menos Importante | N3: Importante + Muito Importante
B4: 1 | C4: Autonomia | D4: 3 | E4: 1 | F4: 13 | G4: 140 | H4: 128 | J4: 1 | K4: Autonomia | L4: 4 | M4: 13 | N4: 268
B5: 2 | C5: Aprendizagem/Formação | D5: 1 | E5: 4 | F5: 5 | G5: 67 | H5: 209 | J5: 2 | K5: Aprendizagem/Formação | L5: 5 | M5: 5 | N5: 276
B6: 3 | C6: Condições físicas de trabalho | D6: 1 | E6: 3 | F6: 22 | G6: 128 | H6: 132 | J6: 3 | K6: Condições físicas de trabalho | L6: 4 | M6: 22 | N6: 260
B7: 4 | C7: Equilíbrio vida profissional / pessoal | D7: 0 | E7: 2 | F7: 14 | G7: 73 | H7: 195 | J7: 4 | K7: Equilíbrio vida profissional / pessoal | L7: 2 | M7: 14 | N7: 268
B8: 5 | C8: Independência | D8: 1 | E8: 5 | F8: 38 | G8: 125 | H8: 117 | J8: 5 | K8: Independência | L8: 6 | M8: 38 | N8: 242
B9: 6 | C9: Possibilidade de progressão na carreira | D9: 5 | E9: 4 | F9: 15 | G9: 81 | H9: 180 | J9: 6 | K9: Possibilidade de progressão na carreira | L9: 9 | M9: 15 | N9: 261
B10: 7 | C10: Recompensas intrínsecas | D10: 5 | E10: 6 | F10: 34 | G10: 122 | H10: 115 | J10: 7 | K10: Recompensas intrínsecas | L10: 11 | M10: 34 | N10: 237
B11: 8 | C11: Relações interpessoais/ambiente social | D11: 1 | E11: 5 | F11: 12 | G11: 105 | H11: 163 | J11: 8 | K11: Relações interpessoais/ambiente social | L11: 6 | M11: 12 | N11: 268
B12: 9 | C12: Remuneração | D12: 3 | E12: 1 | F12: 9 | G12: 110 | H12: 163 | J12: 9 | K12: Remuneração | L12: 4 | M12: 9 | N12: 273
B13: 10 | C13: Saúde | D13: 0 | E13: 2 | F13: 4 | G13: 51 | H13: 229 | J13: 10 | K13: Saúde | L13: 2 | M13: 4 | N13: 280
B14: 11 | C14: Segurança | D14: 1 | E14: 3 | F14: 3 | G14: 66 | H14: 212 | J14: 11 | K14: Segurança | L14: 4 | M14: 3 | N14: 278
C17: Percentagem de respostas | K17: Percentagem de respostas
B18: Coluna1 | C18: Dimensões da qualidade do trabalho | D18: Nada Importante | E18: Pouco Importante | F18: Mais ou Menos Importante | G18: Importante | H18: Muito Importante | J18: Coluna1 | K18: Dimensões da qualidade do trabalho | L18: Nada Importante + Pouco Importante | M18: Mais ou Menos Importante | N18: Importante + Muito Importante
B19: 1 | C19: Autonomia | D19: 0.010526316 | E19: 0.0035087719 | F19: 0.045614035 | G19: 0.49122807 | H19: 0.44912281 | J19: 1 | K19: Autonomia | L19: 0.014035088 | M19: 0.045614035 | N19: 0.94035088
B20: 2 | C20: Aprendizagem/Formação | D20: 0.0034965035 | E20: 0.013986014 | F20: 0.017482517 | G20: 0.23426573 | H20: 0.73076923 | J20: 2 | K20: Aprendizagem/Formação | L20: 0.017482517 | M20: 0.017482517 | N20: 0.96503497
B21: 3 | C21: Condições físicas de trabalho | D21: 0.0034965035 | E21: 0.01048951 | F21: 0.076923077 | G21: 0.44755245 | H21: 0.46153846 | J21: 3 | K21: Condições físicas de trabalho | L21: 0.013986014 | M21: 0.076923077 | N21: 0.90909091
B22: 4 | C22: Equilíbrio vida profissional / pessoal | D22: 0 | E22: 0.0070422535 | F22: 0.049295775 | G22: 0.25704225 | H22: 0.68661972 | J22: 4 | K22: Equilíbrio vida profissional / pessoal | L22: 0.0070422535 | M22: 0.049295775 | N22: 0.94366197
B23: 5 | C23: Independência | D23: 0.0034965035 | E23: 0.017482517 | F23: 0.13286713 | G23: 0.43706294 | H23: 0.40909091 | J23: 5 | K23: Independência | L23: 0.020979021 | M23: 0.13286713 | N23: 0.84615385
B24: 6 | C24: Possibilidade de progressão na carreira | D24: 0.01754386 | E24: 0.014035088 | F24: 0.052631579 | G24: 0.28421053 | H24: 0.63157895 | J24: 6 | K24: Possibilidade de progressão na carreira | L24: 0.031578947 | M24: 0.052631579 | N24: 0.91578947
B25: 7 | C25: Recompensas intrínsecas | D25: 0.017730496 | E25: 0.021276596 | F25: 0.12056738 | G25: 0.43262411 | H25: 0.40780142 | J25: 7 | K25: Recompensas intrínsecas | L25: 0.039007092 | M25: 0.12056738 | N25: 0.84042553
B26: 8 | C26: Relações interpessoais/ambiente social | D26: 0.0034965035 | E26: 0.017482517 | F26: 0.041958042 | G26: 0.36713287 | H26: 0.56993007 | J26: 8 | K26: Relações interpessoais/ambiente social | L26: 0.020979021 | M26: 0.041958042 | N26: 0.93706294
B27: 9 | C27: Remuneração | D27: 0.01048951 | E27: 0.0034965035 | F27: 0.031468531 | G27: 0.38461538 | H27: 0.56993007 | J27: 9 | K27: Remuneração | L27: 0.013986014 | M27: 0.031468531 | N27: 0.95454545
B28: 10 | C28: Saúde | D28: 0 | E28: 0.006993007 | F28: 0.013986014 | G28: 0.17832168 | H28: 0.8006993 | J28: 10 | K28: Saúde | L28: 0.006993007 | M28: 0.013986014 | N28: 0.97902098
B29: 11 | C29: Segurança | D29: 0.0035087719 | E29: 0.010526316 | F29: 0.010526316 | G29: 0.23157895 | H29: 0.74385965 | J29: 11 | K29: Segurança | L29: 0.014035088 | M29: 0.010526316 | N29: 0.9754386
C31: Desvio Padrão | D31: =STDEV(D19:E29)*100 -> 0.64901325 | E31: =STDEV(E19:F29)*100 -> 3.5864363 | F31: =STDEV(F19:G29)*100 -> 16.657116 | G31: =STDEV(G19:H29)*100 -> 17.611025 | H31: =STDEV(H19:I29)*100 -> 14.210881 | K31: Desvio Padrão | L31: =STDEV(L19:M29)*100 -> 3.4312712 | M31: =STDEV(M19:N29)*100 -> 44.932222 | N31: =STDEV(N19:O29)*100 -> 4.7206287
C32: Variância | D32: =VAR(D19:E29)*10000 -> 0.4212182 | E32: =VAR(E19:F29)*10000 -> 12.862525 | F32: =VAR(F19:G29)*10000 -> 277.45952 | G32: =VAR(G19:H29)*10000 -> 310.14819 | H32: =VAR(H19:I29)*10000 -> 201.94915 | K32: Variância | L32: =VAR(L19:M29)*10000 -> 11.773622 | M32: =VAR(M19:N29)*10000 -> 2018.9046 | N32: =VAR(N19:O29)*10000 -> 22.284335
C33: Média | D33: =AVERAGE(D19:E29) -> 0.0090956392 | E33: =AVERAGE(E19:F29) -> 0.032710886 | F33: =AVERAGE(F19:G29) -> 0.19722524 | G33: =AVERAGE(G19:H29) -> 0.46393525 | H33: =AVERAGE(H19:I29) -> 0.58735823 | K33: Média | L33: =AVERAGE(L19:M29) -> 0.036064748 | M33: =AVERAGE(M19:N29) -> 0.49090436 | N33: =AVERAGE(N19:O29) -> 0.9278705

Sheet Gráf_Mais 12a Serviço_Parte B1

Sheet Gráf_Mais 12a Serviço_Parte B2

Sheet Gráf_Mais 12a Serviço_Parte B21

Sheet Gráf_Mais 12a Serviço_Parte B3

Sheet Gráf_Mais 12a Serviço_Parte B31

Sheet Menos 12a S_Parte B_Percentagem
A1: PARTE B
C2: Nº Respostas | K2: Nº Respostas
B3: Coluna1 | C3: Dimensões da qualidade do trabalho | D3: Nada Importante | E3: Pouco Importante | F3: Mais ou Menos Importante | G3: Importante | H3: Muito Importante | J3: Coluna1 | K3: Dimensões da qualidade do trabalho | L3: Nada Importante + Pouco Importante | M3: Mais ou Menos Importante | N3: Importante + Muito Importante
B4: 1 | C4: Autonomia | D4: 6 | E4: 2 | F4: 22 | G4: 196 | H4: 211 | J4: 1 | K4: Autonomia | L4: 8 | M4: 22 | N4: 407
B5: 2 | C5: Aprendizagem/Formação | D5: 4 | E5: 6 | F5: 15 | G5: 102 | H5: 311 | J5: 2 | K5: Aprendizagem/Formação | L5: 10 | M5: 15 | N5: 413
B6: 3 | C6: Condições físicas de trabalho | D6: 6 | E6: 6 | F6: 35 | G6: 170 | H6: 220 | J6: 3 | K6: Condições físicas de trabalho | L6: 12 | M6: 35 | N6: 390
B7: 4 | C7: Equilíbrio vida profissional / pessoal | D7: 3 | E7: 4 | F7: 21 | G7: 106 | H7: 301 | J7: 4 | K7: Equilíbrio vida profissional / pessoal | L7: 7 | M7: 21 | N7: 407
B8: 5 | C8: Independência | D8: 3 | E8: 5 | F8: 36 | G8: 211 | H8: 178 | J8: 5 | K8: Independência | L8: 8 | M8: 36 | N8: 389
