Workbook

Sheet 01. Inicio
H9: MODELO FINANCEIRO - ANEXO NP4
H10: NOTAS INTRODUTÓRIAS
H12: I.
H13: Este modelo foi desenvolvido com o objectivo de apoiar a resolução do Caso "Apia Infra I: Competir no Mercado de Fundraising" - Miguel Raposo Alves - ISCTE Business Scholl 2011.
H15: II.
H16: O modelo financeiro deve ser manipulado pelos utilizadores através da alteração das células sombreadas a azul, não sendo necessário qualquer procedimento de modelização adicional.
H18: III.
H19: As opções seleccionadas pelos utilizadores devem estar harmonizadas com os termos e condições propostos na Ficha Técnica 2011.
H20: Não obstante, algumas derivações nos termos e condições a propor na Ficha Técnica 2011 poderão não ser enquadráveis no presente modelo financeiro, que tem por objectivo uma aproximação
H21: sumária e indicativa a um estudo de viabilidade para o Apia Infra I. Nesses casos deverá o utilizador efectuar referência na resolução escrita de tal limitação do modelo financeiro, indicando a opção
H22: que nos termos e condições da Ficha Técnica 2011 não foi contemplada no modelo financeiro. Alguns exemplo são:
H24: (1) o modelo financeiro não admite o endividamento do fundo;
... H53: o modelo um montante de investimento superior à referência "montante ref ano 0".

Sheet 02. Controlo
A1: MODELO FINANCEIRO
A2: CONTROLO
Q5: (Montantes em EUR mil, excepto quando indicado o contrário)
B7: PRESSUPOSTOS GERAIS | F7: PRINCIPAIS INDICADORES
B8: Dimensão fundo | C8: 1000000 | F8: =+'04-Aux. Calculos'!B777 -> TIR | N8: BUILD UP DA TIR LÍQUIDA
F9: =+'04-Aux. Calculos'!B778 -> Bruta (apenas actividades de investimento) | L9: =+'04-Aux. Calculos'!C778 -> 0.1650878
B10: Vida do fundo (em anos) | C10: 10 | F10: =+'04-Aux. Calculos'!B779 -> Líquida (investimento + despesas antes carried) | L10: =+'04-Aux. Calculos'!C779 -> 0.11744458
B11: Período de investimento (em anos) | C11: 5 | F11: =+'04-Aux. Calculos'!B780 -> Final (investimento + despesas incluindo carried) | L11: =+'04-Aux. Calculos'!C780 -> 0.096381605
B12: Período de desinvestimento (em anos) | C12: 4
F13: RESUMO CUSTOS (TOTAL PERÍODO VIDA DO FUNDO)
B14: Período de desembolso de fundos por investidores | C14: 5 | F14: =+'03. Projecções CF'!B42 -> Despesas constituição | L14: =-SUM('03. Projecções CF'!D42:R42) -> 1025
F15: =+'03. Projecções CF'!B43 -> Despesas de investimento | L15: =-SUM('03. Projecções CF'!D43:R43) -> 11935.718
B16: Inflação | C16: 0.025 | F16: =+'03. Projecções CF'!B44 -> Despesas de gestão | L16: =-SUM('03. Projecções CF'!D44:R44) -> 40310.558
F17: =+'03. Projecções CF'!B45 -> Despesas de desinvestimento | L17: =-SUM('03. Projecções CF'!D45:R45) -> 18811.872
B18: Despesas de constituição | F18: =+'03. Projecções CF'!B46 -> Comissão de gestão | L18: =-SUM('03. Projecções CF'!D46:R46) -> 250000
B19: Montante | C19: 1000 | F19: Carried interest | L19: =-SUM('03. Projecções CF'!D56:R56,'03. Projecções CF'!D58:R58) -> 239643.06
B20: % imputado ao fundo | C20: 1
F21: CASH FLOW PROJECTOS | M21: VALOR CARTEIRA POR TIPO PROJECTO (CLASSIF. MOMENTO INVEST.)
B22: Despesas de investimento
B23: Oportunidade concretizada - taxa sobre valor investimento | C23: 0.01
B24: Aborting costs - taxa sobre oportunidades concretizadas | C24: 0.3
B25: % aborting costs imputados ao fundo | C25: 1
B27: Despesas de gestão
B28: Fixas | C28: 1000
B29: Variáveis (participada/ano) | C29: 300
B31: Despesas de desinvestimento / oportunidade | C31: 0.01
B33: Comissão de Gestão
B34: Incidência em período investimento | C34: 1 | F34: CASH FLOW DE INVESTIDORES & CARRIED INTEREST | M34: CASH YIELD DE INVESTIDORES (SOBRE VALOR TOTAL INVESTIMENTO)
B35: Taxa em período investimento | C35: 0.025
B36: Incidência em período pós-investimento | C36: 1
B37: Taxa em período pós-investimento | C37: 0.025
B39: Carried Interest
B40: Hurdle rate | C40: 0.08
B41: Proporção investidores | C41: 0.8
B42: Catch up | C42: 1
B48: PRESSUPOSTOS DE INVESTIMENTO
G49: Momento Investimento (só pode ocorrer até final período investimento)
C50: Tipo | D50: Maturidade | F50: Montante | G50: 1 | H50: =+G50+1 -> 2 | I50: =+H50+1 -> 3 | J50: =+I50+1 -> 4 | K50: =+J50+1 -> 5 | L50: =+K50+1 -> 6 | M50: =+L50+1 -> 7 | N50: =+M50+1 -> 8 | O50: =+N50+1 -> 9 | P50: =+O50+1 -> 10
D51: Ano | E51: Tipo | F51: Ref Ano 0 | R51: Check - investimento
B52: 1 | C52: 1 | D52: 4 | E52: =+IF(D52<=3,"G",IF(D52>=9,"B","EB")) -> EB | F52: 50000 | H52: 1 | R52: =+IF(SUM(G52:P52)>1,"ERRO","OK") -> OK
...

Sheet 03. Projecções CF
A1: MODELO FINANCEIRO
A2: PROJECÇÕES DE CASH FLOW
P5: (Montantes em EUR mil, excepto quando indicado o contrário)
D7: 1 | E7: =+D7+1 -> 2 | F7: =+E7+1 -> 3 | G7: =+F7+1 -> 4 | H7: =+G7+1 -> 5 | I7: =+H7+1 -> 6 | J7: =+I7+1 -> 7 | K7: =+J7+1 -> 8 | L7: =+K7+1 -> 9 | ... R7: =+Q7+1 -> 15
B9: Cash flow actividades de investimento
B11: Por investimento | C11: (TIR)
B12: 1 | C12: =+'04-Aux. Calculos'!C409 -> 0.17307879 | D12: =+'04-Aux. Calculos'!D409 -> 0 | E12: =+'04-Aux. Calculos'!E409 -> -63570.916 | F12: =+'04-Aux. Calculos'!F409 -> 0 | G12: =+'04-Aux. Calculos'!G409 -> 0 | H12: =+'04-Aux. Calculos'!H409 -> 909.09091 | I12: =+'04-Aux. Calculos'!I409 -> 909.09091 | J12: =+'04-Aux. Calculos'!J409 -> 138901.96 | ... R12: =+'04-Aux. Calculos'!R409 -> 0
B13: =+B12+1 -> 2 | C13: =+'04-Aux. Calculos'!C410 -> 0.14715081 | D13: =+'04-Aux. Calculos'!D410 -> 0 | E13: =+'04-Aux. Calculos'!E410 -> -44254 | F13: =+'04-Aux. Calculos'!F410 -> -18000 | G13: =+'04-Aux. Calculos'!G410 -> 0 | H13: =+'04-Aux. Calculos'!H410 -> 0 | I13: =+'04-Aux. Calculos'!I410 -> 0 | J13: =+'04-Aux. Calculos'!J410 -> 1090.9091 | ... R13: =+'04-Aux. Calculos'!R410 -> 0
B14: =+B13+1 -> 3 | C14: =+'04-Aux. Calculos'!C411 -> 0.17233741 | D14: =+'04-Aux. Calculos'!D411 -> 0 | E14: =+'04-Aux. Calculos'!E411 -> 0 | F14: =+'04-Aux. Calculos'!F411 -> -10500 | G14: =+'04-Aux. Calculos'!G411 -> -14000 | H14: =+'04-Aux. Calculos'!H411 -> -10500 | I14: =+'04-Aux. Calculos'!I411 -> 0 | J14: =+'04-Aux. Calculos'!J411 -> 0 | ... R14: =+'04-Aux. Calculos'!R411 -> 0
B15: =+B14+1 -> 4 | C15: =+'04-Aux. Calculos'!C412 -> 0.14641937 | D15: =+'04-Aux. Calculos'!D412 -> -50992.839 | E15: =+'04-Aux. Calculos'!E412 -> 0 | F15: =+'04-Aux. Calculos'!F412 -> 694.575 | G15: =+'04-Aux. Calculos'!G412 -> 694.575 | H15: =+'04-Aux. Calculos'!H412 -> 694.575 | I15: =+'04-Aux. Calculos'!I412 -> 3472.875 | J15: =+'04-Aux. Calculos'!J412 -> 108622.62 | ... R15: =+'04-Aux. Calculos'!R412 -> 0
B16: =+B15+1 -> 5 | C16: =+'04-Aux. Calculos'!C413 -> 0.18267441 | D16: =+'04-Aux. Calculos'!D413 -> 0 | E16: =+'04-Aux. Calculos'!E413 -> 0 | F16: =+'04-Aux. Calculos'!F413 -> -37246.467 | G16: =+'04-Aux. Calculos'!G413 -> -15000 | H16: =+'04-Aux. Calculos'!H413 -> 0 | I16: =+'04-Aux. Calculos'!I413 -> 0 | J16: =+'04-Aux. Calculos'!J413 -> 0 | ... R16: =+'04-Aux. Calculos'!R413 -> 0
B17: =+B16+1 -> 6 | C17: =+'04-Aux. Calculos'!C414 -> 0.15744783 | D17: =+'04-Aux. Calculos'!D414 -> 0 | E17: =+'04-Aux. Calculos'!E414 -> -13500 | F17: =+'04-Aux. Calculos'!F414 -> -18000 | G17: =+'04-Aux. Calculos'!G414 -> -13500 | H17: =+'04-Aux. Calculos'!H414 -> 0 | I17: =+'04-Aux. Calculos'!I414 -> 0 | J17: =+'04-Aux. Calculos'!J414 -> 0 | ... R17: =+'04-Aux. Calculos'!R414 -> 0
B18: =+B17+1 -> 7 | C18: =+'04-Aux. Calculos'!C415 -> 0.17233741 | D18: =+'04-Aux. Calculos'!D415 -> 0 | E18: =+'04-Aux. Calculos'!E415 -> 0 | F18: =+'04-Aux. Calculos'!F415 -> -9000 | G18: =+'04-Aux. Calculos'!G415 -> -12000 | H18: =+'04-Aux. Calculos'!H415 -> -9000 | I18: =+'04-Aux. Calculos'!I415 -> 0 | J18: =+'04-Aux. Calculos'!J415 -> 0 | ... R18: =+'04-Aux. Calculos'!R415 -> 0
B19: =+B18+1 -> 8 | C19: =+'04-Aux. Calculos'!C416 -> 0.1717287 | D19: =+'04-Aux. Calculos'!D416 -> 0 | E19: =+'04-Aux. Calculos'!E416 -> 0 | F19: =+'04-Aux. Calculos'!F416 -> 0 | G19: =+'04-Aux. Calculos'!G416 -> -125720.78 | H19: =+'04-Aux. Calculos'!H416 -> 1337.9521 | I19: =+'04-Aux. Calculos'!I416 -> 6689.7603 | J19: =+'04-Aux. Calculos'!J416 -> 192574.35 | ... R19: =+'04-Aux. Calculos'!R416 -> 0
B20: =+B19+1 -> 9 | C20: =+'04-Aux. Calculos'!C417 -> 0.1555875 | D20: =+'04-Aux. Calculos'!D417 -> 0 | E20: =+'04-Aux. Calculos'!E417 -> 0 | F20: =+'04-Aux. Calculos'!F417 -> -150864.93 | G20: =+'04-Aux. Calculos'!G417 -> 1605.5425 | H20: =+'04-Aux. Calculos'!H417 -> 8027.7124 | I20: =+'04-Aux. Calculos'!I417 -> 8027.7124 | J20: =+'04-Aux. Calculos'!J417 -> 8027.7124 | ... R20: =+'04-Aux. Calculos'!R417 -> 0
B21: =+B20+1 -> 10 | C21: =+'04-Aux. Calculos'!C418 -> 0.10522223 | D21: =+'04-Aux. Calculos'!D418 -> -206882.22 | E21: =+'04-Aux. Calculos'!E418 -> 13636.364 | F21: =+'04-Aux. Calculos'!F418 -> 18181.818 | G21: =+'04-Aux. Calculos'!G418 -> 18181.818 | H21: =+'04-Aux. Calculos'!H418 -> 27272.727 | I21: =+'04-Aux. Calculos'!I418 -> 27272.727 | J21: =+'04-Aux. Calculos'!J418 -> 27272.727 | ... R21: =+'04-Aux. Calculos'!R418 -> 0
B22: =+B21+1 -> 11 | C22: =+'04-Aux. Calculos'!C419 -> 0.15744783 | D22: =+'04-Aux. Calculos'!D419 -> 0 | E22: =+'04-Aux. Calculos'!E419 -> -15000 | F22: =+'04-Aux. Calculos'!F419 -> -20000 | G22: =+'04-Aux. Calculos'!G419 -> -15000 | H22: =+'04-Aux. Calculos'!H419 -> 0 | I22: =+'04-Aux. Calculos'!I419 -> 0 | J22: =+'04-Aux. Calculos'!J419 -> 0 | ... R22: =+'04-Aux. Calculos'!R419 -> 0
B23: =+B22+1 -> 12 | C23: =+'04-Aux. Calculos'!C420 -> 0.33609383 | D23: =+'04-Aux. Calculos'!D420 -> -15000 | E23: =+'04-Aux. Calculos'!E420 -> 0 | F23: =+'04-Aux. Calculos'!F420 -> 0 | G23: =+'04-Aux. Calculos'!G420 -> 0 | H23: =+'04-Aux. Calculos'!H420 -> 0 | I23: =+'04-Aux. Calculos'!I420 -> 0 | J23: =+'04-Aux. Calculos'!J420 -> 909.09091 | ... R23: =+'04-Aux. Calculos'!R420 -> 0
B24: =+B23+1 -> 13 | C24: =+'04-Aux. Calculos'!C421 -> 0.37653933 | D24: =+'04-Aux. Calculos'!D421 -> 0 | E24: =+'04-Aux. Calculos'!E421 -> 0 | F24: =+'04-Aux. Calculos'!F421 -> -12000 | G24: =+'04-Aux. Calculos'!G421 -> 0 | H24: =+'04-Aux. Calculos'!H421 -> 0 | I24: =+'04-Aux. Calculos'!I421 -> 0 | J24: =+'04-Aux. Calculos'!J421 -> 0 | ... R24: =+'04-Aux. Calculos'!R421 -> 0
... B31: =+B30+1 -> 20 | C31: =+'04-Aux. Calculos'!C428 -> 0 | D31: =+'04-Aux. Calculos'!D428 -> 0 | E31: =+'04-Aux. Calculos'!E428 -> 0 | F31: =+'04-Aux. Calculos'!F428 -> 0 | G31: =+'04-Aux. Calculos'!G428 -> 0 | H31: =+'04-Aux. Calculos'!H428 -> 0 | I31: =+'04-Aux. Calculos'!I428 -> 0 | J31: =+'04-Aux. Calculos'!J428 -> 0 | ... R31: =+'04-Aux. Calculos'!R428 -> 0
B33: Por natureza
B34: =+'04-Aux. Calculos'!B749 -> Investimento | D34: =+'04-Aux. Calculos'!D749 -> -272875.06 | E34: =+'04-Aux. Calculos'!E749 -> -136324.92 | F34: =+'04-Aux. Calculos'!F749 -> -294211.4 | G34: =+'04-Aux. Calculos'!G749 -> -195220.78 | H34: =+'04-Aux. Calculos'!H749 -> -19500 | I34: =+'04-Aux. Calculos'!I749 -> 0 | J34: =+'04-Aux. Calculos'!J749 -> 0 | K34: =+'04-Aux. Calculos'!K749 -> 0 | ... R34: =+'04-Aux. Calculos'!R749 -> 0
B35: =+'04-Aux. Calculos'!B750 -> Desinvestimento | D35: =+'04-Aux. Calculos'!D750 -> 0 | E35: =+'04-Aux. Calculos'!E750 -> 0 | F35: =+'04-Aux. Calculos'!F750 -> 0 | G35: =+'04-Aux. Calculos'!G750 -> 0 | H35: =+'04-Aux. Calculos'!H750 -> 0 | I35: =+'04-Aux. Calculos'!I750 -> 0 | J35: =+'04-Aux. Calculos'!J750 -> 429027.2 | K35: =+'04-Aux. Calculos'!K750 -> 637477.32 | ... R35: =+'04-Aux. Calculos'!R750 -> 0
B36: =+'04-Aux. Calculos'!B751 -> Dividendos | D36: =+'04-Aux. Calculos'!D751 -> 0 | E36: =+'04-Aux. Calculos'!E751 -> 13636.364 | F36: =+'04-Aux. Calculos'!F751 -> 18876.393 | G36: =+'04-Aux. Calculos'!G751 -> 20481.936 | H36: =+'04-Aux. Calculos'!H751 -> 38242.058 | I36: =+'04-Aux. Calculos'!I751 -> 46372.166 | J36: =+'04-Aux. Calculos'!J751 -> 48372.166 | K36: =+'04-Aux. Calculos'!K751 -> 40737.903 | ... R36: =+'04-Aux. Calculos'!R751 -> 0
B38: Total cash flow actividades de investimento (1) | C38: =+'04-Aux. Calculos'!C752 -> 0.1650878 | D38: =+IF(ROUND(SUM(D34:D36),0)=ROUND(SUM(D12:D31),0),SUM(D34:D36),"ERRO") -> -272875.06 | E38: =+IF(ROUND(SUM(E34:E36),0)=ROUND(SUM(E12:E31),0),SUM(E34:E36),"ERRO") -> -122688.55 | F38: =+IF(ROUND(SUM(F34:F36),0)=ROUND(SUM(F12:F31),0),SUM(F34:F36),"ERRO") -> -275335.01 | G38: =+IF(ROUND(SUM(G34:G36),0)=ROUND(SUM(G12:G31),0),SUM(G34:G36),"ERRO") -> -174738.84 | H38: =+IF(ROUND(SUM(H34:H36),0)=ROUND(SUM(H12:H31),0),SUM(H34:H36),"ERRO") -> 18742.058 | I38: =+IF(ROUND(SUM(I34:I36),0)=ROUND(SUM(I12:I31),0),SUM(I34:I36),"ERRO") -> 46372.166 | J38: =+IF(ROUND(SUM(J34:J36),0)=ROUND(SUM(J12:J31),0),SUM(J34:J36),"ERRO") -> 477399.37 | K38: =+IF(ROUND(SUM(K34:K36),0)=ROUND(SUM(K12:K31),0),SUM(K34:K36),"ERRO") -> 678215.23 | ... R38: =+IF(ROUND(SUM(R34:R36),0)=ROUND(SUM(R12:R31),0),SUM(R34:R36),"ERRO") -> 0
B40: Cash flow operacional
B42: =+'04-Aux. Calculos'!B754 -> Despesas constituição | D42: =+'04-Aux. Calculos'!D754 -> -1025 | E42: =+'04-Aux. Calculos'!E754 -> 0 | F42: =+'04-Aux. Calculos'!F754 -> 0 | G42: =+'04-Aux. Calculos'!G754 -> 0 | H42: =+'04-Aux. Calculos'!H754 -> 0 | I42: =+'04-Aux. Calculos'!I754 -> 0 | J42: =+'04-Aux. Calculos'!J754 -> 0 | K42: =+'04-Aux. Calculos'!K754 -> 0 | ... R42: =+'04-Aux. Calculos'!R754 -> 0
B43: =+'04-Aux. Calculos'!B755 -> Despesas de investimento | D43: =+'04-Aux. Calculos'!D755 -> -3547.3758 | E43: =+'04-Aux. Calculos'!E755 -> -1772.2239 | F43: =+'04-Aux. Calculos'!F755 -> -3824.7482 | G43: =+'04-Aux. Calculos'!G755 -> -2537.8701 | H43: =+'04-Aux. Calculos'!H755 -> -253.5 | I43: =+'04-Aux. Calculos'!I755 -> 0 | J43: =+'04-Aux. Calculos'!J755 -> 0 | K43: =+'04-Aux. Calculos'!K755 -> 0 | ... R43: =+'04-Aux. Calculos'!R755 -> 0
B44: =+'04-Aux. Calculos'!B756 -> Despesas de gestão | D44: =+'04-Aux. Calculos'!D756 -> -1947.5 | E44: =+'04-Aux. Calculos'!E756 -> -3256.9375 | F44: =+'04-Aux. Calculos'!F756 -> -5276.7641 | G44: =+'04-Aux. Calculos'!G756 -> -5739.827 | H44: =+'04-Aux. Calculos'!H756 -> -5883.3227 | I44: =+'04-Aux. Calculos'!I756 -> -6030.4058 | J44: =+'04-Aux. Calculos'!J756 -> -5111.3487 | K44: =+'04-Aux. Calculos'!K756 -> -3411.5281 | ... R44: =+'04-Aux. Calculos'!R756 -> 0
B45: =+'04-Aux. Calculos'!B757 -> Despesas de desinvestimento | D45: =+'04-Aux. Calculos'!D757 -> 0 | E45: =+'04-Aux. Calculos'!E757 -> 0 | F45: =+'04-Aux. Calculos'!F757 -> 0 | G45: =+'04-Aux. Calculos'!G757 -> 0 | H45: =+'04-Aux. Calculos'!H757 -> 0 | I45: =+'04-Aux. Calculos'!I757 -> 0 | J45: =+'04-Aux. Calculos'!J757 -> -4290.272 | K45: =+'04-Aux. Calculos'!K757 -> -6374.7732 | ... R45: =+'04-Aux. Calculos'!R757 -> 0
B46: =+'04-Aux. Calculos'!B758 -> Comissão de gestão | D46: =+'04-Aux. Calculos'!D758 -> -25000 | E46: =+'04-Aux. Calculos'!E758 -> -25000 | F46: =+'04-Aux. Calculos'!F758 -> -25000 | G46: =+'04-Aux. Calculos'!G758 -> -25000 | H46: =+'04-Aux. Calculos'!H758 -> -25000 | I46: =+'04-Aux. Calculos'!I758 -> -25000 | J46: =+'04-Aux. Calculos'!J758 -> -25000 | K46: =+'04-Aux. Calculos'!K758 -> -25000 | ... R46: =+'04-Aux. Calculos'!R758 -> 0
B48: Total cash flow operacional (2) | D48: =+SUM(D42:D46) -> -31519.876 | E48: =+SUM(E42:E46) -> -30029.161 | F48: =+SUM(F42:F46) -> -34101.512 | G48: =+SUM(G42:G46) -> -33277.697 | H48: =+SUM(H42:H46) -> -31136.823 | I48: =+SUM(I42:I46) -> -31030.406 | J48: =+SUM(J42:J46) -> -34401.621 | K48: =+SUM(K42:K46) -> -34786.301 | ... R48: =+SUM(R42:R46) -> 0
B50: CASH FLOW ANTES DE FINANCIAMENTO (3=1+2) | C50: =+'04-Aux. Calculos'!C761 -> 0.11744458 | D50: =+D38+D48 -> -304394.94 | E50: =+E38+E48 -> -152717.71 | F50: =+F38+F48 -> -309436.52 | G50: =+G38+G48 -> -208016.54 | H50: =+H38+H48 -> -12394.765 | I50: =+I38+I48 -> 15341.76 | J50: =+J38+J48 -> 442997.75 | K50: =+K38+K48 -> 643428.92 | ... R50: =+R38+R48 -> 0
B52: Cash flow financiamento
B54: =+'04-Aux. Calculos'!B763 -> Aumentos de capital de investidores (equity) | D54: =+'04-Aux. Calculos'!D763 -> 304394.94 | E54: =+'04-Aux. Calculos'!E763 -> 152717.71 | F54: =+'04-Aux. Calculos'!F763 -> 309436.52 | G54: =+'04-Aux. Calculos'!G763 -> 208016.54 | H54: =+'04-Aux. Calculos'!H763 -> 12394.765 | I54: =+'04-Aux. Calculos'!I763 -> 0 | J54: =+'04-Aux. Calculos'!J763 -> 0 | K54: =+'04-Aux. Calculos'!K763 -> 0 | ... R54: =+'04-Aux. Calculos'!R763 -> 0
B55: =+'04-Aux. Calculos'!B764 -> Redução capital & Dividendos - preferred return | D55: =+'04-Aux. Calculos'!D764 -> 0 | E55: =+'04-Aux. Calculos'!E764 -> 0 | F55: =+'04-Aux. Calculos'!F764 -> 0 | G55: =+'04-Aux. Calculos'!G764 -> 0 | H55: =+'04-Aux. Calculos'!H764 -> 0 | I55: =+'04-Aux. Calculos'!I764 -> -15341.76 | J55: =+'04-Aux. Calculos'!J764 -> -442997.75 | K55: =+'04-Aux. Calculos'!K764 -> -643428.92 | ... R55: =+'04-Aux. Calculos'!R764 -> 0
B56: =+'04-Aux. Calculos'!B765 -> Carried interest - catch up | D56: =+'04-Aux. Calculos'!D765 -> 0 | E56: =+'04-Aux. Calculos'!E765 -> 0 | F56: =+'04-Aux. Calculos'!F765 -> 0 | G56: =+'04-Aux. Calculos'!G765 -> 0 | H56: =+'04-Aux. Calculos'!H765 -> 0 | I56: =+'04-Aux. Calculos'!I765 -> 0 | J56: =+'04-Aux. Calculos'!J765 -> 0 | K56: =+'04-Aux. Calculos'!K765 -> 0 | ... R56: =+'04-Aux. Calculos'!R765 -> 0
B57: =+'04-Aux. Calculos'!B766 -> Dividendos - pos catch up | D57: =+'04-Aux. Calculos'!D766 -> 0 | E57: =+'04-Aux. Calculos'!E766 -> 0 | F57: =+'04-Aux. Calculos'!F766 -> 0 | G57: =+'04-Aux. Calculos'!G766 -> 0 | H57: =+'04-Aux. Calculos'!H766 -> 0 | I57: =+'04-Aux. Calculos'!I766 -> 0 | J57: =+'04-Aux. Calculos'!J766 -> 0 | K57: =+'04-Aux. Calculos'!K766 -> 0 | ... R57: =+'04-Aux. Calculos'!R766 -> 0
B58: =+'04-Aux. Calculos'!B767 -> Carried interest - pos catch up | D58: =+'04-Aux. Calculos'!D767 -> 0 | E58: =+'04-Aux. Calculos'!E767 -> 0 | F58: =+'04-Aux. Calculos'!F767 -> 0 | G58: =+'04-Aux. Calculos'!G767 -> 0 | H58: =+'04-Aux. Calculos'!H767 -> 0 | I58: =+'04-Aux. Calculos'!I767 -> 0 | J58: =+'04-Aux. Calculos'!J767 -> 0 | K58: =+'04-Aux. Calculos'!K767 -> 0 | ... R58: =+'04-Aux. Calculos'!R767 -> 0
B60: Total cash flow financiamento (4) | D60: =+SUM(D54:D58) -> 304394.94 | E60: =+SUM(E54:E58) -> 152717.71 | F60: =+SUM(F54:F58) -> 309436.52 | G60: =+SUM(G54:G58) -> 208016.54 | H60: =+SUM(H54:H58) -> 12394.765 | I60: =+SUM(I54:I58) -> -15341.76 | J60: =+SUM(J54:J58) -> -442997.75 | K60: =+SUM(K54:K58) -> -643428.92 | ... R60: =+SUM(R54:R58) -> 0
...

Sheet 04-Aux. Projectos
A1: MODELO FINANCEIRO
A2: PROJECTOS
B6: Perfil de projecto | C6: 1
B7: Região | C7: X
B8: Industria | C8: 1
C10: 0 | D10: 1 | E10: =+D10+1 -> 2 | F10: =+E10+1 -> 3 | G10: =+F10+1 -> 4 | H10: =+G10+1 -> 5 | I10: =+H10+1 -> 6 | J10: =+I10+1 -> 7 | K10: =+J10+1 -> 8 | L10: =+K10+1 -> 9 | ... AG10: =+AF10+1 -> 30
B11: Investimento | D11: -0.3 | E11: -0.4 | F11: -0.3
B12: Reembolso (dividendos e capital investido) | G12: 0 | H12: 0 | I12: 0 | J12: 0.018181818 | K12: 0.018181818 | L12: 0.018181818 | M12: 0.090909091 | N12: 0.090909091 | O12: 0.090909091 | P12: 0.090909091 | Q12: 0.090909091 | R12: 0.27272727 | S12: 0.27272727 | T12: 0.36363636 | U12: 0.36363636 | V12: 0.54545455 | W12: 0.54545455 | X12: 0.54545455 | Y12: 0.54545455 | Z12: 0.54545455 | AA12: 0.54545455 | AB12: 0.54545455 | AC12: 0.54545455 | AD12: 0.90909091 | AE12: 1.0909091 | AF12: 1.2727273 | AG12: 1.4545455
B13: TOTAL | D13: =+SUM(D11:D12) -> -0.3 | E13: =+SUM(E11:E12) -> -0.4 | F13: =+SUM(F11:F12) -> -0.3 | G13: =+SUM(G11:G12) -> 0 | H13: =+SUM(H11:H12) -> 0 | I13: =+SUM(I11:I12) -> 0 | J13: =+SUM(J11:J12) -> 0.018181818 | K13: =+SUM(K11:K12) -> 0.018181818 | ... AG13: =+SUM(AG11:AG12) -> 1.4545455
B14: TIR | C14: =+IRR(D13:AG13) -> 0.12522223
B16: AVALIAÇÃO
B17: Taxa até final construção "+1" | C17: =+C14 -> 0.12522223 | D17: Greenfield
B18: Taxa entre final construção "+2" e "+5" | C18: =+C17-0.01 -> 0.11522223 | D18: Early brownfield
B19: Taxa entre final construção "+6" e Termo | C19: =+C18-0.01 -> 0.10522223 | D19: Brownfield
B20: Período | C20: 1 | D20: 1 | E20: 1 | F20: 1 | G20: 1 | H20: 2 | I20: 2 | J20: 2 | K20: 2 | L20: 3 | M20: 3 | N20: 3 | O20: 3 | P20: 3 | Q20: 3 | R20: 3 | S20: 3 | T20: 3 | U20: 3 | V20: 3 | W20: 3 | X20: 3 | Y20: 3 | Z20: 3 | AA20: 3 | AB20: 3 | AC20: 3 | AD20: 3 | AE20: 3 | AF20: 3
B21: NPV | C21: =+NPV(IF(C20=1,$C17,IF(C20=2,$C18,$C19)),D13:$AG13) -> 3.9744301e-14 | D21: =+NPV(IF(D20=1,$C17,IF(D20=2,$C18,$C19)),E13:$AG13) -> 0.3 | E21: =+NPV(IF(E20=1,$C17,IF(E20=2,$C18,$C19)),F13:$AG13) -> 0.73756667 | F21: =+NPV(IF(F20=1,$C17,IF(F20=2,$C18,$C19)),G13:$AG13) -> 1.1299264 | G21: =+NPV(IF(G20=1,$C17,IF(G20=2,$C18,$C19)),H13:$AG13) -> 1.2714183 | H21: =+NPV(IF(H20=1,$C17,IF(H20=2,$C18,$C19)),I13:$AG13) -> 1.6410816 | I21: =+NPV(IF(I20=1,$C17,IF(I20=2,$C18,$C19)),J13:$AG13) -> 1.8301706 | J21: =+NPV(IF(J20=1,$C17,IF(J20=2,$C18,$C19)),K13:$AG13) -> 2.0228652 | ... AF21: =+NPV(IF(AF20=1,$C17,IF(AF20=2,$C18,$C19)),AG13:$AG13) -> 1.3160661
B23: Perfil de projecto | C23: 2
B24: Região | C24: X
B25: Industria | C25: 2
C27: 0 | D27: 1 | E27: =+D27+1 -> 2 | F27: =+E27+1 -> 3 | G27: =+F27+1 -> 4 | H27: =+G27+1 -> 5 | I27: =+H27+1 -> 6 | J27: =+I27+1 -> 7 | K27: =+J27+1 -> 8 | L27: =+K27+1 -> 9 | ... AG27: =+AF27+1 -> 30
B28: Investimento | D28: -0.3 | E28: -0.4 | F28: -0.3
B29: Reembolso (dividendos e capital investido) | G29: 0 | H29: 0 | I29: 0 | J29: 0.022100114 | K29: 0.022100114 | L29: 0.022100114 | M29: 0.11050057 | N29: 0.11050057 | O29: 0.11050057 | P29: 0.11050057 | Q29: 0.11050057 | R29: 0.3315017 | S29: 0.3315017 | T29: 0.44200227 | U29: 0.44200227 | V29: 0.66300341 | W29: 0.66300341 | X29: 0.66300341 | Y29: 0.66300341 | Z29: 0.66300341 | AA29: 0.66300341 | AB29: 0.66300341 | AC29: 0.66300341 | AD29: 1.1050057 | AE29: 1.3260068 | AF29: 1.547008 | AG29: 1.7680091
B30: TOTAL | D30: =+SUM(D28:D29) -> -0.3 | E30: =+SUM(E28:E29) -> -0.4 | F30: =+SUM(F28:F29) -> -0.3 | G30: =+SUM(G28:G29) -> 0 | H30: =+SUM(H28:H29) -> 0 | I30: =+SUM(I28:I29) -> 0 | J30: =+SUM(J28:J29) -> 0.022100114 | K30: =+SUM(K28:K29) -> 0.022100114 | ... AG30: =+SUM(AG28:AG29) -> 1.7680091
B31: TIR | C31: =+IRR(D30:AG30) -> 0.13742098
B33: AVALIAÇÃO
B34: Taxa até final construção "+1" | C34: =+C31 -> 0.13742098 | D34: Greenfield
B35: Taxa entre final construção "+2" e "+5" | C35: =+C34-0.01 -> 0.12742098 | D35: Early brownfield
B36: Taxa entre final construção "+6" e Termo | C36: =+C35-0.01 -> 0.11742098 | D36: Brownfield
B37: Período | C37: 1 | D37: 1 | E37: 1 | F37: 1 | G37: 1 | H37: 2 | I37: 2 | J37: 2 | K37: 2 | L37: 3 | M37: 3 | N37: 3 | O37: 3 | P37: 3 | Q37: 3 | R37: 3 | S37: 3 | T37: 3 | U37: 3 | V37: 3 | W37: 3 | X37: 3 | Y37: 3 | Z37: 3 | AA37: 3 | AB37: 3 | AC37: 3 | AD37: 3 | AE37: 3 | AF37: 3
B38: NPV | C38: =+NPV(IF(C37=1,$C34,IF(C37=2,$C35,$C36)),D30:$AG30) -> 3.8626311e-11 | D38: =+NPV(IF(D37=1,$C34,IF(D37=2,$C35,$C36)),E30:$AG30) -> 0.3 | E38: =+NPV(IF(E37=1,$C34,IF(E37=2,$C35,$C36)),F30:$AG30) -> 0.74122629 | F38: =+NPV(IF(F37=1,$C34,IF(F37=2,$C35,$C36)),G30:$AG30) -> 1.1430863 | G38: =+NPV(IF(G37=1,$C34,IF(G37=2,$C35,$C36)),H30:$AG30) -> 1.3001704 | H38: =+NPV(IF(H37=1,$C34,IF(H37=2,$C35,$C36)),I30:$AG30) -> 1.6881563 | I38: =+NPV(IF(I37=1,$C34,IF(I37=2,$C35,$C36)),J30:$AG30) -> 1.9032628 | J38: =+NPV(IF(J37=1,$C34,IF(J37=2,$C35,$C36)),K30:$AG30) -> 2.1236783 | ... AF38: =+NPV(IF(AF37=1,$C34,IF(AF37=2,$C35,$C36)),AG30:$AG30) -> 1.5822229
B40: Perfil de projecto | C40: 3
B41: Região | C41: Z
B42: Industria | C42: 1
C44: 0 | D44: 1 | E44: =+D44+1 -> 2 | F44: =+E44+1 -> 3 | G44: =+F44+1 -> 4 | H44: =+G44+1 -> 5 | I44: =+H44+1 -> 6 | J44: =+I44+1 -> 7 | K44: =+J44+1 -> 8 | L44: =+K44+1 -> 9 | ... AG44: =+AF44+1 -> 30
B45: Investimento | D45: -0.3 | E45: -0.4 | F45: -0.3
B46: Reembolso (dividendos e capital investido) | G46: 0 | H46: 0 | I46: 0 | J46: 0.0231525 | K46: 0.0231525 | L46: 0.0231525 | M46: 0.1157625 | N46: 0.1157625 | O46: 0.1157625 | P46: 0.1157625 | Q46: 0.1157625 | R46: 0.3472875 | S46: 0.3472875 | T46: 0.46305 | U46: 0.46305 | V46: 0.694575 | W46: 0.694575 | X46: 0.694575 | Y46: 0.694575 | Z46: 0.694575 | AA46: 0.694575 | AB46: 0.694575 | AC46: 0.694575 | AD46: 1.157625 | AE46: 1.38915 | AF46: 1.620675 | AG46: 1.8522
B47: TOTAL | D47: =+SUM(D45:D46) -> -0.3 | E47: =+SUM(E45:E46) -> -0.4 | F47: =+SUM(F45:F46) -> -0.3 | G47: =+SUM(G45:G46) -> 0 | H47: =+SUM(H45:H46) -> 0 | I47: =+SUM(I45:I46) -> 0 | J47: =+SUM(J45:J46) -> 0.0231525 | K47: =+SUM(K45:K46) -> 0.0231525 | ... AG47: =+SUM(AG45:AG46) -> 1.8522
B48: TIR | C48: =+IRR(D47:AG47) -> 0.14038657
B50: AVALIAÇÃO
B51: Taxa até final construção "+1" | C51: =+C48 -> 0.14038657 | D51: Greenfield
...

Sheet 04-Aux. Calculos
A1: MODELO FINANCEIRO
A2: CÁLCULOS
P5: (Montantes em EUR mil, excepto quando indicado o contrário)
D7: 1 | E7: =+D7+1 -> 2 | F7: =+E7+1 -> 3 | G7: =+F7+1 -> 4 | H7: =+G7+1 -> 5 | I7: =+H7+1 -> 6 | J7: =+I7+1 -> 7 | K7: =+J7+1 -> 8 | L7: =+K7+1 -> 9 | ... AG7: =+AF7+1 -> 30
A9: FLAGS E REFERÊNCIAS
A11: >> | B11: Geral
B13: Vida do fundo | D13: =+IF(D7<='02. Controlo'!$C$10,1,0) -> 1 | E13: =+IF(E7<='02. Controlo'!$C$10,1,0) -> 1 | F13: =+IF(F7<='02. Controlo'!$C$10,1,0) -> 1 | G13: =+IF(G7<='02. Controlo'!$C$10,1,0) -> 1 | H13: =+IF(H7<='02. Controlo'!$C$10,1,0) -> 1 | I13: =+IF(I7<='02. Controlo'!$C$10,1,0) -> 1 | J13: =+IF(J7<='02. Controlo'!$C$10,1,0) -> 1 | K13: =+IF(K7<='02. Controlo'!$C$10,1,0) -> 1 | ... AG13: =+IF(AG7<='02. Controlo'!$C$10,1,0) -> 0
B14: Ultimo período vida do fundo | D14: =+IF(D7='02. Controlo'!$C$10,1,0) -> 0 | E14: =+IF(E7='02. Controlo'!$C$10,1,0) -> 0 | F14: =+IF(F7='02. Controlo'!$C$10,1,0) -> 0 | G14: =+IF(G7='02. Controlo'!$C$10,1,0) -> 0 | H14: =+IF(H7='02. Controlo'!$C$10,1,0) -> 0 | I14: =+IF(I7='02. Controlo'!$C$10,1,0) -> 0 | J14: =+IF(J7='02. Controlo'!$C$10,1,0) -> 0 | K14: =+IF(K7='02. Controlo'!$C$10,1,0) -> 0 | ... AG14: =+IF(AG7='02. Controlo'!$C$10,1,0) -> 0
B15: Período de investimento | D15: =+IF(D7<='02. Controlo'!$C$11,1,0) -> 1 | E15: =+IF(E7<='02. Controlo'!$C$11,1,0) -> 1 | F15: =+IF(F7<='02. Controlo'!$C$11,1,0) -> 1 | G15: =+IF(G7<='02. Controlo'!$C$11,1,0) -> 1 | H15: =+IF(H7<='02. Controlo'!$C$11,1,0) -> 1 | I15: =+IF(I7<='02. Controlo'!$C$11,1,0) -> 0 | J15: =+IF(J7<='02. Controlo'!$C$11,1,0) -> 0 | K15: =+IF(K7<='02. Controlo'!$C$11,1,0) -> 0 | ... AG15: =+IF(AG7<='02. Controlo'!$C$11,1,0) -> 0
B16: Período de desinvestimento | D16: =+IF(D7>('02. Controlo'!$C$10-'02. Controlo'!$C$12),1,0)*D13 -> 0 | E16: =+IF(E7>('02. Controlo'!$C$10-'02. Controlo'!$C$12),1,0)*E13 -> 0 | F16: =+IF(F7>('02. Controlo'!$C$10-'02. Controlo'!$C$12),1,0)*F13 -> 0 | G16: =+IF(G7>('02. Controlo'!$C$10-'02. Controlo'!$C$12),1,0)*G13 -> 0 | H16: =+IF(H7>('02. Controlo'!$C$10-'02. Controlo'!$C$12),1,0)*H13 -> 0 | I16: =+IF(I7>('02. Controlo'!$C$10-'02. Controlo'!$C$12),1,0)*I13 -> 0 | J16: =+IF(J7>('02. Controlo'!$C$10-'02. Controlo'!$C$12),1,0)*J13 -> 1 | K16: =+IF(K7>('02. Controlo'!$C$10-'02. Controlo'!$C$12),1,0)*K13 -> 1 | ... AG16: =+IF(AG7>('02. Controlo'!$C$10-'02. Controlo'!$C$12),1,0)*AG13 -> 0
B17: Número participadas em carteira | D17: =+SUM('02. Controlo'!G52:G71)-SUM('02. Controlo'!G87:G106)+C17 -> 3 | E17: =+SUM('02. Controlo'!H52:H71)-SUM('02. Controlo'!H87:H106)+D17 -> 7 | F17: =+SUM('02. Controlo'!I52:I71)-SUM('02. Controlo'!I87:I106)+E17 -> 13 | G17: =+SUM('02. Controlo'!J52:J71)-SUM('02. Controlo'!J87:J106)+F17 -> 14 | H17: =+SUM('02. Controlo'!K52:K71)-SUM('02. Controlo'!K87:K106)+G17 -> 14 | I17: =+SUM('02. Controlo'!L52:L71)-SUM('02. Controlo'!L87:L106)+H17 -> 14 | J17: =+SUM('02. Controlo'!M52:M71)-SUM('02. Controlo'!M87:M106)+I17 -> 11 | K17: =+SUM('02. Controlo'!N52:N71)-SUM('02. Controlo'!N87:N106)+J17 -> 6 | ... AG17: =+SUM('02. Controlo'!AJ52:AJ71)-SUM('02. Controlo'!AJ87:AJ106)+AF17 -> 0
B18: Índice inflação | C18: 1 | D18: =+C18*(1+'02. Controlo'!$C$16) -> 1.025 | E18: =+D18*(1+'02. Controlo'!$C$16) -> 1.050625 | F18: =+E18*(1+'02. Controlo'!$C$16) -> 1.0768906 | G18: =+F18*(1+'02. Controlo'!$C$16) -> 1.1038129 | H18: =+G18*(1+'02. Controlo'!$C$16) -> 1.1314082 | I18: =+H18*(1+'02. Controlo'!$C$16) -> 1.1596934 | J18: =+I18*(1+'02. Controlo'!$C$16) -> 1.1886858 | K18: =+J18*(1+'02. Controlo'!$C$16) -> 1.2184029 | ... AG18: =+AF18*(1+'02. Controlo'!$C$16) -> 2.0975676
A20: >> | B20: Carteira activa
B22: Entradas
B23: 1 | D23: =+IF(AND(D$7>='02. Controlo'!$G$50,'04-Aux. Calculos'!D$7<='02. Controlo'!$P$50),'02. Controlo'!G52,0) -> 0 | E23: =+IF(AND(E$7>='02. Controlo'!$G$50,'04-Aux. Calculos'!E$7<='02. Controlo'!$P$50),'02. Controlo'!H52,0) -> 1 | F23: =+IF(AND(F$7>='02. Controlo'!$G$50,'04-Aux. Calculos'!F$7<='02. Controlo'!$P$50),'02. Controlo'!I52,0) -> 0 | G23: =+IF(AND(G$7>='02. Controlo'!$G$50,'04-Aux. Calculos'!G$7<='02. Controlo'!$P$50),'02. Controlo'!J52,0) -> 0 | H23: =+IF(AND(H$7>='02. Controlo'!$G$50,'04-Aux. Calculos'!H$7<='02. Controlo'!$P$50),'02. Controlo'!K52,0) -> 0 | I23: =+IF(AND(I$7>='02. Controlo'!$G$50,'04-Aux. Calculos'!I$7<='02. Controlo'!$P$50),'02. Controlo'!L52,0) -> 0 | J23: =+IF(AND(J$7>='02. Controlo'!$G$50,'04-Aux. Calculos'!J$7<='02. Controlo'!$P$50),'02. Controlo'!M52,0) -> 0 | K23: =+IF(AND(K$7>='02. Controlo'!$G$50,'04-Aux. Calculos'!K$7<='02. Controlo'!$P$50),'02. Controlo'!N52,0) -> 0 | ... AG23: =+IF(AND(AG$7>='02. Controlo'!$G$50,'04-Aux. Calculos'!AG$7<='02. Controlo'!$P$50),'02. Controlo'!AJ52,0) -> 0
B24: 2 | D24: =+IF(AND(D$7>='02. Controlo'!$G$50,'04-Aux. Calculos'!D$7<='02. Controlo'!$P$50),'02. Controlo'!G53,0) -> 0 | E24: =+IF(AND(E$7>='02. Controlo'!$G$50,'04-Aux. Calculos'!E$7<='02. Controlo'!$P$50),'02. Controlo'!H53,0) -> 1 | F24: =+IF(AND(F$7>='02. Controlo'!$G$50,'04-Aux. Calculos'!F$7<='02. Controlo'!$P$50),'02. Controlo'!I53,0) -> 0 | G24: =+IF(AND(G$7>='02. Controlo'!$G$50,'04-Aux. Calculos'!G$7<='02. Controlo'!$P$50),'02. Controlo'!J53,0) -> 0 | H24: =+IF(AND(H$7>='02. Controlo'!$G$50,'04-Aux. Calculos'!H$7<='02. Controlo'!$P$50),'02. Controlo'!K53,0) -> 0 | I24: =+IF(AND(I$7>='02. Controlo'!$G$50,'04-Aux. Calculos'!I$7<='02. Controlo'!$P$50),'02. Controlo'!L53,0) -> 0 | J24: =+IF(AND(J$7>='02. Controlo'!$G$50,'04-Aux. Calculos'!J$7<='02. Controlo'!$P$50),'02. Controlo'!M53,0) -> 0 | K24: =+IF(AND(K$7>='02. Controlo'!$G$50,'04-Aux. Calculos'!K$7<='02. Controlo'!$P$50),'02. Controlo'!N53,0) -> 0 | ... AG24: =+IF(AND(AG$7>='02. Controlo'!$G$50,'04-Aux. Calculos'!AG$7<='02. Controlo'!$P$50),'02. Controlo'!AJ53,0) -> 0
B25: 3 | D25: =+IF(AND(D$7>='02. Controlo'!$G$50,'04-Aux. Calculos'!D$7<='02. Controlo'!$P$50),'02. Controlo'!G54,0) -> 0 | E25: =+IF(AND(E$7>='02. Controlo'!$G$50,'04-Aux. Calculos'!E$7<='02. Controlo'!$P$50),'02. Controlo'!H54,0) -> 0 | F25: =+IF(AND(F$7>='02. Controlo'!$G$50,'04-Aux. Calculos'!F$7<='02. Controlo'!$P$50),'02. Controlo'!I54,0) -> 1 | G25: =+IF(AND(G$7>='02. Controlo'!$G$50,'04-Aux. Calculos'!G$7<='02. Controlo'!$P$50),'02. Controlo'!J54,0) -> 0 | H25: =+IF(AND(H$7>='02. Controlo'!$G$50,'04-Aux. Calculos'!H$7<='02. Controlo'!$P$50),'02. Controlo'!K54,0) -> 0 | I25: =+IF(AND(I$7>='02. Controlo'!$G$50,'04-Aux. Calculos'!I$7<='02. Controlo'!$P$50),'02. Controlo'!L54,0) -> 0 | J25: =+IF(AND(J$7>='02. Controlo'!$G$50,'04-Aux. Calculos'!J$7<='02. Controlo'!$P$50),'02. Controlo'!M54,0) -> 0 | K25: =+IF(AND(K$7>='02. Controlo'!$G$50,'04-Aux. Calculos'!K$7<='02. Controlo'!$P$50),'02. Controlo'!N54,0) -> 0 | ... AG25: =+IF(AND(AG$7>='02. Controlo'!$G$50,'04-Aux. Calculos'!AG$7<='02. Controlo'!$P$50),'02. Controlo'!AJ54,0) -> 0
B26: 4 | D26: =+IF(AND(D$7>='02. Controlo'!$G$50,'04-Aux. Calculos'!D$7<='02. Controlo'!$P$50),'02. Controlo'!G55,0) -> 1 | E26: =+IF(AND(E$7>='02. Controlo'!$G$50,'04-Aux. Calculos'!E$7<='02. Controlo'!$P$50),'02. Controlo'!H55,0) -> 0 | F26: =+IF(AND(F$7>='02. Controlo'!$G$50,'04-Aux. Calculos'!F$7<='02. Controlo'!$P$50),'02. Controlo'!I55,0) -> 0 | G26: =+IF(AND(G$7>='02. Controlo'!$G$50,'04-Aux. Calculos'!G$7<='02. Controlo'!$P$50),'02. Controlo'!J55,0) -> 0 | H26: =+IF(AND(H$7>='02. Controlo'!$G$50,'04-Aux. Calculos'!H$7<='02. Controlo'!$P$50),'02. Controlo'!K55,0) -> 0 | I26: =+IF(AND(I$7>='02. Controlo'!$G$50,'04-Aux. Calculos'!I$7<='02. Controlo'!$P$50),'02. Controlo'!L55,0) -> 0 | J26: =+IF(AND(J$7>='02. Controlo'!$G$50,'04-Aux. Calculos'!J$7<='02. Controlo'!$P$50),'02. Controlo'!M55,0) -> 0 | K26: =+IF(AND(K$7>='02. Controlo'!$G$50,'04-Aux. Calculos'!K$7<='02. Controlo'!$P$50),'02. Controlo'!N55,0) -> 0 | ... AG26: =+IF(AND(AG$7>='02. Controlo'!$G$50,'04-Aux. Calculos'!AG$7<='02. Controlo'!$P$50),'02. Controlo'!AJ55,0) -> 0
B27: 5 | D27: =+IF(AND(D$7>='02. Controlo'!$G$50,'04-Aux. Calculos'!D$7<='02. Controlo'!$P$50),'02. Controlo'!G56,0) -> 0 | E27: =+IF(AND(E$7>='02. Controlo'!$G$50,'04-Aux. Calculos'!E$7<='02. Controlo'!$P$50),'02. Controlo'!H56,0) -> 0 | F27: =+IF(AND(F$7>='02. Controlo'!$G$50,'04-Aux. Calculos'!F$7<='02. Controlo'!$P$50),'02. Controlo'!I56,0) -> 1 | G27: =+IF(AND(G$7>='02. Controlo'!$G$50,'04-Aux. Calculos'!G$7<='02. Controlo'!$P$50),'02. Controlo'!J56,0) -> 0 | H27: =+IF(AND(H$7>='02. Controlo'!$G$50,'04-Aux. Calculos'!H$7<='02. Controlo'!$P$50),'02. Controlo'!K56,0) -> 0 | I27: =+IF(AND(I$7>='02. Controlo'!$G$50,'04-Aux. Calculos'!I$7<='02. Controlo'!$P$50),'02. Controlo'!L56,0) -> 0 | J27: =+IF(AND(J$7>='02. Controlo'!$G$50,'04-Aux. Calculos'!J$7<='02. Controlo'!$P$50),'02. Controlo'!M56,0) -> 0 | K27: =+IF(AND(K$7>='02. Controlo'!$G$50,'04-Aux. Calculos'!K$7<='02. Controlo'!$P$50),'02. Controlo'!N56,0) -> 0 | ... AG27: =+IF(AND(AG$7>='02. Controlo'!$G$50,'04-Aux. Calculos'!AG$7<='02. Controlo'!$P$50),'02. Controlo'!AJ56,0) -> 0
B28: 6 | D28: =+IF(AND(D$7>='02. Controlo'!$G$50,'04-Aux. Calculos'!D$7<='02. Controlo'!$P$50),'02. Controlo'!G57,0) -> 0 | E28: =+IF(AND(E$7>='02. Controlo'!$G$50,'04-Aux. Calculos'!E$7<='02. Controlo'!$P$50),'02. Controlo'!H57,0) -> 1 | F28: =+IF(AND(F$7>='02. Controlo'!$G$50,'04-Aux. Calculos'!F$7<='02. Controlo'!$P$50),'02. Controlo'!I57,0) -> 0 | G28: =+IF(AND(G$7>='02. Controlo'!$G$50,'04-Aux. Calculos'!G$7<='02. Controlo'!$P$50),'02. Controlo'!J57,0) -> 0 | H28: =+IF(AND(H$7>='02. Controlo'!$G$50,'04-Aux. Calculos'!H$7<='02. Controlo'!$P$50),'02. Controlo'!K57,0) -> 0 | I28: =+IF(AND(I$7>='02. Controlo'!$G$50,'04-Aux. Calculos'!I$7<='02. Controlo'!$P$50),'02. Controlo'!L57,0) -> 0 | J28: =+IF(AND(J$7>='02. Controlo'!$G$50,'04-Aux. Calculos'!J$7<='02. Controlo'!$P$50),'02. Controlo'!M57,0) -> 0 | K28: =+IF(AND(K$7>='02. Controlo'!$G$50,'04-Aux. Calculos'!K$7<='02. Controlo'!$P$50),'02. Controlo'!N57,0) -> 0 | ... AG28: =+IF(AND(AG$7>='02. Controlo'!$G$50,'04-Aux. Calculos'!AG$7<='02. Controlo'!$P$50),'02. Controlo'!AJ57,0) -> 0
B29: 7 | D29: =+IF(AND(D$7>='02. Controlo'!$G$50,'04-Aux. Calculos'!D$7<='02. Controlo'!$P$50),'02. Controlo'!G58,0) -> 0 | E29: =+IF(AND(E$7>='02. Controlo'!$G$50,'04-Aux. Calculos'!E$7<='02. Controlo'!$P$50),'02. Controlo'!H58,0) -> 0 | F29: =+IF(AND(F$7>='02. Controlo'!$G$50,'04-Aux. Calculos'!F$7<='02. Controlo'!$P$50),'02. Controlo'!I58,0) -> 1 | G29: =+IF(AND(G$7>='02. Controlo'!$G$50,'04-Aux. Calculos'!G$7<='02. Controlo'!$P$50),'02. Controlo'!J58,0) -> 0 | H29: =+IF(AND(H$7>='02. Controlo'!$G$50,'04-Aux. Calculos'!H$7<='02. Controlo'!$P$50),'02. Controlo'!K58,0) -> 0 | I29: =+IF(AND(I$7>='02. Controlo'!$G$50,'04-Aux. Calculos'!I$7<='02. Controlo'!$P$50),'02. Controlo'!L58,0) -> 0 | J29: =+IF(AND(J$7>='02. Controlo'!$G$50,'04-Aux. Calculos'!J$7<='02. Controlo'!$P$50),'02. Controlo'!M58,0) -> 0 | K29: =+IF(AND(K$7>='02. Controlo'!$G$50,'04-Aux. Calculos'!K$7<='02. Controlo'!$P$50),'02. Controlo'!N58,0) -> 0 | ... AG29: =+IF(AND(AG$7>='02. Controlo'!$G$50,'04-Aux. Calculos'!AG$7<='02. Controlo'!$P$50),'02. Controlo'!AJ58,0) -> 0
B30: 8 | D30: =+IF(AND(D$7>='02. Controlo'!$G$50,'04-Aux. Calculos'!D$7<='02. Controlo'!$P$50),'02. Controlo'!G59,0) -> 0 | E30: =+IF(AND(E$7>='02. Controlo'!$G$50,'04-Aux. Calculos'!E$7<='02. Controlo'!$P$50),'02. Controlo'!H59,0) -> 0 | F30: =+IF(AND(F$7>='02. Controlo'!$G$50,'04-Aux. Calculos'!F$7<='02. Controlo'!$P$50),'02. Controlo'!I59,0) -> 0 | G30: =+IF(AND(G$7>='02. Controlo'!$G$50,'04-Aux. Calculos'!G$7<='02. Controlo'!$P$50),'02. Controlo'!J59,0) -> 1 | H30: =+IF(AND(H$7>='02. Controlo'!$G$50,'04-Aux. Calculos'!H$7<='02. Controlo'!$P$50),'02. Controlo'!K59,0) -> 0 | I30: =+IF(AND(I$7>='02. Controlo'!$G$50,'04-Aux. Calculos'!I$7<='02. Controlo'!$P$50),'02. Controlo'!L59,0) -> 0 | J30: =+IF(AND(J$7>='02. Controlo'!$G$50,'04-Aux. Calculos'!J$7<='02. Controlo'!$P$50),'02. Controlo'!M59,0) -> 0 | K30: =+IF(AND(K$7>='02. Controlo'!$G$50,'04-Aux. Calculos'!K$7<='02. Controlo'!$P$50),'02. Controlo'!N59,0) -> 0 | ... AG30: =+IF(AND(AG$7>='02. Controlo'!$G$50,'04-Aux. Calculos'!AG$7<='02. Controlo'!$P$50),'02. Controlo'!AJ59,0) -> 0
B31: 9 | D31: =+IF(AND(D$7>='02. Controlo'!$G$50,'04-Aux. Calculos'!D$7<='02. Controlo'!$P$50),'02. Controlo'!G60,0) -> 0 | E31: =+IF(AND(E$7>='02. Controlo'!$G$50,'04-Aux. Calculos'!E$7<='02. Controlo'!$P$50),'02. Controlo'!H60,0) -> 0 | F31: =+IF(AND(F$7>='02. Controlo'!$G$50,'04-Aux. Calculos'!F$7<='02. Controlo'!$P$50),'02. Controlo'!I60,0) -> 1 | G31: =+IF(AND(G$7>='02. Controlo'!$G$50,'04-Aux. Calculos'!G$7<='02. Controlo'!$P$50),'02. Controlo'!J60,0) -> 0 | H31: =+IF(AND(H$7>='02. Controlo'!$G$50,'04-Aux. Calculos'!H$7<='02. Controlo'!$P$50),'02. Controlo'!K60,0) -> 0 | I31: =+IF(AND(I$7>='02. Controlo'!$G$50,'04-Aux. Calculos'!I$7<='02. Controlo'!$P$50),'02. Controlo'!L60,0) -> 0 | J31: =+IF(AND(J$7>='02. Controlo'!$G$50,'04-Aux. Calculos'!J$7<='02. Controlo'!$P$50),'02. Controlo'!M60,0) -> 0 | K31: =+IF(AND(K$7>='02. Controlo'!$G$50,'04-Aux. Calculos'!K$7<='02. Controlo'!$P$50),'02. Controlo'!N60,0) -> 0 | ... AG31: =+IF(AND(AG$7>='02. Controlo'!$G$50,'04-Aux. Calculos'!AG$7<='02. Controlo'!$P$50),'02. Controlo'!AJ60,0) -> 0
B32: 10 | D32: =+IF(AND(D$7>='02. Controlo'!$G$50,'04-Aux. Calculos'!D$7<='02. Controlo'!$P$50),'02. Controlo'!G61,0) -> 1 | E32: =+IF(AND(E$7>='02. Controlo'!$G$50,'04-Aux. Calculos'!E$7<='02. Controlo'!$P$50),'02. Controlo'!H61,0) -> 0 | F32: =+IF(AND(F$7>='02. Controlo'!$G$50,'04-Aux. Calculos'!F$7<='02. Controlo'!$P$50),'02. Controlo'!I61,0) -> 0 | G32: =+IF(AND(G$7>='02. Controlo'!$G$50,'04-Aux. Calculos'!G$7<='02. Controlo'!$P$50),'02. Controlo'!J61,0) -> 0 | H32: =+IF(AND(H$7>='02. Controlo'!$G$50,'04-Aux. Calculos'!H$7<='02. Controlo'!$P$50),'02. Controlo'!K61,0) -> 0 | I32: =+IF(AND(I$7>='02. Controlo'!$G$50,'04-Aux. Calculos'!I$7<='02. Controlo'!$P$50),'02. Controlo'!L61,0) -> 0 | J32: =+IF(AND(J$7>='02. Controlo'!$G$50,'04-Aux. Calculos'!J$7<='02. Controlo'!$P$50),'02. Controlo'!M61,0) -> 0 | K32: =+IF(AND(K$7>='02. Controlo'!$G$50,'04-Aux. Calculos'!K$7<='02. Controlo'!$P$50),'02. Controlo'!N61,0) -> 0 | ... AG32: =+IF(AND(AG$7>='02. Controlo'!$G$50,'04-Aux. Calculos'!AG$7<='02. Controlo'!$P$50),'02. Controlo'!AJ61,0) -> 0
B33: 11 | D33: =+IF(AND(D$7>='02. Controlo'!$G$50,'04-Aux. Calculos'!D$7<='02. Controlo'!$P$50),'02. Controlo'!G62,0) -> 0 | E33: =+IF(AND(E$7>='02. Controlo'!$G$50,'04-Aux. Calculos'!E$7<='02. Controlo'!$P$50),'02. Controlo'!H62,0) -> 1 | F33: =+IF(AND(F$7>='02. Controlo'!$G$50,'04-Aux. Calculos'!F$7<='02. Controlo'!$P$50),'02. Controlo'!I62,0) -> 0 | G33: =+IF(AND(G$7>='02. Controlo'!$G$50,'04-Aux. Calculos'!G$7<='02. Controlo'!$P$50),'02. Controlo'!J62,0) -> 0 | H33: =+IF(AND(H$7>='02. Controlo'!$G$50,'04-Aux. Calculos'!H$7<='02. Controlo'!$P$50),'02. Controlo'!K62,0) -> 0 | I33: =+IF(AND(I$7>='02. Controlo'!$G$50,'04-Aux. Calculos'!I$7<='02. Controlo'!$P$50),'02. Controlo'!L62,0) -> 0 | J33: =+IF(AND(J$7>='02. Controlo'!$G$50,'04-Aux. Calculos'!J$7<='02. Controlo'!$P$50),'02. Controlo'!M62,0) -> 0 | K33: =+IF(AND(K$7>='02. Controlo'!$G$50,'04-Aux. Calculos'!K$7<='02. Controlo'!$P$50),'02. Controlo'!N62,0) -> 0 | ... AG33: =+IF(AND(AG$7>='02. Controlo'!$G$50,'04-Aux. Calculos'!AG$7<='02. Controlo'!$P$50),'02. Controlo'!AJ62,0) -> 0
B34: 12 | D34: =+IF(AND(D$7>='02. Controlo'!$G$50,'04-Aux. Calculos'!D$7<='02. Controlo'!$P$50),'02. Controlo'!G63,0) -> 1 | E34: =+IF(AND(E$7>='02. Controlo'!$G$50,'04-Aux. Calculos'!E$7<='02. Controlo'!$P$50),'02. Controlo'!H63,0) -> 0 | F34: =+IF(AND(F$7>='02. Controlo'!$G$50,'04-Aux. Calculos'!F$7<='02. Controlo'!$P$50),'02. Controlo'!I63,0) -> 0 | G34: =+IF(AND(G$7>='02. Controlo'!$G$50,'04-Aux. Calculos'!G$7<='02. Controlo'!$P$50),'02. Controlo'!J63,0) -> 0 | H34: =+IF(AND(H$7>='02. Controlo'!$G$50,'04-Aux. Calculos'!H$7<='02. Controlo'!$P$50),'02. Controlo'!K63,0) -> 0 | I34: =+IF(AND(I$7>='02. Controlo'!$G$50,'04-Aux. Calculos'!I$7<='02. Controlo'!$P$50),'02. Controlo'!L63,0) -> 0 | J34: =+IF(AND(J$7>='02. Controlo'!$G$50,'04-Aux. Calculos'!J$7<='02. Controlo'!$P$50),'02. Controlo'!M63,0) -> 0 | K34: =+IF(AND(K$7>='02. Controlo'!$G$50,'04-Aux. Calculos'!K$7<='02. Controlo'!$P$50),'02. Controlo'!N63,0) -> 0 | ... AG34: =+IF(AND(AG$7>='02. Controlo'!$G$50,'04-Aux. Calculos'!AG$7<='02. Controlo'!$P$50),'02. Controlo'!AJ63,0) -> 0
... B42: 20 | D42: =+IF(AND(D$7>='02. Controlo'!$G$50,'04-Aux. Calculos'!D$7<='02. Controlo'!$P$50),'02. Controlo'!G71,0) -> 0 | E42: =+IF(AND(E$7>='02. Controlo'!$G$50,'04-Aux. Calculos'!E$7<='02. Controlo'!$P$50),'02. Controlo'!H71,0) -> 0 | F42: =+IF(AND(F$7>='02. Controlo'!$G$50,'04-Aux. Calculos'!F$7<='02. Controlo'!$P$50),'02. Controlo'!I71,0) -> 0 | G42: =+IF(AND(G$7>='02. Controlo'!$G$50,'04-Aux. Calculos'!G$7<='02. Controlo'!$P$50),'02. Controlo'!J71,0) -> 0 | H42: =+IF(AND(H$7>='02. Controlo'!$G$50,'04-Aux. Calculos'!H$7<='02. Controlo'!$P$50),'02. Controlo'!K71,0) -> 0 | I42: =+IF(AND(I$7>='02. Controlo'!$G$50,'04-Aux. Calculos'!I$7<='02. Controlo'!$P$50),'02. Controlo'!L71,0) -> 0 | J42: =+IF(AND(J$7>='02. Controlo'!$G$50,'04-Aux. Calculos'!J$7<='02. Controlo'!$P$50),'02. Controlo'!M71,0) -> 0 | K42: =+IF(AND(K$7>='02. Controlo'!$G$50,'04-Aux. Calculos'!K$7<='02. Controlo'!$P$50),'02. Controlo'!N71,0) -> 0 | ... AG42: =+IF(AND(AG$7>='02. Controlo'!$G$50,'04-Aux. Calculos'!AG$7<='02. Controlo'!$P$50),'02. Controlo'!AJ71,0) -> 0
B44: Saídas
B45: 1 | D45: =+IF(AND(D$7>='02. Controlo'!$G$85,'04-Aux. Calculos'!D$7<='02. Controlo'!$P$85),HLOOKUP(D$7,'02. Controlo'!$G$85:$P$106,$B23+2),0) -> 0 | E45: =+IF(AND(E$7>='02. Controlo'!$G$85,'04-Aux. Calculos'!E$7<='02. Controlo'!$P$85),HLOOKUP(E$7,'02. Controlo'!$G$85:$P$106,$B23+2),0) -> 0 | F45: =+IF(AND(F$7>='02. Controlo'!$G$85,'04-Aux. Calculos'!F$7<='02. Controlo'!$P$85),HLOOKUP(F$7,'02. Controlo'!$G$85:$P$106,$B23+2),0) -> 0 | G45: =+IF(AND(G$7>='02. Controlo'!$G$85,'04-Aux. Calculos'!G$7<='02. Controlo'!$P$85),HLOOKUP(G$7,'02. Controlo'!$G$85:$P$106,$B23+2),0) -> 0 | H45: =+IF(AND(H$7>='02. Controlo'!$G$85,'04-Aux. Calculos'!H$7<='02. Controlo'!$P$85),HLOOKUP(H$7,'02. Controlo'!$G$85:$P$106,$B23+2),0) -> 0 | I45: =+IF(AND(I$7>='02. Controlo'!$G$85,'04-Aux. Calculos'!I$7<='02. Controlo'!$P$85),HLOOKUP(I$7,'02. Controlo'!$G$85:$P$106,$B23+2),0) -> 0 | J45: =+IF(AND(J$7>='02. Controlo'!$G$85,'04-Aux. Calculos'!J$7<='02. Controlo'!$P$85),HLOOKUP(J$7,'02. Controlo'!$G$85:$P$106,$B23+2),0) -> 1 | K45: =+IF(AND(K$7>='02. Controlo'!$G$85,'04-Aux. Calculos'!K$7<='02. Controlo'!$P$85),HLOOKUP(K$7,'02. Controlo'!$G$85:$P$106,$B23+2),0) -> 0 | ... AG45: =+IF(AND(AG$7>='02. Controlo'!$G$85,'04-Aux. Calculos'!AG$7<='02. Controlo'!$P$85),HLOOKUP(AG$7,'02. Controlo'!$G$85:$P$106,$B23+2),0) -> 0
B46: 2 | D46: =+IF(AND(D$7>='02. Controlo'!$G$85,'04-Aux. Calculos'!D$7<='02. Controlo'!$P$85),HLOOKUP(D$7,'02. Controlo'!$G$85:$P$106,$B24+2),0) -> 0 | E46: =+IF(AND(E$7>='02. Controlo'!$G$85,'04-Aux. Calculos'!E$7<='02. Controlo'!$P$85),HLOOKUP(E$7,'02. Controlo'!$G$85:$P$106,$B24+2),0) -> 0 | F46: =+IF(AND(F$7>='02. Controlo'!$G$85,'04-Aux. Calculos'!F$7<='02. Controlo'!$P$85),HLOOKUP(F$7,'02. Controlo'!$G$85:$P$106,$B24+2),0) -> 0 | G46: =+IF(AND(G$7>='02. Controlo'!$G$85,'04-Aux. Calculos'!G$7<='02. Controlo'!$P$85),HLOOKUP(G$7,'02. Controlo'!$G$85:$P$106,$B24+2),0) -> 0 | H46: =+IF(AND(H$7>='02. Controlo'!$G$85,'04-Aux. Calculos'!H$7<='02. Controlo'!$P$85),HLOOKUP(H$7,'02. Controlo'!$G$85:$P$106,$B24+2),0) -> 0 | I46: =+IF(AND(I$7>='02. Controlo'!$G$85,'04-Aux. Calculos'!I$7<='02. Controlo'!$P$85),HLOOKUP(I$7,'02. Controlo'!$G$85:$P$106,$B24+2),0) -> 0 | J46: =+IF(AND(J$7>='02. Controlo'!$G$85,'04-Aux. Calculos'!J$7<='02. Controlo'!$P$85),HLOOKUP(J$7,'02. Controlo'!$G$85:$P$106,$B24+2),0) -> 0 | K46: =+IF(AND(K$7>='02. Controlo'!$G$85,'04-Aux. Calculos'!K$7<='02. Controlo'!$P$85),HLOOKUP(K$7,'02. Controlo'!$G$85:$P$106,$B24+2),0) -> 1 | ... AG46: =+IF(AND(AG$7>='02. Controlo'!$G$85,'04-Aux. Calculos'!AG$7<='02. Controlo'!$P$85),HLOOKUP(AG$7,'02. Controlo'!$G$85:$P$106,$B24+2),0) -> 0
B47: 3 | D47: =+IF(AND(D$7>='02. Controlo'!$G$85,'04-Aux. Calculos'!D$7<='02. Controlo'!$P$85),HLOOKUP(D$7,'02. Controlo'!$G$85:$P$106,$B25+2),0) -> 0 | E47: =+IF(AND(E$7>='02. Controlo'!$G$85,'04-Aux. Calculos'!E$7<='02. Controlo'!$P$85),HLOOKUP(E$7,'02. Controlo'!$G$85:$P$106,$B25+2),0) -> 0 | F47: =+IF(AND(F$7>='02. Controlo'!$G$85,'04-Aux. Calculos'!F$7<='02. Controlo'!$P$85),HLOOKUP(F$7,'02. Controlo'!$G$85:$P$106,$B25+2),0) -> 0 | G47: =+IF(AND(G$7>='02. Controlo'!$G$85,'04-Aux. Calculos'!G$7<='02. Controlo'!$P$85),HLOOKUP(G$7,'02. Controlo'!$G$85:$P$106,$B25+2),0) -> 0 | H47: =+IF(AND(H$7>='02. Controlo'!$G$85,'04-Aux. Calculos'!H$7<='02. Controlo'!$P$85),HLOOKUP(H$7,'02. Controlo'!$G$85:$P$106,$B25+2),0) -> 0 | I47: =+IF(AND(I$7>='02. Controlo'!$G$85,'04-Aux. Calculos'!I$7<='02. Controlo'!$P$85),HLOOKUP(I$7,'02. Controlo'!$G$85:$P$106,$B25+2),0) -> 0 | J47: =+IF(AND(J$7>='02. Controlo'!$G$85,'04-Aux. Calculos'!J$7<='02. Controlo'!$P$85),HLOOKUP(J$7,'02. Controlo'!$G$85:$P$106,$B25+2),0) -> 0 | K47: =+IF(AND(K$7>='02. Controlo'!$G$85,'04-Aux. Calculos'!K$7<='02. Controlo'!$P$85),HLOOKUP(K$7,'02. Controlo'!$G$85:$P$106,$B25+2),0) -> 1 | ... AG47: =+IF(AND(AG$7>='02. Controlo'!$G$85,'04-Aux. Calculos'!AG$7<='02. Controlo'!$P$85),HLOOKUP(AG$7,'02. Controlo'!$G$85:$P$106,$B25+2),0) -> 0
B48: 4 | D48: =+IF(AND(D$7>='02. Controlo'!$G$85,'04-Aux. Calculos'!D$7<='02. Controlo'!$P$85),HLOOKUP(D$7,'02. Controlo'!$G$85:$P$106,$B26+2),0) -> 0 | E48: =+IF(AND(E$7>='02. Controlo'!$G$85,'04-Aux. Calculos'!E$7<='02. Controlo'!$P$85),HLOOKUP(E$7,'02. Controlo'!$G$85:$P$106,$B26+2),0) -> 0 | F48: =+IF(AND(F$7>='02. Controlo'!$G$85,'04-Aux. Calculos'!F$7<='02. Controlo'!$P$85),HLOOKUP(F$7,'02. Controlo'!$G$85:$P$106,$B26+2),0) -> 0 | G48: =+IF(AND(G$7>='02. Controlo'!$G$85,'04-Aux. Calculos'!G$7<='02. Controlo'!$P$85),HLOOKUP(G$7,'02. Controlo'!$G$85:$P$106,$B26+2),0) -> 0 | H48: =+IF(AND(H$7>='02. Controlo'!$G$85,'04-Aux. Calculos'!H$7<='02. Controlo'!$P$85),HLOOKUP(H$7,'02. Controlo'!$G$85:$P$106,$B26+2),0) -> 0 | I48: =+IF(AND(I$7>='02. Controlo'!$G$85,'04-Aux. Calculos'!I$7<='02. Controlo'!$P$85),HLOOKUP(I$7,'02. Controlo'!$G$85:$P$106,$B26+2),0) -> 0 | J48: =+IF(AND(J$7>='02. Controlo'!$G$85,'04-Aux. Calculos'!J$7<='02. Controlo'!$P$85),HLOOKUP(J$7,'02. Controlo'!$G$85:$P$106,$B26+2),0) -> 1 | K48: =+IF(AND(K$7>='02. Controlo'!$G$85,'04-Aux. Calculos'!K$7<='02. Controlo'!$P$85),HLOOKUP(K$7,'02. Controlo'!$G$85:$P$106,$B26+2),0) -> 0 | ... AG48: =+IF(AND(AG$7>='02. Controlo'!$G$85,'04-Aux. Calculos'!AG$7<='02. Controlo'!$P$85),HLOOKUP(AG$7,'02. Controlo'!$G$85:$P$106,$B26+2),0) -> 0
B49: 5 | D49: =+IF(AND(D$7>='02. Controlo'!$G$85,'04-Aux. Calculos'!D$7<='02. Controlo'!$P$85),HLOOKUP(D$7,'02. Controlo'!$G$85:$P$106,$B27+2),0) -> 0 | E49: =+IF(AND(E$7>='02. Controlo'!$G$85,'04-Aux. Calculos'!E$7<='02. Controlo'!$P$85),HLOOKUP(E$7,'02. Controlo'!$G$85:$P$106,$B27+2),0) -> 0 | F49: =+IF(AND(F$7>='02. Controlo'!$G$85,'04-Aux. Calculos'!F$7<='02. Controlo'!$P$85),HLOOKUP(F$7,'02. Controlo'!$G$85:$P$106,$B27+2),0) -> 0 | G49: =+IF(AND(G$7>='02. Controlo'!$G$85,'04-Aux. Calculos'!G$7<='02. Controlo'!$P$85),HLOOKUP(G$7,'02. Controlo'!$G$85:$P$106,$B27+2),0) -> 0 | H49: =+IF(AND(H$7>='02. Controlo'!$G$85,'04-Aux. Calculos'!H$7<='02. Controlo'!$P$85),HLOOKUP(H$7,'02. Controlo'!$G$85:$P$106,$B27+2),0) -> 0 | I49: =+IF(AND(I$7>='02. Controlo'!$G$85,'04-Aux. Calculos'!I$7<='02. Controlo'!$P$85),HLOOKUP(I$7,'02. Controlo'!$G$85:$P$106,$B27+2),0) -> 0 | J49: =+IF(AND(J$7>='02. Controlo'!$G$85,'04-Aux. Calculos'!J$7<='02. Controlo'!$P$85),HLOOKUP(J$7,'02. Controlo'!$G$85:$P$106,$B27+2),0) -> 0 | K49: =+IF(AND(K$7>='02. Controlo'!$G$85,'04-Aux. Calculos'!K$7<='02. Controlo'!$P$85),HLOOKUP(K$7,'02. Controlo'!$G$85:$P$106,$B27+2),0) -> 0 | ... AG49: =+IF(AND(AG$7>='02. Controlo'!$G$85,'04-Aux. Calculos'!AG$7<='02. Controlo'!$P$85),HLOOKUP(AG$7,'02. Controlo'!$G$85:$P$106,$B27+2),0) -> 0
B50: 6 | D50: =+IF(AND(D$7>='02. Controlo'!$G$85,'04-Aux. Calculos'!D$7<='02. Controlo'!$P$85),HLOOKUP(D$7,'02. Controlo'!$G$85:$P$106,$B28+2),0) -> 0 | E50: =+IF(AND(E$7>='02. Controlo'!$G$85,'04-Aux. Calculos'!E$7<='02. Controlo'!$P$85),HLOOKUP(E$7,'02. Controlo'!$G$85:$P$106,$B28+2),0) -> 0 | F50: =+IF(AND(F$7>='02. Controlo'!$G$85,'04-Aux. Calculos'!F$7<='02. Controlo'!$P$85),HLOOKUP(F$7,'02. Controlo'!$G$85:$P$106,$B28+2),0) -> 0 | G50: =+IF(AND(G$7>='02. Controlo'!$G$85,'04-Aux. Calculos'!G$7<='02. Controlo'!$P$85),HLOOKUP(G$7,'02. Controlo'!$G$85:$P$106,$B28+2),0) -> 0 | H50: =+IF(AND(H$7>='02. Controlo'!$G$85,'04-Aux. Calculos'!H$7<='02. Controlo'!$P$85),HLOOKUP(H$7,'02. Controlo'!$G$85:$P$106,$B28+2),0) -> 0 | I50: =+IF(AND(I$7>='02. Controlo'!$G$85,'04-Aux. Calculos'!I$7<='02. Controlo'!$P$85),HLOOKUP(I$7,'02. Controlo'!$G$85:$P$106,$B28+2),0) -> 0 | J50: =+IF(AND(J$7>='02. Controlo'!$G$85,'04-Aux. Calculos'!J$7<='02. Controlo'!$P$85),HLOOKUP(J$7,'02. Controlo'!$G$85:$P$106,$B28+2),0) -> 0 | K50: =+IF(AND(K$7>='02. Controlo'!$G$85,'04-Aux. Calculos'!K$7<='02. Controlo'!$P$85),HLOOKUP(K$7,'02. Controlo'!$G$85:$P$106,$B28+2),0) -> 0 | ... AG50: =+IF(AND(AG$7>='02. Controlo'!$G$85,'04-Aux. Calculos'!AG$7<='02. Controlo'!$P$85),HLOOKUP(AG$7,'02. Controlo'!$G$85:$P$106,$B28+2),0) -> 0
B51: 7 | D51: =+IF(AND(D$7>='02. Controlo'!$G$85,'04-Aux. Calculos'!D$7<='02. Controlo'!$P$85),HLOOKUP(D$7,'02. Controlo'!$G$85:$P$106,$B29+2),0) -> 0 | E51: =+IF(AND(E$7>='02. Controlo'!$G$85,'04-Aux. Calculos'!E$7<='02. Controlo'!$P$85),HLOOKUP(E$7,'02. Controlo'!$G$85:$P$106,$B29+2),0) -> 0 | F51: =+IF(AND(F$7>='02. Controlo'!$G$85,'04-Aux. Calculos'!F$7<='02. Controlo'!$P$85),HLOOKUP(F$7,'02. Controlo'!$G$85:$P$106,$B29+2),0) -> 0 | G51: =+IF(AND(G$7>='02. Controlo'!$G$85,'04-Aux. Calculos'!G$7<='02. Controlo'!$P$85),HLOOKUP(G$7,'02. Controlo'!$G$85:$P$106,$B29+2),0) -> 0 | H51: =+IF(AND(H$7>='02. Controlo'!$G$85,'04-Aux. Calculos'!H$7<='02. Controlo'!$P$85),HLOOKUP(H$7,'02. Controlo'!$G$85:$P$106,$B29+2),0) -> 0 | I51: =+IF(AND(I$7>='02. Controlo'!$G$85,'04-Aux. Calculos'!I$7<='02. Controlo'!$P$85),HLOOKUP(I$7,'02. Controlo'!$G$85:$P$106,$B29+2),0) -> 0 | J51: =+IF(AND(J$7>='02. Controlo'!$G$85,'04-Aux. Calculos'!J$7<='02. Controlo'!$P$85),HLOOKUP(J$7,'02. Controlo'!$G$85:$P$106,$B29+2),0) -> 0 | K51: =+IF(AND(K$7>='02. Controlo'!$G$85,'04-Aux. Calculos'!K$7<='02. Controlo'!$P$85),HLOOKUP(K$7,'02. Controlo'!$G$85:$P$106,$B29+2),0) -> 1 | ... AG51: =+IF(AND(AG$7>='02. Controlo'!$G$85,'04-Aux. Calculos'!AG$7<='02. Controlo'!$P$85),HLOOKUP(AG$7,'02. Controlo'!$G$85:$P$106,$B29+2),0) -> 0
B52: 8 | D52: =+IF(AND(D$7>='02. Controlo'!$G$85,'04-Aux. Calculos'!D$7<='02. Controlo'!$P$85),HLOOKUP(D$7,'02. Controlo'!$G$85:$P$106,$B30+2),0) -> 0 | E52: =+IF(AND(E$7>='02. Controlo'!$G$85,'04-Aux. Calculos'!E$7<='02. Controlo'!$P$85),HLOOKUP(E$7,'02. Controlo'!$G$85:$P$106,$B30+2),0) -> 0 | F52: =+IF(AND(F$7>='02. Controlo'!$G$85,'04-Aux. Calculos'!F$7<='02. Controlo'!$P$85),HLOOKUP(F$7,'02. Controlo'!$G$85:$P$106,$B30+2),0) -> 0 | G52: =+IF(AND(G$7>='02. Controlo'!$G$85,'04-Aux. Calculos'!G$7<='02. Controlo'!$P$85),HLOOKUP(G$7,'02. Controlo'!$G$85:$P$106,$B30+2),0) -> 0 | H52: =+IF(AND(H$7>='02. Controlo'!$G$85,'04-Aux. Calculos'!H$7<='02. Controlo'!$P$85),HLOOKUP(H$7,'02. Controlo'!$G$85:$P$106,$B30+2),0) -> 0 | I52: =+IF(AND(I$7>='02. Controlo'!$G$85,'04-Aux. Calculos'!I$7<='02. Controlo'!$P$85),HLOOKUP(I$7,'02. Controlo'!$G$85:$P$106,$B30+2),0) -> 0 | J52: =+IF(AND(J$7>='02. Controlo'!$G$85,'04-Aux. Calculos'!J$7<='02. Controlo'!$P$85),HLOOKUP(J$7,'02. Controlo'!$G$85:$P$106,$B30+2),0) -> 1 | K52: =+IF(AND(K$7>='02. Controlo'!$G$85,'04-Aux. Calculos'!K$7<='02. Controlo'!$P$85),HLOOKUP(K$7,'02. Controlo'!$G$85:$P$106,$B30+2),0) -> 0 | ... AG52: =+IF(AND(AG$7>='02. Controlo'!$G$85,'04-Aux. Calculos'!AG$7<='02. Controlo'!$P$85),HLOOKUP(AG$7,'02. Controlo'!$G$85:$P$106,$B30+2),0) -> 0
B53: 9 | D53: =+IF(AND(D$7>='02. Controlo'!$G$85,'04-Aux. Calculos'!D$7<='02. Controlo'!$P$85),HLOOKUP(D$7,'02. Controlo'!$G$85:$P$106,$B31+2),0) -> 0 | E53: =+IF(AND(E$7>='02. Controlo'!$G$85,'04-Aux. Calculos'!E$7<='02. Controlo'!$P$85),HLOOKUP(E$7,'02. Controlo'!$G$85:$P$106,$B31+2),0) -> 0 | F53: =+IF(AND(F$7>='02. Controlo'!$G$85,'04-Aux. Calculos'!F$7<='02. Controlo'!$P$85),HLOOKUP(F$7,'02. Controlo'!$G$85:$P$106,$B31+2),0) -> 0 | G53: =+IF(AND(G$7>='02. Controlo'!$G$85,'04-Aux. Calculos'!G$7<='02. Controlo'!$P$85),HLOOKUP(G$7,'02. Controlo'!$G$85:$P$106,$B31+2),0) -> 0 | H53: =+IF(AND(H$7>='02. Controlo'!$G$85,'04-Aux. Calculos'!H$7<='02. Controlo'!$P$85),HLOOKUP(H$7,'02. Controlo'!$G$85:$P$106,$B31+2),0) -> 0 | I53: =+IF(AND(I$7>='02. Controlo'!$G$85,'04-Aux. Calculos'!I$7<='02. Controlo'!$P$85),HLOOKUP(I$7,'02. Controlo'!$G$85:$P$106,$B31+2),0) -> 0 | J53: =+IF(AND(J$7>='02. Controlo'!$G$85,'04-Aux. Calculos'!J$7<='02. Controlo'!$P$85),HLOOKUP(J$7,'02. Controlo'!$G$85:$P$106,$B31+2),0) -> 0 | K53: =+IF(AND(K$7>='02. Controlo'!$G$85,'04-Aux. Calculos'!K$7<='02. Controlo'!$P$85),HLOOKUP(K$7,'02. Controlo'!$G$85:$P$106,$B31+2),0) -> 1 | ... AG53: =+IF(AND(AG$7>='02. Controlo'!$G$85,'04-Aux. Calculos'!AG$7<='02. Controlo'!$P$85),HLOOKUP(AG$7,'02. Controlo'!$G$85:$P$106,$B31+2),0) -> 0
B54: 10 | D54: =+IF(AND(D$7>='02. Controlo'!$G$85,'04-Aux. Calculos'!D$7<='02. Controlo'!$P$85),HLOOKUP(D$7,'02. Controlo'!$G$85:$P$106,$B32+2),0) -> 0 | E54: =+IF(AND(E$7>='02. Controlo'!$G$85,'04-Aux. Calculos'!E$7<='02. Controlo'!$P$85),HLOOKUP(E$7,'02. Controlo'!$G$85:$P$106,$B32+2),0) -> 0 | F54: =+IF(AND(F$7>='02. Controlo'!$G$85,'04-Aux. Calculos'!F$7<='02. Controlo'!$P$85),HLOOKUP(F$7,'02. Controlo'!$G$85:$P$106,$B32+2),0) -> 0 | G54: =+IF(AND(G$7>='02. Controlo'!$G$85,'04-Aux. Calculos'!G$7<='02. Controlo'!$P$85),HLOOKUP(G$7,'02. Controlo'!$G$85:$P$106,$B32+2),0) -> 0 | H54: =+IF(AND(H$7>='02. Controlo'!$G$85,'04-Aux. Calculos'!H$7<='02. Controlo'!$P$85),HLOOKUP(H$7,'02. Controlo'!$G$85:$P$106,$B32+2),0) -> 0 | I54: =+IF(AND(I$7>='02. Controlo'!$G$85,'04-Aux. Calculos'!I$7<='02. Controlo'!$P$85),HLOOKUP(I$7,'02. Controlo'!$G$85:$P$106,$B32+2),0) -> 0 | J54: =+IF(AND(J$7>='02. Controlo'!$G$85,'04-Aux. Calculos'!J$7<='02. Controlo'!$P$85),HLOOKUP(J$7,'02. Controlo'!$G$85:$P$106,$B32+2),0) -> 0 | K54: =+IF(AND(K$7>='02. Controlo'!$G$85,'04-Aux. Calculos'!K$7<='02. Controlo'!$P$85),HLOOKUP(K$7,'02. Controlo'!$G$85:$P$106,$B32+2),0) -> 0 | ... AG54: =+IF(AND(AG$7>='02. Controlo'!$G$85,'04-Aux. Calculos'!AG$7<='02. Controlo'!$P$85),HLOOKUP(AG$7,'02. Controlo'!$G$85:$P$106,$B32+2),0) -> 0
B55: 11 | D55: =+IF(AND(D$7>='02. Controlo'!$G$85,'04-Aux. Calculos'!D$7<='02. Controlo'!$P$85),HLOOKUP(D$7,'02. Controlo'!$G$85:$P$106,$B33+2),0) -> 0 | E55: =+IF(AND(E$7>='02. Controlo'!$G$85,'04-Aux. Calculos'!E$7<='02. Controlo'!$P$85),HLOOKUP(E$7,'02. Controlo'!$G$85:$P$106,$B33+2),0) -> 0 | F55: =+IF(AND(F$7>='02. Controlo'!$G$85,'04-Aux. Calculos'!F$7<='02. Controlo'!$P$85),HLOOKUP(F$7,'02. Controlo'!$G$85:$P$106,$B33+2),0) -> 0 | G55: =+IF(AND(G$7>='02. Controlo'!$G$85,'04-Aux. Calculos'!G$7<='02. Controlo'!$P$85),HLOOKUP(G$7,'02. Controlo'!$G$85:$P$106,$B33+2),0) -> 0 | H55: =+IF(AND(H$7>='02. Controlo'!$G$85,'04-Aux. Calculos'!H$7<='02. Controlo'!$P$85),HLOOKUP(H$7,'02. Controlo'!$G$85:$P$106,$B33+2),0) -> 0 | I55: =+IF(AND(I$7>='02. Controlo'!$G$85,'04-Aux. Calculos'!I$7<='02. Controlo'!$P$85),HLOOKUP(I$7,'02. Controlo'!$G$85:$P$106,$B33+2),0) -> 0 | J55: =+IF(AND(J$7>='02. Controlo'!$G$85,'04-Aux. Calculos'!J$7<='02. Controlo'!$P$85),HLOOKUP(J$7,'02. Controlo'!$G$85:$P$106,$B33+2),0) -> 0 | K55: =+IF(AND(K$7>='02. Controlo'!$G$85,'04-Aux. Calculos'!K$7<='02. Controlo'!$P$85),HLOOKUP(K$7,'02. Controlo'!$G$85:$P$106,$B33+2),0) -> 0 | ... AG55: =+IF(AND(AG$7>='02. Controlo'!$G$85,'04-Aux. Calculos'!AG$7<='02. Controlo'!$P$85),HLOOKUP(AG$7,'02. Controlo'!$G$85:$P$106,$B33+2),0) -> 0
B56: 12 | D56: =+IF(AND(D$7>='02. Controlo'!$G$85,'04-Aux. Calculos'!D$7<='02. Controlo'!$P$85),HLOOKUP(D$7,'02. Controlo'!$G$85:$P$106,$B34+2),0) -> 0 | E56: =+IF(AND(E$7>='02. Controlo'!$G$85,'04-Aux. Calculos'!E$7<='02. Controlo'!$P$85),HLOOKUP(E$7,'02. Controlo'!$G$85:$P$106,$B34+2),0) -> 0 | F56: =+IF(AND(F$7>='02. Controlo'!$G$85,'04-Aux. Calculos'!F$7<='02. Controlo'!$P$85),HLOOKUP(F$7,'02. Controlo'!$G$85:$P$106,$B34+2),0) -> 0 | G56: =+IF(AND(G$7>='02. Controlo'!$G$85,'04-Aux. Calculos'!G$7<='02. Controlo'!$P$85),HLOOKUP(G$7,'02. Controlo'!$G$85:$P$106,$B34+2),0) -> 0 | H56: =+IF(AND(H$7>='02. Controlo'!$G$85,'04-Aux. Calculos'!H$7<='02. Controlo'!$P$85),HLOOKUP(H$7,'02. Controlo'!$G$85:$P$106,$B34+2),0) -> 0 | I56: =+IF(AND(I$7>='02. Controlo'!$G$85,'04-Aux. Calculos'!I$7<='02. Controlo'!$P$85),HLOOKUP(I$7,'02. Controlo'!$G$85:$P$106,$B34+2),0) -> 0 | J56: =+IF(AND(J$7>='02. Controlo'!$G$85,'04-Aux. Calculos'!J$7<='02. Controlo'!$P$85),HLOOKUP(J$7,'02. Controlo'!$G$85:$P$106,$B34+2),0) -> 0 | K56: =+IF(AND(K$7>='02. Controlo'!$G$85,'04-Aux. Calculos'!K$7<='02. Controlo'!$P$85),HLOOKUP(K$7,'02. Controlo'!$G$85:$P$106,$B34+2),0) -> 1 | ... AG56: =+IF(AND(AG$7>='02. Controlo'!$G$85,'04-Aux. Calculos'!AG$7<='02. Controlo'!$P$85),HLOOKUP(AG$7,'02. Controlo'!$G$85:$P$106,$B34+2),0) -> 0
...
